BEGIN:VCALENDAR
VERSION:2.0
PRODID:-//wp-events-plugin.com//7.2.3.1//EN
TZID:Europe/Rome
X-WR-TIMEZONE:Europe/Rome
BEGIN:VEVENT
UID:38357@lazioeventi.com
DTSTART;TZID=Europe/Rome:20240127T170000
DTEND;TZID=Europe/Rome:20240127T183000
DTSTAMP:20240125T064953Z
URL:https://lazioeventi.com/eventi/pianista-filip-michalak
SUMMARY:Pianista Filip Michalak - Viterbo - 27 Gennaio 24 17:00
DESCRIPTION:XIX Stagione concertistica\n\nPIANISTA FILIP MICHALAK\n\nMusich
 e di Johann Sebastian Bach\, Ferruccio Busoni\, Wolfgang Amadeus Mozart\, 
 Franz Schubert\, Fryderyk Chopin\, Franz Liszt\, Robert Schumann\, Pëtr I
 l`ič Čajkovskij\, Michail Vasil`evič Pletnëv\, Sergej Rachmaninov\, Vy
 acheslav Gryaznov\, Edvard Grieg\, Johannes Brahms\, Astor Piazzolla\n\nIl
  concerto è organizzato in collaborazione con The Keyboard Charitable Tru
 st di Londra che ogni anno sponsorizza giovani pianisti di tutte le nazion
 alità che si distinguano per particolare talento\, consentendo di tenere 
 concerti nelle sale più prestigiose di tutto il mondo. Quest'anno ha prop
 osto per la Stagione concertistica dell'Università della Tuscia\, con la 
 quale collabora da molti anni\, il pianista danese/polacco Filip Michalak.
 \nVincitore di numerosi\, prestigiosi concorsi internazionali Filip Michal
 ak si è esibito in tutta Europa in paesi come Polonia\, Germania\, Inghil
 terra\, Francia\, Italia e in tutti i paesi scandinavi e ha impegni futuri
  in altri paesi europei\, oltre a Cina e Stati Uniti.\nIl programma propos
 to\, molto articolato\, interessante e godibile è dedicato a grandi compo
 sitori di vari paesi del Sette/Otto e Novecento. 
ATTACH;FMTTYPE=image/jpeg:https://lazioeventi.com/wp-content/uploads/2024/
 01/stagione-concerti-tuscia.jpg
CATEGORIES:Musica, Spettacoli e Danza nel Lazio
LOCATION:Viterbo\, Comune\, Viterbo\, Viterbo\, Lazio\, Italia
GEO:42.417;12.1051
X-APPLE-STRUCTURED-LOCATION;VALUE=URI;X-ADDRESS=Comune\, Viterbo\, Viterbo\
 , Lazio\, Italia;X-APPLE-RADIUS=100;X-TITLE=Viterbo:geo:42.417,12.1051
END:VEVENT
BEGIN:VTIMEZONE
TZID:Europe/Rome
X-LIC-LOCATION:Europe/Rome
BEGIN:STANDARD
DTSTART:20231029T020000
TZOFFSETFROM:+0200
TZOFFSETTO:+0100
TZNAME:CET
END:STANDARD
END:VTIMEZONE
END:VCALENDAR