BEGIN:VCALENDAR
VERSION:2.0
PRODID:-//wp-events-plugin.com//7.2.3.1//EN
TZID:Europe/Rome
X-WR-TIMEZONE:Europe/Rome
BEGIN:VEVENT
UID:42258@lazioeventi.com
DTSTART;TZID=Europe/Rome:20250820T213000
DTEND;TZID=Europe/Rome:20250820T233000
DTSTAMP:20250812T122915Z
URL:https://lazioeventi.com/eventi/piccole-serenate-notturne-2
SUMMARY:Piccole serenate notturne - Vallerano - 20 Agosto 25 21:30
DESCRIPTION:PICCOLE SERENATE NOTTURNE: 25 anni di musica\, memoria e magia 
 nella Tuscia che canta\n\nIngresso libero\n\nNel cuore della Tuscia Viterb
 ese torna anche quest’anno l’attesissimo appuntamento con Piccole Sere
 nate Notturne\, la rassegna musicale organizzata dall’Assessorato alla C
 ultura del Comune di Vallerano\, giunta alla sua venticinquesima edizione.
  Un traguardo importante che celebra un quarto di secolo di musica\, incon
 tro e valorizzazione culturale. Come da tradizione\, i concerti si svolger
 anno in Piazza dell’Oratorio\, alle ore 21:30\, con ingresso gratuito\, 
 in un contesto intimo e suggestivo che da sempre contraddistingue l’anim
 a della manifestazione.\n\nSi comincia il 20 agosto con il trio tarantino 
 Yaràkä e il loro nuovo progetto Curannera\, ispirato alla figura arcaica
  della guaritrice popolare del Sud Italia. La loro musica è un ponte sono
 ro tra passato e presente\, tra sacro e profano\, e si nutre di canti ritu
 ali\, ritmo mediterraneo e profondità spirituale. Attraverso otto brani 
 – tra composizioni originali e rivisitazioni della tradizione – gli Ya
 ràkä ci conducono in un viaggio musicale radicato nella terra e nello sp
 irito\, che parte dalla città vecchia di Taranto e abbraccia le radici co
 ntadine del Sud. Una performance che non è solo concerto\, ma rito collet
 tivo\, atto d’amore per le tradizioni\, e invito alla cura di sé e dell
 ’altro.\n\nIl 26 agosto sarà la volta di Ensemble 400\, gruppo speciali
 zzato nell’esecuzione del repertorio medievale e rinascimentale. Nato da
 ll’esperienza del corso di Polifonia Rinascimentale di Diego Fratelli\, 
 l’ensemble propone un’immersione profonda nella musica tra il XIII e i
 l XVI secolo\, con l’utilizzo di strumenti originali d’epoca e partitu
 re tratte da fonti storiche autentiche. Una proposta raffinata\, rigorosa 
 e coinvolgente\, che riporta in vita l’anima sonora di un tempo lontano\
 , restituendola con sensibilità al pubblico di oggi.\n\nIl 28 agosto tocc
 herà invece agli Sparatrapp\, formazione partenopea dal linguaggio spiazz
 ante e poetico che unisce musica di strada\, teatro-canzone e narrazione p
 opolare. Il loro concerto prende il nome dal disco d’esordio Musica Medi
 camentosa\, che racconta – tra ironia e profondità – le contraddizion
 i del vivere quotidiano: zingare\, operai\, ribelli\, saggezza popolare e 
 profumi di cucina diventano racconti in musica\, capaci di far sorridere\,
  pensare e commuovere. La lingua napoletana\, intensa e musicale\, è lo s
 trumento espressivo di una performance che è cura per l’anima\, in equi
 librio tra leggerezza e riflessione\, tra palco e piazza.\n\nA chiudere la
  rassegna\, sabato 30 agosto\, sarà come sempre la Notte delle Candele\, 
 evento simbolo di Vallerano che ogni anno trasforma il borgo in un paesagg
 io incantato illuminato da migliaia di luci. Ad accompagnare questa serata
  unica\, tra le varie performance in programma\, sarà l’Orchestralunata
  con lo spettacolo Una giostra al contrario\, un viaggio musicale poetico 
 e collettivo che intreccia musica popolare\, impegno civile e teatro di na
 rrazione. Dopo il successo televisivo nel programma Festivallo su Rai2 acc
 anto a Nino Frassica\, la band torna alla sua dimensione ideale: la musica
  tra la gente\, nelle piazze. Una proposta artistica viva\, in movimento\,
  capace di toccare corde profonde e restare impressa nel cuore del pubblic
 o.\n\nPiccole Serenate Notturne 2025 si conferma così un punto fermo dell
 ’estate culturale della Tuscia: un piccolo grande festival che\, anno do
 po anno\, continua a crescere e a parlare con linguaggi diversi ma con un
 ’unica grande voce.\n\nL’appuntamento è a Vallerano\, dal 20 al 30 ag
 osto. Ingresso libero.\n\nInfoline: +39 338 835 8540\n
ATTACH;FMTTYPE=image/jpeg:https://lazioeventi.com/wp-content/uploads/2023/
 08/LocandinaPSN2025.jpeg
LOCATION:Vallerano\, Comune di Vallerano\, Vallerano\, Viterbo\, Lazio\, It
 alia
GEO:42.3837;12.2641
X-APPLE-STRUCTURED-LOCATION;VALUE=URI;X-ADDRESS=Comune di Vallerano\, Valle
 rano\, Viterbo\, Lazio\, Italia;X-APPLE-RADIUS=100;X-TITLE=Vallerano:geo:4
 2.3837,12.2641
END:VEVENT
BEGIN:VTIMEZONE
TZID:Europe/Rome
X-LIC-LOCATION:Europe/Rome
BEGIN:DAYLIGHT
DTSTART:20250330T030000
TZOFFSETFROM:+0100
TZOFFSETTO:+0200
TZNAME:CEST
END:DAYLIGHT
END:VTIMEZONE
END:VCALENDAR