BEGIN:VCALENDAR
VERSION:2.0
PRODID:-//wp-events-plugin.com//7.2.3.1//EN
TZID:Europe/Rome
X-WR-TIMEZONE:Europe/Rome
BEGIN:VEVENT
UID:38225@lazioeventi.com
DTSTART;TZID=Europe/Rome:20240109T190000
DTEND;TZID=Europe/Rome:20240111T200000
DTSTAMP:20240104T153311Z
URL:https://lazioeventi.com/eventi/pietre-ornamentali-e-storie-di-pietra
SUMMARY:Pietre ornamentali e storie di pietra - Roma - 9 Gennaio 24 19:00
DESCRIPTION:Conferenze in lingua italiano e francese\nUn'iniziativa organiz
 zata nell’ambito della mostra Storie di pietra  \n\nIn collaborazione co
 n: L’École des Arts Joailliers\nCon il sostegno di: Van Cleef & Arpels\
 n\nAccesso libero\n\nÈ consigliata la prenotazione al link: https://www.t
 icketlandia.com/m/event/conf-pierres-fr\n\nNell’ambito della mostra Stor
 ie di pietra organizzata dall’Accademia di Francia a Roma – Villa Medi
 ci\, a cura di Sam Stourdzé e Jean de Loisy\, L’École des Arts Joailli
 ers propone una serie di conferenze dedicate alle gemme ornamentali e all
 ’opera di Roger Caillois (1913-1978)\, accademico francese\, saggista e 
 appassionato collezionista di minerali\, autore dei testi Pierres\, La lec
 ture des pierres e Agates paradoxales. \n\nLe conferenze saranno condotte 
 da Jean de Loisy\, curatore della mostra Storie di pietra\, Marie-Laure Ca
 ssius-Duranton\, gemmologa\, storica dell’arte e docente-ricercatrice al
 l’École des Arts Joailliers\, e Paul Paradis\, docente all’École des
  Arts Joailliers. \n\nUn incontro con Pierre Adrian\, scrittore francese e
  borsista a Villa Medici\, si svolgerà l’11 gennaio 2024 in presenza di
  Marie-Laure Cassius-Duranton. Sarà dedicato al diario di Pierre Adrian S
 aintes Pierres de Rome\, 20 flâneries depuis la Villa Médicis (2023\, Vi
 lla Medici e Éditions Jonglez).\n\nIL PROGRAMMA\n\nMartedì 9 gennaio\n19
 :00-20:00\nIn italiano\nConferenza\nDella nobiltà delle pietre ornamental
 i \nCon Marie-Laure Cassius-Duranton e Paul Paradis\n\nMercoledì 10 genna
 io\n19:00-20:00\nIn francese\, con una traduzione in italiano\nConferenza\
 nRoger Caillois e le pietre: misteri e immaginari\nCon Marie-Laure Cassius
 -Duranton e Jean de Loisy\n\nGiovedì 11 gennaio\n19:00-20:00\nIn francese
 \nSaintes Pierres de Rome: Incontro con Pierre Adrian\nConversazione con M
 arie-Laure Cassius-Duranton e Pierre Adrian\n\nInformazioni e dettagli al 
 sito\nhttps://www.villamedici.it/attualita/cycle-de-conferences-ecole-des-
 arts-joailliers/
ATTACH;FMTTYPE=image/jpeg:https://lazioeventi.com/wp-content/uploads/2024/
 01/2023-10-12_histoires-de-pierres_exhibition_daniele.jpeg
CATEGORIES:Arte e Cultura nel Lazio
LOCATION:Roma\, Via Leopardi\, Roma\, Roma\, Lazio\, Italia
GEO:41.8942;12.5017
X-APPLE-STRUCTURED-LOCATION;VALUE=URI;X-ADDRESS=Via Leopardi\, Roma\, Roma\
 , Lazio\, Italia;X-APPLE-RADIUS=100;X-TITLE=Roma:geo:41.8942,12.5017
END:VEVENT
BEGIN:VTIMEZONE
TZID:Europe/Rome
X-LIC-LOCATION:Europe/Rome
BEGIN:STANDARD
DTSTART:20231029T020000
TZOFFSETFROM:+0200
TZOFFSETTO:+0100
TZNAME:CET
END:STANDARD
END:VTIMEZONE
END:VCALENDAR