BEGIN:VCALENDAR
VERSION:2.0
PRODID:-//wp-events-plugin.com//7.2.3.1//EN
TZID:Europe/Rome
X-WR-TIMEZONE:Europe/Rome
BEGIN:VEVENT
UID:32242@lazioeventi.com
DTSTART;TZID=Europe/Rome:20220918T180000
DTEND;TZID=Europe/Rome:20220924T230000
DTSTAMP:20220908T071314Z
URL:https://lazioeventi.com/eventi/pigneto-film-festival
SUMMARY:Pigneto Film Festival - Roma - 18 Settembre 22 18:00
DESCRIPTION:Dopo il successo degli anni passati\, torna il Pigneto Film Fes
 tival. Si partirà domenica 18 settembre con la quinta edizione della kerm
 esse organizzata e prodotta da Preneste Pop. e Waldo event network.\n\nIl 
 Pigneto Film Festival è un festival dedicato sia alla cinematografia ital
 iana che internazionale e vedrà protagonisti cinque giovani filmmaker pro
 venienti da tutto il mondo: Heloise Wilson dalla Francia\, Joaquín Olaya 
 Mesa dalla Colombia\, Leo Černic\, Slovenia e\, mentre in Ucraina si vive
  ancora la guerra che contrappone i due paesi\, il Pigneto Film Festival o
 spiterà due giovani registe\, una dall’Ucraina\, Valery Stoianova e l
 ’altra dalla Russia\, Anastasia Shikina. I cinque filmmaker saranno impe
 gnati per sei giorni di riprese all’interno del quartiere Pigneto così 
 da raccontarlo in un’opera audiovisiva. I partecipanti\, infatti\, dovra
 nno realizzare un corto su un tema che sarà comunicato loro solo il giorn
 o prima delle riprese\, le opere saranno poi esaminate da una giuria tecni
 ca che assegnerà pubblicamente il premio al vincitore.\n\ntutti gli event
 i sono ad ingresso gratuito fino ad esaurimento posti\n\nIl calendario deg
 li eventi al Pigneto Film Festival\n\nDOMENICA 18 SETTEMBRE\nKick-Off Fest
 ival\n@ Largo Venue\nH 18:00\nPresentazione delle Crew e del Tema 2022\nFu
 ori festival\n@ Fortezza est\nH 19:00\nInvolucro Video Art e Performance B
 ody to Art project di Monica Argentino\n@ Cinema Aquila\nH 20:00\n#GreenZo
 ne\nMicroplastics Inside Make-up di Matteo Rovere (1') Italia\nFilm\nH 20:
 30 Piccolo Corpo di Laura Samani (89') Italia\n22:00 L'Arminuta di Giusepp
 e Bonito (110') Italia\n\nMARTEDI 20 SETTEMBRE\nIncontro d'autore\n@ Largo
  Venue\nH 18:00\n"Strana carne" di Roberta Torre\nAperitivo con Hotcorn\nl
 argo venue\nH 19:30\nManuela Santacatterina e Damiano Panattoni intervista
 no i protagonisti del cinema italiano\n@ Cinema Aquila\nH 20:00\n#GreenZon
 e\nEnough Violence Petition Delivery in Brazil (2'33'') di GreenPeace Bras
 ile\nDocumentario\nH 21:00 Be my voice di Nahid Persson (90') Svezia - in 
 collaborazione con Amnesty e Amleta\nLargo Venue\nFightCorn - Omaggio a Ug
 o Tognazzi\nH 21:00\nUn duello a colpi di cinema con Andrea Morandi\n\nMER
 COLEDI 21 SETTEMBRE\nIncontro d'autore\n@ Largo Venue\nH 18:00\nAnita Dada
  - Miss Stress\n🎙 Aperitivo con Hotcorn\nH 19:15\nManuela Santacatterin
 a e Damiano Panattoni intervistano i protagonisti del cinema italiano\n@ C
 inema Aquila\nH 20:00\n#GreenZone\nFishermen Affected By Plastic Pollution
  in DRC (2'27'') di Greenpaece\nDocumentario\n20.30 Anteprima Nazionale "O
 peration Moonbird" (22') di Dustin Lose - Germania\nCortometraggio\n21:00 
 What Has Left Since We Left di Giulio Squillacciotti (20') - Italia/Olanda
 \nDocuFilm\n21:30 QUO VADIS\, AIDA? di Jasmila Zbanic (103') Bosnia - Vinc
 itore Premio Lux 2022\n\nGIOVEDI 22 SETTEMBRE\nStreet Art tour\nAlla scope
 rta del Pigneto in collaborazione con Murilab\nH 17:00\nIncontro d'autore\
 n@ Largo Venue\nH 18:00\n"Il Consolo" di Orsola Severini\nFUORI FESTIVAL\n
 Bottiglieria Pigneto\nH 18:00\nJAMESON presenta "La Guida al Quartiere" co
 n aperitivo\, cena e djset\nAperitivo con Hotcorn\nlargo venue\nH 19:15\nM
 anuela Santacatterina e Damiano Panattoni intervistano i protagonisti del 
 cinema italiano\n@ Cinema Avorio\nH 20:30\n#GreenZone\nFarewell MY Esperan
 za Greenpeace 2\,34\nCortometraggi\nZabut" di Giuseppe Schillaci (18')\nAn
 teprima Nazionale "Pellicole d'Avorio" degli Studenti Accademia AANT (15')
 \nAnteprima Nazionale "Cinema Aurora" di Vincenzo De Caro (12')\nAnteprima
  Romana "2020" di Heléna Antonio 3\,47 - Inghilterra\nAnteprima Nazionale
 \nIl Sorriso di Cassandra di Giovanni Greco (30') - Italia\n\nVENERDÌ 23 
 SETTEMBRE\nStreet Art tour\nAlla scoperta del Pigneto in collaborazione co
 n Murilab\nH 17:00\nIncontro d'autore\n@ Largo Venue\nH 18:00\nFederica Tu
 zi -Non ci lasceremo mai\n@ Cinema Avorio\nH 20:30\n#GreenZone\nIPCC Repor
 t Explainer - Gustav Skarsgård GreenPeace (5'31'')\nTHE WINNER IS\nPartir
  un jour (24') di Amélie Bonnin Clermot - Ferrant Film Festival\nThe Crim
 inals (24') di Serhat Karaaslan - Passaggi d'autore\nLet There Be Colour (
 16') di Ado Hasanovic - Lovers Film Festival\nLa Banyera (19') di Sergi Ma
 rtin - Visione Corte Film Festival\nWhere the leaves fall (16') di Xin Ale
 ssandro Zhen - Umbria Film Festival\nPaper God di Daniyal Mahmoudnia - Vis
 ioni verticali\nDorothy Non Deve Morire (22') di Andrea Simonetti - Asti F
 ilm Festival\nSusurros del hormigon (16 min)\ndi Matias Rojas Lago film Fe
 stival\n\nSABATO 24 SETTEMBRE\nCORTI PISCHELLI in collaborazione con Anima
 phix\n@ Largo Venue\nH 12:00\nThe 7 Kids (5'20'') di Marina Karpova - Russ
 ia\nHansel e Gretel (5'40'') di Shaun Clark -\nUK\nSprite Fright (10'39'')
  di Blender Animation Studios\nFetch di Sam Gill 18' Nuova Zelandia\nfoots
 teps on the wind 8' di Maya Malesia\nTHE WINNER IS\n@ Cinema Avorio\nH 18:
 00\nAmygdala 22' di Maria Hatzakou\, Grecia\nSicilia Queer FilmFest\nDoha 
 14'Farzad Samsami Norveggia-marocco\nFestival del Cinema Africano\nNotte r
 omana 12' di Valerio Ferrara\nAdriatic Film Festival\nCAFka 6'14 Team Poi 
 ci pensiamo\n48h film festival\nLIKE THE ONES I USED TO KNOW 18' di Annie 
 St-Pierre Canada La Guarimba\nCorto Vincitore de "La 48H" del MAC fest\nCi
 nema Avorio\nOre 21:15\nPremiere #PFF5 - Pigneto Film Festival 2022\nPremi
 azione dei Cortometraggi in Concorso\nFUORI FESTIVAL\n18-24 SETTEMBRE\nNer
 o Gallery\nRolling di Stella Tasca (inaugurazione domenica 18 settembre or
 e 19.30)\n\n18-24 SETTEMBRE\nLargo Venue\nSOMETHING TO SHOW\nmostra collet
 tiva di Valerio Cisaria \,Martina iserina \, benedetta testa and more )ina
 ugurazione domenica 18 settembre ore 18:00\n\n19-25 SETTEMBRE\nFINDING REA
 \nInaugurazione nuovo Murale in via braccio da Montone lunedi 19 settembre
  ore 18.00\nore 19:00 inaugurazione mostra fotografica di Matteo Casilli
ATTACH;FMTTYPE=image/jpeg:https://lazioeventi.com/wp-content/uploads/2022/
 09/pigneto-film-festival.jpg
CATEGORIES:Musica, Spettacoli e Danza nel Lazio
LOCATION:Roma\, Via Leopardi\, Roma\, Roma\, Lazio\, Italia
GEO:41.8942;12.5017
X-APPLE-STRUCTURED-LOCATION;VALUE=URI;X-ADDRESS=Via Leopardi\, Roma\, Roma\
 , Lazio\, Italia;X-APPLE-RADIUS=100;X-TITLE=Roma:geo:41.8942,12.5017
END:VEVENT
BEGIN:VTIMEZONE
TZID:Europe/Rome
X-LIC-LOCATION:Europe/Rome
BEGIN:DAYLIGHT
DTSTART:20220327T030000
TZOFFSETFROM:+0100
TZOFFSETTO:+0200
TZNAME:CEST
END:DAYLIGHT
END:VTIMEZONE
END:VCALENDAR