BEGIN:VCALENDAR
VERSION:2.0
PRODID:-//wp-events-plugin.com//7.2.3.1//EN
TZID:Europe/Rome
X-WR-TIMEZONE:Europe/Rome
BEGIN:VEVENT
UID:31279@lazioeventi.com
DTSTART;TZID=Europe/Rome;VALUE=DATE:20220617
DTEND;TZID=Europe/Rome;VALUE=DATE:20220620
DTSTAMP:20220613T125228Z
URL:https://lazioeventi.com/eventi/pillole-adrianee
SUMMARY:Pillole Adrianee - Roma - 17 Giugno 22 00:00
DESCRIPTION:In occasione delle Giornate Europee dell'Archeologia il Museo N
 azionale di Castel Sant'Angelo propone il programma di approfondimenti 'Pi
 llole adrianee' per condurre il pubblico alla scoperta della storia archeo
 logica del Monumento. Gli approfondimenti sono a cura di A. Gobbi\, M. Car
 dosa\, A. Coletta\, M. Valenti.\n\nProgramma:\n\nVenerdì 17 giugno\, ore 
 15.00-19.00 - Sala della Biblioteca\n15.00-15.30 ”Adriano e le zucche. T
 opografia e architettura adrianea al centro del potere” \n16.00-16.30 
 “Mogli\, amici\, amanti. Figure della corte e della famiglia di Adriano
 ” \n17.00-17.30 "Da Mausolo ad Adriano. L’evoluzione di un’architett
 ura funeraria” \n18.00-18.30 “Il mausoleo di Adriano: riscoperta\, dis
 truzione e valorizzazione” \n\nSabato 18 giugno ore 10.00-14.00 - Sala d
 ella Biblioteca\n10.30-11.00 ”Adriano e le zucche. Topografia e architet
 tura adrianea al centro del potere”\n11.30-12.00 “Da Mausolo ad Adrian
 o. L’evoluzione di un’architettura funeraria” \n12.30-13.00 “Il ma
 usoleo di Adriano: riscoperta\, distruzione e valorizzazione” \n\nDomeni
 ca 19 giugno ore 10.00-14.00 - Sala della Biblioteca\n10.30-11.00 ”Adria
 no e le zucche. Topografia e architettura adrianea al centro del potere”
  \n11.30-12.00 “Mogli\, amici\, amanti. Figure della corte e della famig
 lia di Adriano” \n12.30-13.00 “Il mausoleo di Adriano: riscoperta\, di
 struzione e valorizzazione”\n\nLe conferenze di approfondimento son incl
 use nel biglietto d'ingresso al Museo Nazionale di Castel Sant'Angelo. \n\
 nL'accesso è libero fino a esaurimento dei posti.
ATTACH;FMTTYPE=image/jpeg:https://lazioeventi.com/wp-content/uploads/2022/
 06/Pillole-Adrianee_programma.jpg
CATEGORIES:Arte e Cultura nel Lazio
LOCATION:Roma\, Via Leopardi\, Roma\, Roma\, Lazio\, Italia
GEO:41.8942;12.5017
X-APPLE-STRUCTURED-LOCATION;VALUE=URI;X-ADDRESS=Via Leopardi\, Roma\, Roma\
 , Lazio\, Italia;X-APPLE-RADIUS=100;X-TITLE=Roma:geo:41.8942,12.5017
END:VEVENT
BEGIN:VTIMEZONE
TZID:Europe/Rome
X-LIC-LOCATION:Europe/Rome
BEGIN:DAYLIGHT
DTSTART:20220327T030000
TZOFFSETFROM:+0100
TZOFFSETTO:+0200
TZNAME:CEST
END:DAYLIGHT
END:VTIMEZONE
END:VCALENDAR