BEGIN:VCALENDAR
VERSION:2.0
PRODID:-//wp-events-plugin.com//7.2.3.1//EN
TZID:Europe/Rome
X-WR-TIMEZONE:Europe/Rome
BEGIN:VEVENT
UID:27545@lazioeventi.com
DTSTART;TZID=Europe/Rome:20201017T170000
DTEND;TZID=Europe/Rome:20201018T183000
DTSTAMP:20201005T085631Z
URL:https://lazioeventi.com/eventi/piobon
SUMMARY:Piobon - Formia - 17 Ottobre 20 17:00
DESCRIPTION:Premiamo Restart! Non sembrava possibile\, invece la Compagnia
  Imprevisti e Probabilità tra settembre e ottobre torna a fare teatro c
 on 4 spettacoli. Ce n'è per tutti i gusti\, Vi aspettiamo. 18 e 19 settem
 bre "Alla ricerca della meraviglia (spet
ATTACH;FMTTYPE=image/jpeg:https://lazioeventi.com/wp-content/uploads/2020/
 09/piobon.jpg
CATEGORIES:Musica, Spettacoli e Danza nel Lazio
LOCATION:Formia\, Comune\, Formia\, Latina\, Lazio\, Italia
GEO:41.2559;13.6059
X-APPLE-STRUCTURED-LOCATION;VALUE=URI;X-ADDRESS=Comune\, Formia\, Latina\, 
 Lazio\, Italia;X-APPLE-RADIUS=100;X-TITLE=Formia:geo:41.2559,13.6059
END:VEVENT
BEGIN:VTIMEZONE
TZID:Europe/Rome
X-LIC-LOCATION:Europe/Rome
BEGIN:DAYLIGHT
DTSTART:20200329T030000
TZOFFSETFROM:+0100
TZOFFSETTO:+0200
TZNAME:CEST
END:DAYLIGHT
END:VTIMEZONE
END:VCALENDAR