BEGIN:VCALENDAR
VERSION:2.0
PRODID:-//wp-events-plugin.com//7.2.3.1//EN
TZID:Europe/Rome
X-WR-TIMEZONE:Europe/Rome
BEGIN:VEVENT
UID:27769@lazioeventi.com
DTSTART;TZID=Europe/Rome:20201007T180000
DTEND;TZID=Europe/Rome:20201007T200000
DTSTAMP:20200927T220627Z
URL:https://lazioeventi.com/eventi/piu-giusto-cattolici-e-nuove-questioni-
 sociali
SUMMARY:Più giusto - cattolici e nuove questioni sociali - Rignano Flamini
 o - 7 Ottobre 20 18:00
DESCRIPTION:Mercoledì 7 ottobre alle ore 18 presso l'Auditorium parrocchia
 le (Viale C.A. Dalla Chiesa\, 2) a Rignano Flaminio (Rm) si terrà la pres
 entazione del libro "Più giusto - cattolici e nuove questioni sociali" di
  Roberto Rossini\, presidente nazional
ATTACH;FMTTYPE=image/jpeg:https://lazioeventi.com/wp-content/uploads/2020/
 09/piuc-ca.jpg
CATEGORIES:Varie
LOCATION:Rignano Flaminio\, Comune\, Rignano Flaminio\, Roma\, Lazio\, Ital
 ia
GEO:42.2099;12.481
X-APPLE-STRUCTURED-LOCATION;VALUE=URI;X-ADDRESS=Comune\, Rignano Flaminio\,
  Roma\, Lazio\, Italia;X-APPLE-RADIUS=100;X-TITLE=Rignano Flaminio:geo:42.
 2099,12.481
END:VEVENT
BEGIN:VTIMEZONE
TZID:Europe/Rome
X-LIC-LOCATION:Europe/Rome
BEGIN:DAYLIGHT
DTSTART:20200329T030000
TZOFFSETFROM:+0100
TZOFFSETTO:+0200
TZNAME:CEST
END:DAYLIGHT
END:VTIMEZONE
END:VCALENDAR