BEGIN:VCALENDAR
VERSION:2.0
PRODID:-//wp-events-plugin.com//7.2.3.1//EN
TZID:Europe/Rome
X-WR-TIMEZONE:Europe/Rome
BEGIN:VEVENT
UID:43180@lazioeventi.com
DTSTART;TZID=Europe/Rome:20251129T180000
DTEND;TZID=Europe/Rome:20251129T210000
DTSTAMP:20251124T072357Z
URL:https://lazioeventi.com/eventi/poesie-da-indossare
SUMMARY:Poesie da indossare - Roma - 29 Novembre 25 18:00
DESCRIPTION:“Poesie da indossare”\n\nA cura di Mitra Bostani\n\nDal 29 
 novembre al 5 dicembre 2025\n\nVernissage: 29 novembre ore 18.00\n\nLuogo:
  SottoSopra Art Studio – Via Ardea 10\, Roma (San Giovanni)\n\nIngresso 
 libero\n\nDalla poesia al tessuto: la mia narrazione della storia dei bott
 oni e delle cuciture\n\nLa mostra\, ospitata presso SottoSopra Art Studio\
 , è realizzata per l’occasione in collaborazione con Hamid Zare.\n\nA c
 ura di Mitra Bostani\n\nFin dall’infanzia\, la letteratura e l’arte so
 no state parti inseparabili della vita di Mitra Bostani. Figlia di un appa
 ssionato di poesia e misticismo\, spesso immerso nei versi di Hafez e di a
 ltri grandi poeti persiani\, e di una madre stilista e sarta\, Bostani è 
 cresciuta in un universo in cui le parole si intrecciavano con i fili\, e 
 la poesia respirava accanto ai motivi e alle texture dei tessuti.\n\nIl su
 o percorso artistico si è evoluto dal mondo della pittura al design di mo
 da\, fino ad abbracciare progetti interdisciplinari che uniscono arte visi
 va\, tessile e letteratura.\n\nPer Bostani\, l’arte è sempre stata un p
 onte\, un luogo d’incontro tra culture\, linguaggi e discipline.\n\nIl p
 rogetto “The History of Buttons and Stitches”\n\nDopo il trasferimento
  in Germania\, Mitra Bostani ha dato vita a un laboratorio online per riun
 ire artisti iraniani sparsi in tutto il mondo. Da questa esperienza è nat
 o “The History of Buttons and Stitches”\, un progetto durato un anno e
  ispirato alla poesia di Johann Wolfgang von Goethe e alla sua raccolta Di
 vano Occidentale-Orientale — opera influenzata a sua volta dai versi di 
 Hafez\, il grande poeta persiano.\n\nIn questo dialogo poetico e culturale
  tra Oriente e Occidente\, designer di moda\, artisti tessili e creatori d
 i gioielli hanno collaborato per realizzare cappotti unici\, ognuno dei qu
 ali racconta una storia\, intrecciando identità\, memoria e arte.\n\nOgni
  capo è il frutto del lavoro di tre artisti: un designer\, un artista tes
 sile e un creatore di bottoni\, la cui ricerca spazia tra sensibilità scu
 ltorea e orafa.\n\nL’intero progetto è stato coordinato a distanza\, at
 traverso incontri virtuali e scambi creativi\, dimostrando come l’arte p
 ossa superare confini geografici e culturali per generare nuove forme di b
 ellezza condivisa.\n\nCollaborazioni e riconoscimenti\n\n“Poesia da indo
 ssare” rappresenta il terzo progetto interdisciplinare di Mitra Bostani 
 in Germania\, realizzato in collaborazione con la Weser Art Gallery e con 
 il prezioso supporto del suo direttore\, Helmuth Gaber\, il cui contributo
  è stato fondamentale per la visibilità e la crescita del progetto.\n\nL
 e artiste e gli artisti coinvolti:\nAli Karimi · Banafsheh Izadi · Bita 
 Fazli · Elham Kargar · Farnaz Taleblou · Fereshteh Montaseri · Golnaz 
 Jafari · Hoda Molana · Houra Sanchouli · Maedeh Mohammadian Amiri · Fa
 temeh (Mahtab) Bahrami Bakhtiari · Mana Moshtaghian · Mandana Rouzkhosh 
 · Maryam Azad · Marzieh (Mina) Zakerizadeh · Masoumeh Jahanbin Shalkouh
 i · Masood Vaziri · Mersedeh Heydari · Mina Sadat Rafati · Mitra Bosta
 ni · Moeinehossadat Hejazi · Mojdeh Mohammadi · Mozhgan Bostani · Mozh
 gan Navi · Najmeh Lameh Jouybari · Nazanin Farsian · Negar Fallahi · N
 iloofar Rastkhizsaroukolaei · Parand Chamanara · Parivash Riahi Moghadda
 m · Reihaneh Babaie · Reihane Ghazian · Rosetta Hosseinipour · Sedighe
 h Ghafourizadeh · Shiva Rezaee · Sima Seyedzadeh · Somaye Shojaei (Raya
 ) · Tahere Ebrahimi Basab\nInformazioni sulla mostra\n■ Date: 29 novemb
 re – 5 dicembre 2025\n\n■ Orari di apertura:\n\nMercoledì – Domenic
 a: 16.00 – 20.00 Domenica anche la mattina 10.30 – 13.30\n\nSabato: 18
 .00 – 21.00\n\n■ Luogo: SottoSopra Art Studio\nVia Ardea 10\, Roma (Sa
 n Giovanni)\n\n■ Email: sottosopraartstudio@hotmail.com\n\n■ Telefono:
  +39 351 757 2311\n\nIngresso libero
ATTACH;FMTTYPE=image/jpeg:https://lazioeventi.com/wp-content/uploads/2025/
 11/locandina-Poesie-da-indossare.jpeg
CATEGORIES:Arte e Cultura nel Lazio,Varie
LOCATION:Roma\, Via Leopardi\, Roma\, Roma\, Lazio\, Italia
GEO:41.8942;12.5017
X-APPLE-STRUCTURED-LOCATION;VALUE=URI;X-ADDRESS=Via Leopardi\, Roma\, Roma\
 , Lazio\, Italia;X-APPLE-RADIUS=100;X-TITLE=Roma:geo:41.8942,12.5017
END:VEVENT
BEGIN:VTIMEZONE
TZID:Europe/Rome
X-LIC-LOCATION:Europe/Rome
BEGIN:STANDARD
DTSTART:20251026T020000
TZOFFSETFROM:+0200
TZOFFSETTO:+0100
TZNAME:CET
END:STANDARD
END:VTIMEZONE
END:VCALENDAR