BEGIN:VCALENDAR
VERSION:2.0
PRODID:-//wp-events-plugin.com//7.2.3.1//EN
TZID:Europe/Rome
X-WR-TIMEZONE:Europe/Rome
BEGIN:VEVENT
UID:37953@lazioeventi.com
DTSTART;TZID=Europe/Rome:20231208T000000
DTEND;TZID=Europe/Rome:20231210T000000
DTSTAMP:20231125T072539Z
URL:https://lazioeventi.com/eventi/polenta-e-pizza-de-polenta
SUMMARY:Polenta e Pizza de’ Polenta - Valmontone - 8 Dicembre 23 00:00
DESCRIPTION:L’Associazione Culturale della Lumaca di Valmontone torna in 
 piazza con la Quarta Festa “Polenta e Pizza de’ Polenta”.\n\nVi aspe
 ttiamo in due fine settimana diversi:\n8\, 9\, 10 dicembre 2023\n15\, 16\,
  17 dicembre 2023.\nAl Parco Della Lumaca a Valmontone\, in Via Aldo Moro\
 , 4 - Loc. San Giovanni.\n\nTi aspettiamo per gustare insieme la polenta\,
  la pizza di polenta\, giocare a tombola\, a carte\, aspettare Babbo Natal
 e... facciamo festa
ATTACH;FMTTYPE=image/jpeg:https://lazioeventi.com/wp-content/uploads/2023/
 11/polenta-valmontone.jpg
CATEGORIES:Sagre, Gastronomia e Tradizioni nel Lazio
LOCATION:Valmontone\, Comune di Valmontone\, Valmontone\, Roma\, Lazio\, It
 alia
GEO:41.7771;12.9178
X-APPLE-STRUCTURED-LOCATION;VALUE=URI;X-ADDRESS=Comune di Valmontone\, Valm
 ontone\, Roma\, Lazio\, Italia;X-APPLE-RADIUS=100;X-TITLE=Valmontone:geo:4
 1.7771,12.9178
END:VEVENT
BEGIN:VTIMEZONE
TZID:Europe/Rome
X-LIC-LOCATION:Europe/Rome
BEGIN:STANDARD
DTSTART:20231029T020000
TZOFFSETFROM:+0200
TZOFFSETTO:+0100
TZNAME:CET
END:STANDARD
END:VTIMEZONE
END:VCALENDAR