BEGIN:VCALENDAR
VERSION:2.0
PRODID:-//wp-events-plugin.com//7.2.3.1//EN
TZID:Europe/Rome
X-WR-TIMEZONE:Europe/Rome
BEGIN:VEVENT
UID:43144@lazioeventi.com
DTSTART;TZID=Europe/Rome;VALUE=DATE:20251207
DTEND;TZID=Europe/Rome;VALUE=DATE:20251208
DTSTAMP:20251119T174909Z
URL:https://lazioeventi.com/eventi/polentata-con-babbo-natale
SUMMARY:Polentata con Babbo Natale - Fara in Sabina - 7 Dicembre 25 00:00
DESCRIPTION:Domenica 7 dicembre a Prime Case la II Edizione della festa.\nU
 n programma ricco: l'arrivo di Santa Claus con il Club 500\, stand gastron
 omici\, mercatini scolastici e lo spettacolo del fuoco.\n\nLa magia del Na
 tale incontra la tradizione culinaria sabina e la passione per i motori d'
 epoca. Domenica 7 dicembre 2025\, la frazione di Prime Case a Fara in Sabi
 na ospiterà la seconda edizione della "Polentata con Babbo Natale".\n\nL'
 evento\, organizzato dalla Parrocchia N.S. di Fatima in collaborazione con
  la Pro Loco di Fara in Sabina e con il patrocinio del 500 Club Italia (Co
 ordinamento di Rieti)\, promette una giornata di festa pensata per unire g
 randi e piccini tra gusto\, solidarietà e spettacolo.\n\nUN INGRESSO TRIO
 NFALE\nLa festa inizierà alle ore 10:00 con l'apertura dei Mercatini di N
 atale\, che vedranno protagonisti gli alunni della scuola primaria di Prim
 e Case e i ragazzi del centro socio-educativo "Sottosopra" con i loro manu
 fatti. Ma il momento più atteso è fissato per le ore 11:00\, quando Babb
 o Natale arriverà in piazza scortato da un corteo d'eccezione: le auto d'
 epoca del 500 Club Italia e del Club Tafani Racing di Torricella in Sabina
 . Ad accogliere il corteo ci saranno le note della Banda Musicale Arce Sab
 ina di Talocci.\n\nGASTRONOMIA E TRADIZIONE\nDalle ore 12:30 si apriranno 
 gli stand gastronomici. Il piatto forte sarà la polenta con spuntature e 
 salsicce\, regina della tavola invernale. Nel pomeriggio\, l'offerta culin
 aria proseguirà con le immancabili castagne e il vin brulè per riscaldar
 e l'atmosfera.\n\nPOMERIGGIO PER I BAMBINI E GRAN FINALE\nIl programma pom
 eridiano è dedicato alla cultura e al divertimento:\n\n 	Ore 14:30: Labor
 atorio didattico "Artigiano per un giorno" (al chiuso)\, curato dagli espe
 rti del Museo Civico Archeologico della Sabina Tiberina.\n 	Ore 14:30: "Ca
 nti di Natale" con la Compagnia Birignao.\n 	Ore 17:30: Chiusura spettacol
 are con lo "Spettacolo di Fuoco".\n\nPer tutto il giorno\, i bambini potra
 nno vivere la "Magia della Neve"\, consegnare la letterina direttamente a 
 Babbo Natale e scattare una foto ricordo con lui.\n\nIL RADUNO D'AUTO D'EP
 OCA\nPer gli appassionati di auto storiche\, il ritrovo è fissato alle 09
 :30 a Passo Corese (Bar Augusteo)\, con partenza in carovana verso Prime C
 ase prevista per le 10:30.\n\nINFO E PRENOTAZIONI\nÈ gradita la prenotazi
 one per il pranzo contattando:\n\n 	Fabrina: 334 8627447\n 	Gianni: 333 97
 43699\n\nVi aspettiamo!\n\n#FaraInSabina #Polentata #BabboNatale #Fiat500 
 #AutoDepoca #EventiRieti #NataleInSabina #PrimeCase
ATTACH;FMTTYPE=image/jpeg:https://lazioeventi.com/wp-content/uploads/2025/
 11/polentata-fara-in-sabina.jpg
CATEGORIES:Musica, Spettacoli e Danza nel Lazio,Sport, Tempo Libero e
 Divertimento nel Lazio,Varie
LOCATION:Fara in Sabina\, Comune\, Fara in Sabina\, Rieti\, Lazio\, Italia
GEO:42.2099;12.7291
X-APPLE-STRUCTURED-LOCATION;VALUE=URI;X-ADDRESS=Comune\, Fara in Sabina\, R
 ieti\, Lazio\, Italia;X-APPLE-RADIUS=100;X-TITLE=Fara in Sabina:geo:42.209
 9,12.7291
END:VEVENT
BEGIN:VTIMEZONE
TZID:Europe/Rome
X-LIC-LOCATION:Europe/Rome
BEGIN:STANDARD
DTSTART:20251026T020000
TZOFFSETFROM:+0200
TZOFFSETTO:+0100
TZNAME:CET
END:STANDARD
END:VTIMEZONE
END:VCALENDAR