BEGIN:VCALENDAR
VERSION:2.0
PRODID:-//wp-events-plugin.com//7.2.3.1//EN
TZID:Europe/Rome
X-WR-TIMEZONE:Europe/Rome
BEGIN:VEVENT
UID:28213@lazioeventi.com
DTSTART;TZID=Europe/Rome:20210507T190000
DTEND;TZID=Europe/Rome:20210508T203000
DTSTAMP:20210506T143106Z
URL:https://lazioeventi.com/eventi/pollinefest-il-festival-ideato-da-matut
 ateatro
SUMMARY:PollineFest: il festival ideato da Matutateatro -  - 7 Maggio 21 19
 :00
DESCRIPTION:Il festival quest’anno si arricchisce e oltre ad essere una m
 anifestazione che celebra le nuove leve del teatro\, diventa anche un prem
 io dedicato alle compagnie under 35. La compagnia vincitrice si aggiudiche
 rà anche una data a cachet nell’ambito della Rassegna Concentrica//Spet
 tacoli in Orbita organizzata dal Teatro della Caduta di Torino (che compar
 e come uno dei principali partner). A questi si aggiunge la pubblicazione 
 della drammaturgia e di un’intervista su Theatron2.0.\n\n“Un piccolo p
 remio inserito in un discorso più ampio\, di respiro nazionale\, nell’o
 ttica di una crescita lenta ma costante - spiega Alessandro Balestrieri di
  Matutateatro\, ideatore e direttore artistico del festival - Per questo a
 bbiamo pensato ad una giuria composta da una rappresentanza di Matutateatr
 o più due esponenti di alcuni fra i più importanti festival under 35 che
  compongono il network RisoNanze.” [Dominio Pubblico (Roma)\, Strabismi 
 (Cannara\, Foligno)\, Festival 2030 (Bologna)\, Arezzo Crowd (Arezzo) ndr.
 ]. Purtroppo però l’idea iniziale è stata pesantemente compromessa dal
 l’emergenza sanitaria: “Fra defaillance\, cambi data e restrizioni all
 a fine saremo pochi e senza pubblico. E questo è il vero peccato! Perdiam
 o quel senso di comunità che da sempre caratterizza POLLINEfest e in gene
 rale il lavoro di Matutateatro\, ma siamo fiduciosi che sia un primo passo
  per una ripresa del settore dello spettacolo dal vivo”.\n\nTra il 7 e i
 l 9 maggio gli spettacoli selezionati tramite bando si svolgeranno dunque 
 a porte chiuse\, alla sola presenza della giuria\, ma il pubblico potrà s
 eguire in diretta streaming sulla pagina Facebook di POLLINEfest e Matutat
 eatro la cerimonia di premiazione del vincitore.\n\nIl programma degli spe
 ttacoli:\nvenerdì 7 maggio\nore 19.00 Così non si va avanti\ncompagnia R
 agtime Produzioni\n\nsabato 8 maggio\nore 19.00 Tua\, Gilda\nCompagnia Con
 trasto Teatro\n\ndomenica 9 maggio\nOre 19.00 l’anteprima fuori concorso
  di GRAY o sulla paura della vecchiezza di BALT.\nOre 21.00 premiazione de
 i vincitori
ATTACH;FMTTYPE=image/jpeg:https://lazioeventi.com/wp-content/uploads/2021/
 05/locandinapollinefest.jpg
CATEGORIES:Musica, Spettacoli e Danza nel Lazio
LOCATION:http://www.facebook.com/pollinefest
END:VEVENT
BEGIN:VTIMEZONE
TZID:Europe/Rome
X-LIC-LOCATION:Europe/Rome
BEGIN:DAYLIGHT
DTSTART:20210328T030000
TZOFFSETFROM:+0100
TZOFFSETTO:+0200
TZNAME:CEST
END:DAYLIGHT
END:VTIMEZONE
END:VCALENDAR