BEGIN:VCALENDAR
VERSION:2.0
PRODID:-//wp-events-plugin.com//7.2.3.1//EN
TZID:Europe/Rome
X-WR-TIMEZONE:Europe/Rome
BEGIN:VEVENT
UID:38796@lazioeventi.com
DTSTART;TZID=Europe/Rome:20240323T093000
DTEND;TZID=Europe/Rome:20240324T180000
DTSTAMP:20240320T094040Z
URL:https://lazioeventi.com/eventi/pontinia-giornate-fai
SUMMARY:Pontinia - Giornate Fai - Pontinia - 23 Marzo 24 09:30
DESCRIPTION:IMPIANTO IDROVORO DI MAZZOCCHIO\nLe idrovore di Mazzocchio nel 
 Lazio rivestono una enorme importanza per il territorio. Infatti\, buona p
 arte della pianura pontina si trova al livello del mare o al di sotto di e
 sso (per es. Pontinia è due metri sotto il livello del mare) e\, ovviamen
 te\, in assenza di questi impianti i terreni circostanti sarebbero costant
 emente allagati\, diventando paludosi\, così come lo erano prima degli an
 ni trenta.\nL'impianto di Mazzocchio è il più importante dell'agro ponti
 no e il più grande d'Europa\, proteggendo dagli allagamenti una superfici
 e di circa 10.000 ettari. L'impianto fu realizzato il 20/07/1934 su proget
 to dell'ing. Leone Terzi e venne inaugurato il 19/12/1934. Durante il seco
 ndo conflitto mondiale\, le truppe tedesche portarono via i sette motori\,
  in modo da ostacolare\, con l'allagamento dei terreni circostanti\, l'ing
 resso degli alleati. Sei dei sette furono ritrovati\, nel 1948\, sul Brenn
 ero e furono prontamente reinstallati.\nL'impianto di Mazzocchio è uno de
 i più grandi d'Europa e il più importante dell'Agro pontino\, proteggend
 o dagli allagamenti una superficie di circa 10.000 ettari. L'impianto fu r
 ealizzato il 20/07/1934 su progetto dell'ing. Leone Terzi e venne inaugura
 to il 19/12/1934. Durante il secondo conflitto mondiale\, le truppe tedesc
 he portarono via i sette motori\, in modo da ostacolare\, con l'allagament
 o dei terreni circostanti\, l'ingresso degli alleati. Sei dei sette furono
  ritrovati\, nel 1948\, sul Brennero e furono prontamente reinstallati.\n\
 nIndirizzo: Via migliara 52 sx\, 2648\, PONTINIA\, LT\n\nOrario:\nSabato: 
 10:00 - 13:00 / 14:30 - 17:30 (ultimo ingresso 17:00)\nDomenica: 10:00 - 1
 3:00 / 14:30 - 17:30 (ultimo ingresso 17:00)\n\nMAP - MUSEO DELL'AGRO PONT
 INO\nIl MAP\, Museo dell'Agro Pontino\, a Pontinia presso piazza J.F. Kenn
 edy\, è collocato dentro la struttura dell'ex mercato coperto. Da esso pa
 rtono percorsi verso la zona centrale della città ed è dotato\, sia nel 
 piazzale davanti che dietro\, di ampi spazi utilizzati durante gli eventi 
 culturali. Il Museo viene inaugurato nel 2011\, mentre dal 2015 acquisisce
  la restaurata ex-torre idrica sita in piazza Roma. Oggi il Museo è chius
 o.\nNel 1986 si ha l'idea di creare a Pontinia un Museo dedicato alla mala
 ria perché\, riordinando l'archivio comunale e quello sanitario\, vennero
  scoperti svariati documenti del Comitato antimalarico di Littoria: tavole
  disegnate a mano\, confezioni di medicinali\, opuscoli informativi. L'ina
 ugurazione si ha il 19 dicembre del 1993 coincidendo con il cinquantanoves
 imo anniversario della fondazione di Pontinia. Il tema della malaria è vi
 sto da più punti di vista: da quello sanitario a quello ambientale. Nel 2
 011 è inaugurato il MAP: è mantenuta l'attenzione sull'ambiente rurale. 
 Ci sono attrezzi agricoli\, foto e testimonianze della vita dei coloni del
  tempo\, pionieri nella lotta contro la malaria e nel faticoso impegno per
  la bonifica.\nDal punto di vista architettonico\, l'esterno presenta una 
 struttura semplice con moduli geometrici realizzati con travertino bianco.
  Il corpo centrale ha copertura curvilinea e un portale d'accesso in ferro
  e vetro. Di lato ci sono portici con pilastri e grandi aperture finestrat
 e. La semplicità è funzionale all'ideologia del tempo: 'ruralesimo' cont
 ro urbanesimo. Anche gli spazi interni ripropongono toni chiari e l'ambien
 te è molto luminoso. Il Museo non è grande. Oggi i suoi spazi sono utili
 zzati per eventi culturali.\n\nIndirizzo: Piazza J.F. Kennedy\, PONTINIA\,
  LT\n\nOrario:\nSabato: 10:00 - 13:00 / 14:30 - 17:30 (ultimo ingresso 17:
 00)\nDomenica: 10:00 - 13:00 / 14:30 - 17:30 (ultimo ingresso 17:00)\n\nPA
 LAZZO COMUNALE DI PONTINIA\nPontinia è una delle cinque "città di fondaz
 ione" realizzate dal regime fascista nell'Agro pontino e romano. È la ter
 za città a nascere in ordine cronologico dopo Latina e Sabaudia.Sorse su 
 progetto dell'ingegnere Alfredo Pappalardo\, con la consulenza artistica d
 i Oriolo Frezzotti\, e venne concepita come centro di servizi per i coloni
  delle campagne circostanti. Pontinia è letteralmente la città sull'acqu
 a.\nSorse su progetto dell'ingegnere Alfredo Pappalardo\, con la consulenz
 a artistica di Oriolo Frezzotti\, e venne concepita come centro di servizi
  per i coloni delle campagne circostanti. Il progetto originario prevedeva
  una città a pianta ortogonale che ruotava intorno a due grandi piazze. R
 isalgono a questo periodo il Palazzo Comunale\, la chiesa di Sant'Anna\, l
 a casa del Fascio (ora casa della cultura)\, la scuola\, l'ufficio postale
 \, il cinema-teatro\, la torre dell'acquedotto. Il palazzo non ha mai subi
 to modifiche.\nL'edificio presenta le caratteristiche salienti dell'archit
 ettura razionalista rurale\; forme squadrate\, volumi in opposizione\, con
 trasto di colori dato dall'uso si diverso materiale quali laterizio e trav
 ertino. Spicca inoltre la maestosa torre civica recante in cima una frase 
 di Mussolini. Tra le caratteristiche architettoniche dell'edificio è da n
 otare la frase di Mussolini che fa da cornice all'estremità della torre c
 entrale che recita: "E' l'aratro che traccia il solco\, ma è la spada che
  lo difende. Entrambi fatti di acciaio temprato\, come la fede dei nostri 
 cuori"\n\nIndirizzo: Piazza Indipendenza\, PONTINIA\, LT\n\nOrario:\nSabat
 o: 10:00 - 13:00 / 14:30 - 17:30 (ultimo ingresso 17:00)\nDomenica: 10:00 
 - 13:00 / 14:30 - 17:30 (ultimo ingresso 17:00)\n\nTORRE IDRICA\nCollocata
  non lontano dal fiume Sisto\, l'Ex-Torre Idrica di Pontinia si trova a pi
 azza Roma\, poco distante dal centro della città. Dopo un periodo di inat
 tività\, dal 2015 è diventata spazio espositivo collegato con il MAP (Mu
 seo Agro Pontino). La sua posizione isolata la rende visibile da lontano\,
  mentre l'aspetto monumentale si concilia con quello delle altre due torri
  presenti a Pontinia: la torre del Comune e il campanile della Chiesa\, si
 mboleggiando dunque l'unione del potere politico fascista con la Chiesa e 
 il Comune.\nL'origine del Bene si ha nel 1934 quando l'ing. Alfredo Pappal
 ardo lo progetta con la consulenza artistica di Oriolo Frezzotti. Seguiran
 no negli anni restauri condotti dall'arch. Luigi Caponera\, dall'ing. Andr
 ea Mantuano e dall'arch. Massimo Piero Cerasoli. Oggi\, dopo la cessata at
 tività dell'acquedotto negli anni '70\, si è avuta una riqualificazione 
 del Bene\, diventato spazio espositivo per eventi culturali coordinato dal
  MAP\, presente a Pontinia.\nL'ex-Torre idrica (un parallelepipedo alto 28
 \,50 mt) all'esterno si impone allo sguardo dello spettatore con un disegn
 o geometrico essenziale e dinamico fatto di linee con alternanza del color
 e bianco del travertino e rosso dei mattoni. La monumentalità è tipica d
 elle architetture delle città di Fondazione. La facciata ha tre nicchie l
 e cui ombre fanno pensare a tre fasci littori. Alla base vi è una vasca c
 on acqua. Nel complesso la struttura esterna ha un fascino 'metafisico'\, 
 ma è l'interno ad essere molto interessante. Il restauro del 2008-2009 ha
  creato un sistema di trattamento termico degli interni per mezzo di una p
 ompa geotermica (servendosi di acqua di falda\, non di aria). All'interno 
 ciò che colpisce subito\, oltre all'altezza\, è il pavimento in acciaio 
 con grigliato keller\, funzionale per lasciar vedere le tubature originali
  sottostanti in colorazione blu. Il livello dell'acqua nella vasca (che si
  trova a 22 mt di altezza) è indicato dai numeri visibili sulle pareti de
 lla torre. Dai pilastri in cemento del piano terra si slanciano travi stru
 tturali che segnano trame sospese molto suggestive. Si è pensato a una de
 stinazione futura della vasca: realizzarvi una sala cinematografica per 16
  persone! Degno di nota è anche il terrazzo panoramico.\n\nIndirizzo: Pia
 zza Roma\, PONTINIA\, LT\n\nOrario:\nSabato: 10:00 - 13:00 / 14:30 - 17:30
  (ultimo ingresso 17:00)\nDomenica: 10:00 - 13:00 / 14:30 - 17:30 (ultimo 
 ingresso 17:00)
ATTACH;FMTTYPE=image/jpeg:https://lazioeventi.com/wp-content/uploads/2024/
 03/torre-idrica-pontinia.jpg
CATEGORIES:Arte e Cultura nel Lazio,Giornate FAI
LOCATION:Pontinia\, Comune\, Pontinia\, Latina\, Lazio\, Italia
GEO:41.408;13.0445
X-APPLE-STRUCTURED-LOCATION;VALUE=URI;X-ADDRESS=Comune\, Pontinia\, Latina\
 , Lazio\, Italia;X-APPLE-RADIUS=100;X-TITLE=Pontinia:geo:41.408,13.0445
END:VEVENT
BEGIN:VTIMEZONE
TZID:Europe/Rome
X-LIC-LOCATION:Europe/Rome
BEGIN:STANDARD
DTSTART:20231029T020000
TZOFFSETFROM:+0200
TZOFFSETTO:+0100
TZNAME:CET
END:STANDARD
END:VTIMEZONE
END:VCALENDAR