BEGIN:VCALENDAR
VERSION:2.0
PRODID:-//wp-events-plugin.com//7.2.3.1//EN
TZID:Europe/Rome
X-WR-TIMEZONE:Europe/Rome
BEGIN:VEVENT
UID:38625@lazioeventi.com
DTSTART;TZID=Europe/Rome:20240303T191500
DTEND;TZID=Europe/Rome:20240303T220000
DTSTAMP:20240226T132142Z
URL:https://lazioeventi.com/eventi/premio-aduim
SUMMARY:Premio Aduim - Roma - 3 Marzo 24 19:15
DESCRIPTION:Al Teatro Palladium dell’Università Roma Tre\, domenica 3 ma
 rzo\nPREMIO ADUIM   \nASSOCIAZIONE DOCENTI UNIVERSITARI ITALIANI DI MUSICA
 \nSulle orme di Antonio Vivaldi\, Beatrice Rana\, la Chigiana-Mozarteum Ba
 roque Orchestra diretta da Alfredo Bernardini\, il Dipartimento di Musica 
 Antica dell’Università Mozarteum di Salisburgo ospiti della prima edizi
 one del riconoscimento accademico tra produzione musicale\, ricerca musico
 logica e prassi esecutiva\n\nDomenica 3 marzo 2024: 17.30 Tavola Rotonda\,
  19.15 consegna premio\, 20.00 concerto\n\nPer i suoi 30 anni\, il 3 marzo
  l’ADUIM – Associazione fra i Docenti Universitari Italiani di Musica 
 arriva al Teatro Palladium dell'Università Roma Tre con la prima edizione
  del Premio ADUIM\, nuovo riconoscimento che i docenti di musica delle uni
 versità italiane dal 2024 conferiscono alle produzioni musicali di valore
 \, in cui ricerca musicologica e prassi esecutiva s’incontrano fruttuosa
 mente.\n\nLa giuria del premio ADUIM\, per il suo primo anno\, ha deciso d
 i premiare La Senna festeggiante (Serenata a tre RV 693) di Antonio Vivald
 i\, prodotta dall’Accademia Musicale Chigiana in collaborazione con il D
 ipartimento di Musica Antica dell’Università Mozarteum di Salisburgo. L
 a Serenata è stata eseguita a Siena il 2 settembre 2022 dalla Chigiana-Mo
 zarteum Baroque Orchestra diretta da Alfredo Bernardini. L’esecuzione si
  è basata sull’edizione critica curata da Alessandro Borin\, pubblicata
  da Casa Ricordi in collaborazione con l’Istituto Italiano Antonio Vival
 di della Fondazione Giorgio Cini di Venezia e diretta da Reinhard Strohm e
  Alessandro Borin.\n\nL’Accademia Musicale Chigiana ha svolto un ruolo s
 torico decisivo nella riscoperta delle opere di Antonio Vivaldi\, a partir
 e dalla prima Settimana Musicale Senese organizzata nel 1939 con la direzi
 one artistica di Alfredo Casella. Anche la prima esecuzione moderna de La 
 Senna festeggiante è stata realizzata a Siena\, con la direzione di Carlo
  Maria Giulini nella revisione di Guido Turchi\, in occasione della Settim
 ana Musicale Senese del 1949. La nuova produzione del 2022 diretta da Alfr
 edo Bernardini ha dunque ribadito il legame profondo e duraturo dell’Acc
 ademia Musicale Chigiana con la riscoperta vivaldiana.\n\nAd assegnare il 
 premio sarà una delle punte di diamante della scena italiana della classi
 ca\, Beatrice Rana affiancata da Franco Piperno (Sapienza Università di R
 oma) e dai protagonisti della produzione vincitrice.\n\nIntrodotta dal Pre
 sidente dell’ADUIM e del Teatro Palladium\, prof. Luca Aversano\, la cer
 imonia vedrà tre momenti: alle ore 17.30 una tavola rotonda dal titolo 
 “Come suona la ricerca” che vedrà coinvolti docenti\, studenti e pers
 onalità prestigiose del mondo della musica e della musicologia\; alle 19.
 15 la consegna del premio e alle ore 20.00 il concerto della Chigiana – 
 Mozarteum Baroque Ensemble con il soprano Lucia Pagano e il mezzosoprano M
 arta Pacifici\, e con Francesco Lussignoli al flauto traversiere\, Cesare 
 Pierozzi all’oboe\, Davide Facchini e Valerio Losito ai violino\, Amalia
  Ottone alla viola da gamba\, Michele Lanzini al violoncello\, Simone Gull
 ì al clavicembalo.\n\nPer la cerimonia di consegna del premio\, l’ADUIM
  ha scelto come sede il Teatro Palladium\, in ragione della sua natura di 
 spazio universitario naturalmente votato al dialogo tra ricerca scientific
 a e produzione artistica. L’occasione segna l’avvio del programma di c
 elebrazioni del trentennale dell’associazione\, che dal 1994 si occupa d
 i promuovere lo sviluppo delle discipline musicali nell’università ital
 iana in rapporto alle esigenze della collettività.\n\nL’ADUIM (Associaz
 ione fra i Docenti Universitari Italiani di Musica) si è costituita nel g
 ennaio del 1994 allo scopo di promuovere lo sviluppo delle discipline musi
 cali nell’ambito dell’Università italiana in rapporto alle esigenze d
 ella collettività. Le attività dell’associazione hanno accompagnato l
 ’importante crescita della musicologia in ambito universitario nel corso
  degli anni Settanta e Ottanta\, fronteggiando le numerose questioni deriv
 anti da questo rapido processo di sviluppo: non soltanto in seno ai singol
 i atenei\, ma anche nella costruzione di un rapporto con le altre aree dis
 ciplinari per tutto ciò che riguarda le strategie e le decisioni minister
 iali.\n\nLa giuria del premio ADUIM è composta da Marco Bizzarini (Univ. 
 Federico II di Napoli)\, Fulvia Caruso (Univ. di Pavia/Cremona)\, Antonell
 a D’Ovidio (Univ. di Firenze)\, Dinko Fabris (Univ. della Basilicata)\, 
 Andrea Malvano (Univ. di Torino)\, Gianluigi Mattietti (Univ. di Cagliari\
 , presidente) e Susanna Pasticci (Sapienza Univ. di Roma).\n\n \n\nPer mag
 giori informazioni contattare staff.spettacolo@teatropalladium.it. \n\nING
 RESSO GRATUITO.
ATTACH;FMTTYPE=image/jpeg:https://lazioeventi.com/wp-content/uploads/2024/
 02/Chigiana-Mozarteum-5_Via-ADUIM.jpg
CATEGORIES:Musica, Spettacoli e Danza nel Lazio
LOCATION:Roma\, Via Leopardi\, Roma\, Roma\, Lazio\, Italia
GEO:41.8942;12.5017
X-APPLE-STRUCTURED-LOCATION;VALUE=URI;X-ADDRESS=Via Leopardi\, Roma\, Roma\
 , Lazio\, Italia;X-APPLE-RADIUS=100;X-TITLE=Roma:geo:41.8942,12.5017
END:VEVENT
BEGIN:VTIMEZONE
TZID:Europe/Rome
X-LIC-LOCATION:Europe/Rome
BEGIN:STANDARD
DTSTART:20231029T020000
TZOFFSETFROM:+0200
TZOFFSETTO:+0100
TZNAME:CET
END:STANDARD
END:VTIMEZONE
END:VCALENDAR