BEGIN:VCALENDAR
VERSION:2.0
PRODID:-//wp-events-plugin.com//7.2.3.1//EN
TZID:Europe/Rome
X-WR-TIMEZONE:Europe/Rome
BEGIN:VEVENT
UID:30509@lazioeventi.com
DTSTART;TZID=Europe/Rome;VALUE=DATE:20250515
DTEND;TZID=Europe/Rome;VALUE=DATE:20251018
DTSTAMP:20250910T122511Z
URL:https://lazioeventi.com/eventi/premio-camilla
SUMMARY:Premio Camilla - Priverno - 15 Maggio 25 00:00
DESCRIPTION:Il Premio\, dedicato alla mitica Regina dei Volsci\, figlia di
  Metabo\, Re della città volsca di Privernum\, è un riconoscimento simbo
 lico che si caratterizza per l’intento di valorizzare la figura femmi
 nile in tutti i suoi ruoli pubblici\, al fine di affermare l’importanza
  della sua presenza e del suo operato nella società\, nei diversi ambiti:
 \n\n• dell’arte e della cultura\,\n• del volontariato e dello sport\
 ,\n• della comunicazione e del giornalismo\,\n• dell’istruzione e de
 lla formazione\,\n• delle imprese e delle professioni\,\n• della polit
 ica e delle istituzioni.\n\nAttraverso il Premio\, si vuole raccogliere un
  prezioso patrimonio etico\, culturale e sociale da utilizzare quale esemp
 io positivo per la formazione delle coscienze delle giovani generazioni\
 , in particolare delle ragazze e delle giovani donne.\n\nIl riconoscimento
  del merito e la valorizzazione della figura femminile sono posti alla bas
 e di una cultura che vuole promuovere e diffondere\, soprattutto tra i pi
 ù giovani\, l’educazione al senso dell’impegno e l’educazione alle 
 differenze di genere\, al fine di contribuire all'affermazione della donna
  in ogni campo\, secondo i suoi desideri\, le sue inclinazioni e le sue ca
 pacità\, accanto all'uomo\, nel riconoscimento e nel rispetto reciproci.\
 n\nIl Premio Camilla – Città di Priverno\, è destinato esclusivame
 nte a donne che abbiano compiuto almeno 16 anni\, senza altri limiti di 
 età\, che si siano distinte per merito in una delle sezioni tra quelle 
 suddette.\n\nIl Premio\, nella sua matericità\, consiste in un pregevole
  ciondolo/monile in argento ispirato alla mitica amazzone “Camilla”\, 
 prodotto dalla Maison Boccadamo\, esclusivamente per il Premio.\n\nNell’
 invitarvi a prendere visione dell’Avviso pubblico e delle modalità di p
 artecipazione per l’anno 2025\, VI edizione\, riportati sul sito del Com
 une di Priverno al link:\n\nhttps://www.comune.priverno.latina.it/notizie/
 apertura-candidature-Premio-Camilla-Citt--di-Priverno-2025.html\n\nauspich
 iamo che vogliate accogliere l’invito a darne la massima diffusione\, in
  particolar modo all’interno delle vostre realtà associative\, professi
 onali\, sociali\, ecc.\, al fine di poter riconoscere sempre di più\, il 
 valore di quelle donne che\, nel corso della loro vita\, si distinguono pe
 r un impegno meritevole di essere riconosciuto.
ATTACH;FMTTYPE=image/jpeg:https://lazioeventi.com/wp-content/uploads/2022/
 04/premio-camilla-1.jpg
CATEGORIES:Varie
LOCATION:Priverno\, Comune di Priverno\, Priverno\, Latina\, Lazio\, Italia
GEO:41.4734;13.1817
X-APPLE-STRUCTURED-LOCATION;VALUE=URI;X-ADDRESS=Comune di Priverno\, Priver
 no\, Latina\, Lazio\, Italia;X-APPLE-RADIUS=100;X-TITLE=Priverno:geo:41.47
 34,13.1817
END:VEVENT
BEGIN:VTIMEZONE
TZID:Europe/Rome
X-LIC-LOCATION:Europe/Rome
BEGIN:DAYLIGHT
DTSTART:20250330T030000
TZOFFSETFROM:+0100
TZOFFSETTO:+0200
TZNAME:CEST
END:DAYLIGHT
END:VTIMEZONE
END:VCALENDAR