BEGIN:VCALENDAR
VERSION:2.0
PRODID:-//wp-events-plugin.com//7.2.3.1//EN
TZID:Europe/Rome
X-WR-TIMEZONE:Europe/Rome
BEGIN:VEVENT
UID:43558@lazioeventi.com
DTSTART;TZID=Europe/Rome;VALUE=DATE:20260115
DTEND;TZID=Europe/Rome;VALUE=DATE:20260118
DTSTAMP:20260115T130258Z
URL:https://lazioeventi.com/eventi/premio-cesare-zavattini-ultimi-giorni
SUMMARY:Premio Cesare Zavattini - Ultimi giorni - Roma - 15 Gennaio 26 00:0
 0
DESCRIPTION:Ultimi appuntamenti per il decennale del Premio Zavattini: proi
 ezioni e tavola rotonda\n\nGiovedì 15 gennaio si conclude la rassegna dei
  cortometraggi al Cinema Azzurro Scipioni. \nSabato 17\, alla Fondazione A
 AMOD\, un pomeriggio di confronto sul riuso creativo degli archivi con aut
 ori\, giurati e professionisti del settore.\n\nCinema Azzurro Scipioni\nVi
 a degli Scipioni 82 – Roma\n\nFONDAZIONE AAMOD\nVia Ostiense 106 - Roma\
 n\nIngresso libero\n\n \n\nProsegue il programma delle iniziative previste
  per il decennale del Premio Cesare Zavattini\, promosso dalla Fondazione 
 AAMOD\, che celebra dieci anni di esperienze di riuso creativo del cinema 
 d’archivio attraverso lo sguardo di giovani autrici e autori. Dopo le pr
 ime due giornate di proiezioni\, restano ancora due appuntamenti aperti al
  pubblico: la serata conclusiva della rassegna cinematografica\, in progra
 mma giovedì 15 gennaio\, e la tavola rotonda prevista per sabato 17 genna
 io.\n\n \n\nGiovedì 15 gennaio\, dalle 18.00 alle 22.30\, presso il Cinem
 a Azzurro Scipioni (Via degli Scipioni 82\, Roma)\, si svolgerà l’ultim
 a delle tre serate dedicate alla proiezione dei cortometraggi vincitori o 
 destinatari di menzioni speciali nelle varie edizioni del Premio. I film s
 aranno introdotti dalle autrici e dagli autori\, che accompagneranno il pu
 bblico nella visione\, offrendo spunti di riflessione sulle scelte narrati
 ve e di montaggio.\n\nLa serata prevede la proiezione di: Era una casa mol
 to carina… di Sara Parentini\, Piccolo Golem di Viola Giulia Milocco e F
 ederica Quaini\, Un respiro parziale ma intero di Lorenzo Spinelli\, Radio
  Perla del Tirreno di Noemi Arfuso e La selección de Chile di Giulio Paci
 ni.\n\nA seguire\,  Ma-tri-mò-nio di Gaia Siria Meloni\, Forza e Coraggio
  di Francesco Bovara e Giovanni Merlini\, Riccardo I di Federica Cozzio\, 
 La figura umana di Giulia Claudia Massacci e Il tempo negato di Maurizio D
 all’Acqua.\n\n \n\nL’ultimo appuntamento del programma si terrà sabat
 o 17 gennaio\, dalle 15.00 alle 19.30\, presso la Fondazione AAMOD (Via Os
 tiense 106\, Roma)\, dove si svolgerà la tavola rotonda dal titolo Il sen
 so degli archivi negli sguardi di una generazione di filmmaker. L’incont
 ro sarà articolato in tre momenti tematici\, con la partecipazione di pro
 fessionisti del settore audiovisivo\, docenti e autrici e autori che hanno
  preso parte al Premio nel corso degli anni.\n\nDopo i saluti istituzional
 i di Vincenzo Vita (Presidente Fondazione AAMOD)\, Enrico Bufalini (Dirett
 ore Archivio Luce Cinecittà) e Paolo Simoni (Direttore Fondazione Home Mo
 vies)\, e l’introduzione a cura di Aurora Palandrani e Antonio Medici (c
 oordinatrice e direttore del Premio)\, si aprirà il primo panel tematico\
 , Racconti che non c’erano\, dedicato ai corti che hanno costruito narra
 zioni autonome rispetto al valore documentale del materiale d’archivio. 
 Interverranno Laura Delli Colli\, Ilaria Fraioli e Luca Ricciardi\, con la
  moderazione di Luca Onorati.\n\nIl secondo momento\, intitolato Negli spa
 zi privati\, sarà dedicato alle opere che hanno lavorato su materiali di 
 archivio familiari o intimi. Interverranno Wilma Labate\, Erika Manoni e G
 iuseppe D’Amato\, con la moderazione di Giovanni Piperno.\n\nIl terzo e 
 ultimo panel\, Riletture\, sarà incentrato sull’utilizzo dell’archivi
 o per reinterpretare figure pubbliche o eventi storici. Interverranno Beat
 rice Baldacci\, Riccardo Bolo\, Davide Crudetti\, Maria Iovine\, Gaia Siri
 a Meloni e Lorenzo Spinelli\, con la moderazione di Chiara Ronchini.\n\nLa
  giornata si concluderà con un brindisi e una festa aperti a tutte e tutt
 i i partecipanti.\n\nL’ingresso a entrambi gli appuntamenti è gratuito 
 fino a esaurimento posti.\n \nPREMIO ZAVATTINI\nSito ufficiale: http://p
 remiozavattini.it\n
ATTACH;FMTTYPE=image/jpeg:https://lazioeventi.com/wp-content/uploads/2026/
 01/locandina-RassegnaConvegno10_ZA.jpg
CATEGORIES:Arte e Cultura nel Lazio,Varie
LOCATION:Roma\, Via Leopardi\, Roma\, Roma\, Lazio\, Italia
GEO:41.8942;12.5017
X-APPLE-STRUCTURED-LOCATION;VALUE=URI;X-ADDRESS=Via Leopardi\, Roma\, Roma\
 , Lazio\, Italia;X-APPLE-RADIUS=100;X-TITLE=Roma:geo:41.8942,12.5017
END:VEVENT
BEGIN:VTIMEZONE
TZID:Europe/Rome
X-LIC-LOCATION:Europe/Rome
BEGIN:STANDARD
DTSTART:20251026T020000
TZOFFSETFROM:+0200
TZOFFSETTO:+0100
TZNAME:CET
END:STANDARD
END:VTIMEZONE
END:VCALENDAR