BEGIN:VCALENDAR
VERSION:2.0
PRODID:-//wp-events-plugin.com//7.2.3.1//EN
TZID:Europe/Rome
X-WR-TIMEZONE:Europe/Rome
BEGIN:VEVENT
UID:36188@lazioeventi.com
DTSTART;TZID=Europe/Rome;VALUE=DATE:20230701
DTEND;TZID=Europe/Rome;VALUE=DATE:20230729
DTSTAMP:20230704T220313Z
URL:https://lazioeventi.com/eventi/premio-drammaturgia-il-canotto-parlante
SUMMARY:Premio drammaturgia «Il canotto parlante» - Roma - 1 Luglio 23 00
 :00
DESCRIPTION:Seconda edizione “La memoria dell’Avatar”\n \nLo scorso i
 l 15 aprile ha preso il via la seconda edizione della rassegna culturale 
 “Il canotto parlante”\, organizzata dall’Associazione “La Ciambell
 a” APS e patrocinata dalla Uilt (Unione italiana libero teatro)\,  che p
 arte con il Concorso di drammaturgia dedicato al tema “La memoria dell
 ’Avatar”\, momento\, per gli autori\, di analizzare il confronto tra l
 e diverse generazioni e i mille possibili modi per rappresentarlo\, creand
 o un ponte immaginario tra modernità e tradizione. \n \nAlla fase di acqu
 isizione dei testi teatrali sul tema scelto e alla successiva messa in sce
 na di quelli che saranno selezionati da una Giuria nel corso della settima
 na del festival in calendario al Teatro degli Eroi di Roma.\n \nL’inizia
 tiva si articolerà in tre momenti:\n- il concorso per testi drammaturgici
  originali inediti o comunque mai rappresentati\;\n- il concorso per testi
  teatrali già rappresentati\;\n- il festival che si svolgerà dal 17 al 2
 2 ottobre 2023 al Teatro degli Eroi e durante il quale verranno proposte a
 l pubblico le sei opere\, tre inedite e tre già rappresentate\, seleziona
 te da un’apposita Giuria tecnica.\n\nI testi e le opere dovranno essere 
 inviati entro e non oltre il 28 luglio 2023.\n\nIl link per scaricare il b
 ando sul sito dell’Associazione La Ciambella APS www.laciambella.com\n\n
 Per informazioni sul premio scrivere a: associazioneciambella@gmail.com op
 pure per scaricare il bando https://laciambella.com
ATTACH;FMTTYPE=image/jpeg:https://lazioeventi.com/wp-content/uploads/2023/
 07/il-canotto.jpeg
CATEGORIES:Varie,Arte e Cultura nel Lazio
LOCATION:Roma\, Via Leopardi\, Roma\, Roma\, Lazio\, Italia
GEO:41.8942;12.5017
X-APPLE-STRUCTURED-LOCATION;VALUE=URI;X-ADDRESS=Via Leopardi\, Roma\, Roma\
 , Lazio\, Italia;X-APPLE-RADIUS=100;X-TITLE=Roma:geo:41.8942,12.5017
END:VEVENT
BEGIN:VTIMEZONE
TZID:Europe/Rome
X-LIC-LOCATION:Europe/Rome
BEGIN:DAYLIGHT
DTSTART:20230326T030000
TZOFFSETFROM:+0100
TZOFFSETTO:+0200
TZNAME:CEST
END:DAYLIGHT
END:VTIMEZONE
END:VCALENDAR