BEGIN:VCALENDAR
VERSION:2.0
PRODID:-//wp-events-plugin.com//7.2.3.1//EN
TZID:Europe/Rome
X-WR-TIMEZONE:Europe/Rome
BEGIN:VEVENT
UID:34871@lazioeventi.com
DTSTART;TZID=Europe/Rome:20230331T180000
DTEND;TZID=Europe/Rome:20230331T200000
DTSTAMP:20230328T065430Z
URL:https://lazioeventi.com/eventi/presentazione-anteprima-del-volume-donn
 a-summer
SUMMARY:Presentazione-Anteprima del volume DONNA SUMMER - Roma - 31 Marzo 2
 3 18:00
DESCRIPTION:Esce nelle librerie italiane e piattaforme online per Coniglio 
 Editore DONNA SUMMER LA VOCE ARCOBALENO Da disco queen a icona pop\, la pr
 ima monografia italiana completa dedicata ad una regina “evergreen” ne
 l panorama musicale. Gli autori del volume\, Andrea Angeli Bufalini e Giov
 anni Savastano\, presenteranno l’opera in anteprima a Roma venerdì 31 m
 arzo alle ore 18:00 presso la Libreria Feltrinelli di via Appia. Insieme a
  loro interverranno il giornalista Antonio Ranalli e il critico musicale D
 ario Salvatori. Special guest: Deborah Johnson.\n\n \n\nIncontrastata regi
 na della disco music\, icona pop\, prima artista afroamericana ad aver vin
 to un Grammy nella categoria “rock”\, Donna Summer ha rivoluzionato l
 ’idea stessa di musica. A dieci anni dalla sua prematura scomparsa i due
  autori – già artefici del bestseller “La storia della Disco Music”
  (Hoepli) le rendono un doveroso tributo in un libro elegante\, condito da
  loro interviste inedite alla cantante\, retroscena e aneddoti curiosi\, c
 on oltre 500 illustrazioni che piaceranno non soltanto ai numerosissimi fa
 n dell’artista\, ma anche a coloro che desiderano riscoprire i risvolti 
 di un’epoca ancora attualissima.\nTesto alternativo\n\nAndrea Angeli Buf
 alini\n\nGiornalista\, critico musicale e scrittore\, ha all’attivo coll
 aborazioni con diverse testate musicali\, tra cui “Radio & TV” \, “D
 ance Music Magazine”\, “Raro!”\, “Musica & Dischi”\, “Rockstar
 ”\, “Dance (De Agostini)”\, “Classic Rock”\, “TV RadioCorriere
 ” e\, attualmente\, “Billboard Italia”. Laureato in Giurisprudenza\,
  è funzionario Rai nella Direzione Radio in cui annovera tra le varie esp
 erienze pluriennali produzioni musicali in qualità di responsabile (Hit P
 arade\, I Concerti di Radio 2\, Hit Parade Live Show\, Radio 2 Milano In C
 oncert)\, nonché di rappresentante unico per l’Italia di Eurosonic/EBU 
 (European Broadcasting Union). Ha pubblicato insieme a Giovanni Savastano\
 , i volumi La Disco. Storia Illustrata della discomusic (Arcana\, 2014) e 
 il bestseller La Storia della Disco Music (Hoepli\, 2019). Tra gli innumer
 evoli artisti incontrati nel corso degli anni\, ha avuto il piacere di int
 ervistare\, in diverse parti del globo\, anche la protagonista di questo v
 olume: ‘the queen’ Donna Summer.\n\n \n\nGiovanni Savastano\n\nPsicote
 rapeuta\, docente e scrittore. Ha iniziato il viaggio nella scrittura con 
 articoli e libri di psicologia\; poi\, dopo aver seminato qualche racconto
  breve per Feltrinelli e Giovane Holden\, è saltato sui vagoni musicali\,
  scrivendo sulle riviste “Musica e Dischi”\, “Classix!” e “Class
 ic Rock”.Insieme ad Andrea Angeli Bufalini ha pubblicato La Disco. Stori
 a illustrata della discomusic (Arcana 2014) e il bestseller La Storia dell
 a Disco Music (Hoepli 2019). È del 2018 il saggio biografico Gian Maria V
 olonté. Recito dunque sono (Edizioni Clichy 2018). Attualmente scrive per
  la rivista “MicroMega”.
ATTACH;FMTTYPE=image/jpeg:https://lazioeventi.com/wp-content/uploads/2023/
 03/locandina-nuova-DS-31-marzo.jpg
CATEGORIES:Arte e Cultura nel Lazio
LOCATION:Roma\, Via Leopardi\, Roma\, Roma\, Lazio\, Italia
GEO:41.8942;12.5017
X-APPLE-STRUCTURED-LOCATION;VALUE=URI;X-ADDRESS=Via Leopardi\, Roma\, Roma\
 , Lazio\, Italia;X-APPLE-RADIUS=100;X-TITLE=Roma:geo:41.8942,12.5017
END:VEVENT
BEGIN:VTIMEZONE
TZID:Europe/Rome
X-LIC-LOCATION:Europe/Rome
BEGIN:DAYLIGHT
DTSTART:20230326T030000
TZOFFSETFROM:+0100
TZOFFSETTO:+0200
TZNAME:CEST
END:DAYLIGHT
END:VTIMEZONE
END:VCALENDAR