BEGIN:VCALENDAR
VERSION:2.0
PRODID:-//wp-events-plugin.com//7.2.3.1//EN
TZID:Europe/Rome
X-WR-TIMEZONE:Europe/Rome
BEGIN:VEVENT
UID:42661@lazioeventi.com
DTSTART;TZID=Europe/Rome:20251015T183000
DTEND;TZID=Europe/Rome:20251015T193000
DTSTAMP:20251007T081308Z
URL:https://lazioeventi.com/eventi/presentazione-del-corso-di-scultura-a-c
 ura-di-gianlorenzo-gasperini-2
SUMMARY:Presentazione del Corso di scultura a cura di Gianlorenzo Gasperini
  - Roma - 15 Ottobre 25 18:30
DESCRIPTION:Il corso si propone di fornire le conoscenze basilari di varie 
 tecniche della scultura\, dalla modellazione in creta alla realizzazione f
 inale di un’opera definitiva in gesso o in altri materiali. L’obiettiv
 o è fornire le competenze fondamentali per poter sviluppare un percorso i
 ndividuale. Non sono richieste abilità e conoscenze pregresse.\n\nLe lezi
 oni si terranno nello studio dello scultore\, in Via in Selci 56\, Rione M
 onti\, Roma.\n\nBIO: nato a Civitavecchia nel 1967\, si è laureato all
 ’Accademia di Belle Arti di Roma\, dove si è specializzato in scultura.
  Dal 2001 al 2012 le sue sculture in bronzo hanno fatto parte dell’espos
 izione permanente dell’Opera Gallery di New York. Attualmente lavora con
  le gallerie Von Buren Contemporary di Roma e Antonia Jannone di Milano. D
 al 2017 partecipa al progetto espositivo MA ART dello studio Morris Adjimi
  Architects di New York.
ATTACH;FMTTYPE=image/jpeg:https://lazioeventi.com/wp-content/uploads/2025/
 10/corso-Gianlorenzo-Gasperini-lezione-1.jpg
CATEGORIES:Arte e Cultura nel Lazio,Varie
LOCATION:Roma\, Via Leopardi\, Roma\, Roma\, Lazio\, Italia
GEO:41.8942;12.5017
X-APPLE-STRUCTURED-LOCATION;VALUE=URI;X-ADDRESS=Via Leopardi\, Roma\, Roma\
 , Lazio\, Italia;X-APPLE-RADIUS=100;X-TITLE=Roma:geo:41.8942,12.5017
END:VEVENT
BEGIN:VTIMEZONE
TZID:Europe/Rome
X-LIC-LOCATION:Europe/Rome
BEGIN:DAYLIGHT
DTSTART:20250330T030000
TZOFFSETFROM:+0100
TZOFFSETTO:+0200
TZNAME:CEST
END:DAYLIGHT
END:VTIMEZONE
END:VCALENDAR