BEGIN:VCALENDAR
VERSION:2.0
PRODID:-//wp-events-plugin.com//7.2.3.1//EN
TZID:Europe/Rome
X-WR-TIMEZONE:Europe/Rome
BEGIN:VEVENT
UID:44261@lazioeventi.com
DTSTART;TZID=Europe/Rome:20260418T170000
DTEND;TZID=Europe/Rome:20260418T190000
DTSTAMP:20260417T070236Z
URL:https://lazioeventi.com/eventi/presentazione-del-libro-civico-22-di-ro
 ssana-carturan
SUMMARY:Presentazione del libro Civico 22 di Rossana Carturan - Latina - 18
  Aprile 26 17:00
DESCRIPTION:Rossana Carturan presenta il romanzo Civico 22 presso la Galler
 ia OmniArt Open Gallery di Latina \n\nPresentazione di un condominio fuori
  dal tempo. Un omaggio ai grandi del Novecento negli spazi della OmniArt O
 pen Gallery di Latina.\n\nLATINA\, Sabato 18 aprile 2026\, dalle ore 17:00
  alle 19:00\, la sala della Galleria OmniArt Open Gallery di Latina (Via L
 egnano 65) farà da cornice alla presentazione di Civico 22 (Edizioni All 
 Around)\, il suggestivo romanzo della scrittrice Rossana Carturan. Un appu
 ntamento a ingresso gratuito\, parte del progetto Pomeriggi culturali Imme
 rsi nell’arte\, che fa dialogare la letteratura con lo spazio dell'arte 
 contemporanea.\n\nCivico 22 non è un semplice indirizzo\, ma un esperimen
 to narrativo e un omaggio ai grandi intelletti dell'era moderna. Il romanz
 o è ambientato in un condominio abitato da inquilini d'eccezione: Jack Ke
 rouac\, Josè Saramago\, Pier Paolo Pasolini e Susanna Colussi\, Margherit
 a Hack\, Angela Giussani\, Renata Tebaldi e Vasilij Nikitič Mitrochin. Ac
 compagnati nella loro quotidianità da Virgilio\, il portinaio dello stabi
 le\, e dalle vivaci incursioni di sua nipote Beatrice\, queste icone della
  cultura si confrontano con le piccole e grandi difficoltà della conviven
 za. In una dimensione temporale volutamente anacronistica e sospesa\, l'au
 trice delizia il lettore mettendo in scena l'operato\, il valore e le frag
 ilità umane di figure che hanno segnato in modo indelebile la storia inte
 llettuale e sociale del secolo scorso e di quello attuale.\n\nL'Autrice: R
 ossana Carturan\n\nÈ nata a Torino nel 1966 ed è residente a Latina. Scr
 ittrice e docente di “Corsi di scrittura creativa”.\n\nPubblicazioni: 
 Sangue di Rapa (Racconti\, Fusta Editore\, 2006)\; Quando le volpi si spos
 ano (Romanzo\, Navarra Editore\, 2010 - finalista Premio Carver 2011)\; Ad
 ele (Romanzo\, Caracò Editore\, 2015 - premio 2016 alla Produzione letter
 aria italiana dall’Accademia Internazionale Francesco Petrarca - conside
 rato tra i dieci libri più belli del 2015 per la rivista e agenzia letter
 aria “Sul Romanzo”)\; Ognuno finisce come può (Racconti\, Ed. Il seme
  bianco\, 2017). Per le Edizioni All Around i romanzi: La Gemella sbagliat
 a (2019)\; Marinella (2020)\; La Fabbrica (2021)\; Civico 22 (2022)\; Le r
 agazze del turno (2025).\n\nDa oltre un decennio\, Carturan si dedica con 
 passione all'insegnamento della scrittura creativa\, organizzando corsi pe
 r adulti e bambini. Proprio da queste fucine creative sono nate\, tra il 2
 020 e il 2026\, antologie di successo come l'ultima\, Non chiamatelo amore
  (Edizioni Smasher\, 2026). Nel 2021\, consolidando il suo impegno sul ter
 ritorio\, ha fondato con i suoi studenti il gruppo Collettivo Creativo Lat
 ina\, con l'obiettivo di promuovere e valorizzare la cultura nella provinc
 ia pontina.\n\nInformazioni\n\nSede: Galleria OmniArt Open Gallery – via
  Legnano 65\, Latina\nPeriodo: 18 aprile 2026\nOrario: dalle 17:00 alle 19
 :00.\nIngresso: gratuito\nOrganizzazione: OmniArt Open Gallery – Via Leg
 nano 65\, 04100 Latina\nTelefono: 3200417020
ATTACH;FMTTYPE=image/jpeg:https://lazioeventi.com/wp-content/uploads/2026/
 04/copertina-civico-22.jpg
CATEGORIES:Arte e Cultura nel Lazio
LOCATION:Latina\, Comune di Latina\, Latina\, Latina\, Lazio\, Italia
GEO:41.4674;12.9034
X-APPLE-STRUCTURED-LOCATION;VALUE=URI;X-ADDRESS=Comune di Latina\, Latina\,
  Latina\, Lazio\, Italia;X-APPLE-RADIUS=100;X-TITLE=Latina:geo:41.4674,12.
 9034
END:VEVENT
BEGIN:VTIMEZONE
TZID:Europe/Rome
X-LIC-LOCATION:Europe/Rome
BEGIN:DAYLIGHT
DTSTART:20260329T030000
TZOFFSETFROM:+0100
TZOFFSETTO:+0200
TZNAME:CEST
END:DAYLIGHT
END:VTIMEZONE
END:VCALENDAR