BEGIN:VCALENDAR
VERSION:2.0
PRODID:-//wp-events-plugin.com//7.2.3.1//EN
TZID:Europe/Rome
X-WR-TIMEZONE:Europe/Rome
BEGIN:VEVENT
UID:40889@lazioeventi.com
DTSTART;TZID=Europe/Rome:20250315T173000
DTEND;TZID=Europe/Rome:20250315T193000
DTSTAMP:20250306T110504Z
URL:https://lazioeventi.com/eventi/presentazione-del-libro-la-citta-del-so
 le
SUMMARY:Presentazione del libro "La Città del Sole" - Viterbo - 15 Marzo 2
 5 17:30
DESCRIPTION:Presentazione del Romanzo La Città del Sole\n\ndi Salvatore En
 rico Anselmi\n\n&nbsp\;\n\nSabato 15 Marzo\, Ore 17.30\n\nLibreria dei Sal
 ici-Piazza San Faustino 3\, Viterbo\n\n&nbsp\;\n\nDialogano con l’autore
 \n\nLuciana Vergaro\, Docente e Saggista\n\nLuciano Dottarelli\, Filosofo 
 e Docente\n\n&nbsp\;\n\nLo storico dell’arte e scrittore viterbese Salva
 tore Enrico Anselmi presenta il suo nuovo romanzo La Città del Sole\, Eff
 igi Edizioni\, (2025)\, sabato 15 marzo\, alle ore 17.30\, presso la Libre
 ria dei Salici\, in piazza San Faustino 3\, a Viterbo.\n\nDialogano con l
 ’autore due intellettuali noti al grande pubblico: Luciana Vergaro\, doc
 ente e saggista\, Luciano Dottarelli\, filosofo e docente.\n\nIl testo\, s
 egnalato dalla Società Dante Alighieri e in concorso alla 63° edizione d
 el Premio Campiello\, ha già conquistato l’apprezzamento del pubblico e
  della critica per l’originalità del tema e per lo stile narrativo che 
 caratterizza le pubblicazioni di Anselmi qui alle prese con un avvincente 
 romanzo storico dalle tinte noir che si svolge nel Settecento in una non m
 eglio identificata città bianca dell’Italia Meridionale.\n\n&nbsp\;
ATTACH;FMTTYPE=image/jpeg:https://lazioeventi.com/wp-content/uploads/2025/
 03/COPERTINA.jpg
CATEGORIES:Arte e Cultura nel Lazio
LOCATION:Viterbo\, Comune\, Viterbo\, Viterbo\, Lazio\, Italia
GEO:42.417;12.1051
X-APPLE-STRUCTURED-LOCATION;VALUE=URI;X-ADDRESS=Comune\, Viterbo\, Viterbo\
 , Lazio\, Italia;X-APPLE-RADIUS=100;X-TITLE=Viterbo:geo:42.417,12.1051
END:VEVENT
BEGIN:VTIMEZONE
TZID:Europe/Rome
X-LIC-LOCATION:Europe/Rome
BEGIN:STANDARD
DTSTART:20241027T020000
TZOFFSETFROM:+0200
TZOFFSETTO:+0100
TZNAME:CET
END:STANDARD
END:VTIMEZONE
END:VCALENDAR