BEGIN:VCALENDAR
VERSION:2.0
PRODID:-//wp-events-plugin.com//7.2.3.1//EN
TZID:Europe/Rome
X-WR-TIMEZONE:Europe/Rome
BEGIN:VEVENT
UID:35695@lazioeventi.com
DTSTART;TZID=Europe/Rome:20230614T183000
DTEND;TZID=Europe/Rome:20230614T193000
DTSTAMP:20230601T141613Z
URL:https://lazioeventi.com/eventi/presentazione-del-libro-la-spoon-river-
 dei-braccianti
SUMMARY:Presentazione del libro La Spoon River dei braccianti - Roma - 14 G
 iugno 23 18:30
DESCRIPTION:Nella sua introduzione al libro\, Mangano ci ricorda che "quest
 o continuo martellamento\, nelle dichiarazioni e nei provvedimenti che han
 no reso difficile la vita ai migranti\, è diventato un senso comune capac
 e di legittimare gli atti di razzismo dei comuni cittadini. Dall'insulto a
 lle fucilate".\n\nIl recente dlgs del marzo 2023 n.20\, convertito con mod
 ificazioni nella L.50 del 5 maggio 2023\, a colpi di abrogazioni e nuove i
 ntroduzioni\, inasprisce le pratiche aggressive contro i migranti\, attrav
 erso la burocrazia prevista per l'accesso alle procedure di richiesta di a
 silo e la precarietà delle condizioni lavorative e dell'accoglienza.\n\nL
 a precisione con cui Mangano descrive i contesti politici e sociali che ha
 nno favorito contro la comunità migrante pessime pratiche\, abusi e omici
 di\, renderà interessante il raffronto con la situazione che il Decreto C
 utro ha oggi predisposto.\n\nInsieme all'Autore\, interverranno Yasmine Ac
 cardo della Campagna LasciateCIEntrare e Federica Nunzi presidente dell'As
 s.ColtivAzione\n\n#librinecessari #librerieindipendenti #librerieroma #ant
 onellomangano #spoonriverdeibraccianti #antologiadispoonriver #meltemi #me
 ltemieditore #presentazionelibro #yasmineaccardo #federicanunzi #lasciatec
 ientrare #associazionecoltivazione #migranti #braccianti #schiavismo #neoc
 olonialismo #decretocutro #incontri #incontriroma
ATTACH;FMTTYPE=image/jpeg:https://lazioeventi.com/wp-content/uploads/2023/
 06/cover-spoon.jpg
CATEGORIES:Arte e Cultura nel Lazio
LOCATION:Roma\, Via Leopardi\, Roma\, Roma\, Lazio\, Italia
GEO:41.8942;12.5017
X-APPLE-STRUCTURED-LOCATION;VALUE=URI;X-ADDRESS=Via Leopardi\, Roma\, Roma\
 , Lazio\, Italia;X-APPLE-RADIUS=100;X-TITLE=Roma:geo:41.8942,12.5017
END:VEVENT
BEGIN:VTIMEZONE
TZID:Europe/Rome
X-LIC-LOCATION:Europe/Rome
BEGIN:DAYLIGHT
DTSTART:20230326T030000
TZOFFSETFROM:+0100
TZOFFSETTO:+0200
TZNAME:CEST
END:DAYLIGHT
END:VTIMEZONE
END:VCALENDAR