BEGIN:VCALENDAR
VERSION:2.0
PRODID:-//wp-events-plugin.com//7.2.3.1//EN
TZID:Europe/Rome
X-WR-TIMEZONE:Europe/Rome
BEGIN:VEVENT
UID:32148@lazioeventi.com
DTSTART;TZID=Europe/Rome:20220903T180000
DTEND;TZID=Europe/Rome:20220903T200000
DTSTAMP:20220901T174044Z
URL:https://lazioeventi.com/eventi/presentazione-del-perduto-amore
SUMMARY:Presentazione "Del Perduto Amore" - Carpineto Romano - 3 Settembre 
 22 18:00
DESCRIPTION:Il libro dedicato a Lisa Briganti verrà presentato\, sabato 3 
 settembre alle 18\, a Carpineto Romano\, nella Piazza Cardinal Giuseppe Pe
 cci (Jo Sedio) \nÈ un libro\, pubblicato dalle Nuove Edizioni Aldine di B
 evagna\, dedicato a Lisa Briganti\, la ragazza scomparsa due anni fa: s'in
 titola “Del Perduto Amore”\, mentre il sottotitolo recita: “Versi pe
 r l'anima nel ricordo di Lisa”. Contiene infatti le poesie scritte per l
 ei dal padre\, Quirino\, dalla cugina Diletta Campagna e da amici e conosc
 enti. Verrà presentato\, sabato 3 settembre alle 18\, a Carpineto Romano\
 , nella Piazza Cardinal Giuseppe Pecci (Jo Sedio). \n\nInterverranno: oltr
 e a tutti gli autori\, Giorgia Briganti\, presidente dell'Associazione “
 Mondo Futuro”\, il poeta Antonio Veneziani\, e lo scrittore Italo Campag
 na. \nModererà l'incontro Roberto Campagna\, giornalista e scrittore. Nel
  corso della presentazione verranno declamate alcune poesie contenute nel 
 libro dagli attori Orazio Mercuri\, Fiammetta Mancini e Pierluigi Polisena
 . La lettura verrà accompagnata dalla chitarra di Andrea Del Monte. In pr
 ogramma anche un intermezzo di musica jazz con Claudio Tomei (sax/tenore)\
 , Laura Lidano (voce)\, Tonino Di Blagio (tastiera). Infine\, a margine de
 lla presentazione verrà allestita una piccola mostra dei dipinti di Tizia
 na Mastromatteo con i quali è stato illustrato lo stesso libro. \n\nIn pa
 rticolare\, il libro affronta\, in chiave poetica\, il tema della perdita.
  Un percorso letterario attraverso i ricordi\, le emozioni e i sentimenti 
 che riempiono di contenuti le composizioni poetiche dedicata a Lisa. Come 
 si può mitigare il dolore dell'anima quando tutto ti crolla addosso? Scri
 ve Quirino Briganti nella nota introduttiva: “Questo evento drammatico\,
  che ci pone di fronte al senso della vita e della morte\, ci costringe a 
 meditare sul nostro vissuto e sulla nostra percezione della realtà. \n\nT
 utto inizialmente ci appare diverso\, confuso e siamo tentati di aggrappar
 ci ai frammenti di ricordi che solo ora assumano un nuovo significato\, pi
 ù compiuto\, più definito. Siamo spinti a rileggere la nostra vita in un
 a continua ricerca di noi stessi in relazione alla persona perduta. Muta p
 ersino la percezione sul senso stesso della vita. Questo complesso process
 o introspettivo ci trasforma facendoci scoprire quali sono le vere priorit
 à\, le cose davvero essenziali nella nostra esistenza”. Lisa aveva sedi
 ci anni e mezzo al momento della sua prematura scomparsa\, avvenuta a Carp
 ineto Romano il 28 agosto del 202. \nLei aveva lo sguardo proiettato al fu
 turo perché credeva nella potenza e nella bellezza dei suoi sogni. \nDesi
 dera un Pianeta pulito\, non poteva immaginare il mondo devastato dall'imp
 atto del cambiamento climatico sugli ecosistemi\, sulle foreste e sull'int
 era biodiversità della Terra. Amava la\nlettura\, la musica\, il volley e
  aveva a cuore l'amicizia vera. Antonio Veneziani\, nella prefazione\, ha 
 definito i versi “Del Perduto Amore”\, “belli\, intensi\, profondi e
  stracolmi di amore e di tenerezza” e i disegni di Tiziana Mastromatteo\
 , la mamma di Lisa\, “solari\, quasi giocosi”. \n\nDa precisare che l
 ’intero ricavato dalla vendita del libro andrà devoluto all’Associazi
 one “Mondo Futuro” per i progetti di promozione della sostenibilità a
 mbientale.\n
ATTACH;FMTTYPE=image/jpeg:https://lazioeventi.com/wp-content/uploads/2022/
 09/del-perduto-amore.jpg
CATEGORIES:Arte e Cultura nel Lazio,Varie
LOCATION:Carpineto Romano\, Comune\, Carpineto Romano\, Roma\, Lazio\, Ital
 ia
GEO:41.6045;13.0853
X-APPLE-STRUCTURED-LOCATION;VALUE=URI;X-ADDRESS=Comune\, Carpineto Romano\,
  Roma\, Lazio\, Italia;X-APPLE-RADIUS=100;X-TITLE=Carpineto Romano:geo:41.
 6045,13.0853
END:VEVENT
BEGIN:VTIMEZONE
TZID:Europe/Rome
X-LIC-LOCATION:Europe/Rome
BEGIN:DAYLIGHT
DTSTART:20220327T030000
TZOFFSETFROM:+0100
TZOFFSETTO:+0200
TZNAME:CEST
END:DAYLIGHT
END:VTIMEZONE
END:VCALENDAR