BEGIN:VCALENDAR
VERSION:2.0
PRODID:-//wp-events-plugin.com//7.2.3.1//EN
TZID:Europe/Rome
X-WR-TIMEZONE:Europe/Rome
BEGIN:VEVENT
UID:30283@lazioeventi.com
DTSTART;TZID=Europe/Rome:20220402T183000
DTEND;TZID=Europe/Rome:20220402T200000
DTSTAMP:20220330T094456Z
URL:https://lazioeventi.com/eventi/presentazione-di-io-sono-io
SUMMARY:Presentazione di "Io sono Io" - Roma - 2 Aprile 22 18:30
DESCRIPTION:Sabato 2 aprile alle ore 18.30 – presso la nostra sede in Via
  Costanzo Cloro 58\, Roma – presenteremo il libro “Io sono Io”\, ins
 ieme all’autrice Cinzia Messina e alla figlia Greta. Modera l’incontro
  il fotografo Fausto Podavini\, che per l’occasione proietterà una sele
 zione del lavoro – tutt’ora on going – su Greta.\n\n“Io sono io”
  non potrà né dirsi un romanzo né un saggio. Forse potremmo definirlo u
 n libro di avventure\, per quanto nulla abbia a che fare con praterie e fo
 reste\, castelli incantati o viaggi nell’infinito. Qui si racconta infat
 ti un’avventura reale e umanissima e se in essa il protagonista è un’
 eroina\, si tratta tuttavia di una persona reale\, fatta di carne\, di fra
 gilità ed emozioni\, il cui campo di battaglia non è l’orizzonte infin
 ito dell’immaginario bensì la vita assunta sia nella quotidianità\, si
 a nei suoi significati assoluti. L’eroina si chiama Greta ed è una giov
 anissima ragazza transgender la cui storia è raccontata da Cinzia\, sua m
 adre\, in minute ricostruzioni di giorni e sentimenti\, emozioni e progett
 i.\nIl libro è scritto con la collaborazione di Francesca Mazzoni e con l
 e illustrazioni di Tatiana Rodolfi.\n\n“Io sono io” è quindi\, nello 
 stesso tempo\, testimonianza e “diario di viaggio”\, ricco del sapore 
 agrodolce cui diamo il nome di vita\, ma senza mai cedere al pietismo\, al
 le consolazioni o all’autocompiacimento: racconta i fatti\, presentandol
 i addirittura\, non di rado\, attraverso il filtro dell’ironia.\n\nLa pa
 rtecipazione all’evento è gratuita.\n\nNel rispetto della normativa vig
 ente\, per partecipare all’incontro in sede i posti sono limitati ed è 
 richiesto il Green Pass rafforzato e l’uso della mascherina.\n\nPer info
 rmazioni: info@collettivowsp.org – tel/ WhatsApp: 328 1795463
ATTACH;FMTTYPE=image/jpeg:https://lazioeventi.com/wp-content/uploads/2022/
 03/presentazione-libro-cinzia.jpg
CATEGORIES:Arte e Cultura nel Lazio
LOCATION:Roma\, Via Leopardi\, Roma\, Roma\, Lazio\, Italia
GEO:41.8942;12.5017
X-APPLE-STRUCTURED-LOCATION;VALUE=URI;X-ADDRESS=Via Leopardi\, Roma\, Roma\
 , Lazio\, Italia;X-APPLE-RADIUS=100;X-TITLE=Roma:geo:41.8942,12.5017
END:VEVENT
BEGIN:VTIMEZONE
TZID:Europe/Rome
X-LIC-LOCATION:Europe/Rome
BEGIN:DAYLIGHT
DTSTART:20220327T030000
TZOFFSETFROM:+0100
TZOFFSETTO:+0200
TZNAME:CEST
END:DAYLIGHT
END:VTIMEZONE
END:VCALENDAR