BEGIN:VCALENDAR
VERSION:2.0
PRODID:-//wp-events-plugin.com//7.2.3.1//EN
TZID:Europe/Rome
X-WR-TIMEZONE:Europe/Rome
BEGIN:VEVENT
UID:44290@lazioeventi.com
DTSTART;TZID=Europe/Rome:20260428T180000
DTEND;TZID=Europe/Rome:20260428T200000
DTSTAMP:20260423T061926Z
URL:https://lazioeventi.com/eventi/presentazione-innovation-city-di-robert
 o-panzarani
SUMMARY:Presentazione Innovation City di Roberto Panzarani - Roma - 28 Apri
 le 26 18:00
DESCRIPTION:Il 28 aprile alle ore 18:00 presso la Sala del Carroccio\, in 
 Campidoglio\, alla presentazione del nuovo libro di Roberto Panzarani Inno
 vation City (Palinsesto edizioni)\n\nSaranno presenti la consigliera di Ro
 ma Capitale Antonella Melito\, il consigliere di Roma Capitale Riccardo Co
 rbucci\, Leonardo Aglieri Presidente della Consulta Smart City di Roma Cap
 itale\, Paolo Acunzo presidente della Consulta Europa di Roma Capitale e C
 esare Spanò Partner-fondatore Capital Venture Consulting S.r.l.\nModera M
 ichele Franzese Founder Future Week® e direzione creativa SCAI Comunicaz
 ione ed eventi.\n\nL'evento rientrerà nei Rome Future Days di Rome Future
  Week®\n\nIngresso libero con prenotazione a elena.sbaraglia76@gmail.com
 \n\nL'accesso alla Sala è dalle 17:30
ATTACH;FMTTYPE=image/jpeg:https://lazioeventi.com/wp-content/uploads/2026/
 04/locandina-28-aprile-Innovation-City.jpg
CATEGORIES:Varie
LOCATION:Roma\, Via Leopardi\, Roma\, Roma\, Lazio\, Italia
GEO:41.8942;12.5017
X-APPLE-STRUCTURED-LOCATION;VALUE=URI;X-ADDRESS=Via Leopardi\, Roma\, Roma\
 , Lazio\, Italia;X-APPLE-RADIUS=100;X-TITLE=Roma:geo:41.8942,12.5017
END:VEVENT
BEGIN:VTIMEZONE
TZID:Europe/Rome
X-LIC-LOCATION:Europe/Rome
BEGIN:DAYLIGHT
DTSTART:20260329T030000
TZOFFSETFROM:+0100
TZOFFSETTO:+0200
TZNAME:CEST
END:DAYLIGHT
END:VTIMEZONE
END:VCALENDAR