BEGIN:VCALENDAR
VERSION:2.0
PRODID:-//wp-events-plugin.com//7.2.3.1//EN
TZID:Europe/Rome
X-WR-TIMEZONE:Europe/Rome
BEGIN:VEVENT
UID:39057@lazioeventi.com
DTSTART;TZID=Europe/Rome:20240508T163000
DTEND;TZID=Europe/Rome:20240508T190000
DTSTAMP:20240430T170332Z
URL:https://lazioeventi.com/eventi/presentazione-libri-ad-ariccia
SUMMARY:Presentazione Libri ad Ariccia - Ariccia - 8 Maggio 24 16:30
DESCRIPTION:Mercoledì 8 maggio 2024\, presso la prestigiosa sede di Palazz
 o Chigi\, Sala Bariatinksy\, a partire dalle ore 16:30\, si svolgerà la p
 resentazione di due interessanti contributi.  \n\nL’evento è stato patr
 ocinato dalla Città di  Ariccia\, dal Parco Regionale dei Castelli Romani
  e dal Sistema Bibliotecario dei Castelli Romani. \n\nLa prima proposta "L
 e storie figurate di Ippolito Virbio e Diana" (Annali 2023 – dell’Arch
 eoclub Aricino Nemorense aps) a cura di Alberto Silvestri\, storico delle 
 antichità romane e archeologo\, riguarda un approfondimento sul ciclo pit
 torico della Locanda Martorelli. Gli Annali dell’Archeoclub Aricino Nemo
 rense aps costituiscono un compendio degli studi condotti da Alberto Silve
 stri e Maria Cristina Vincenti funzionali all’attuazione del progetto 
 “Locanda Martorelli - Museo del Grand Tour”\, portato avanti progressi
 vamente nel tempo dall’Associazione con la pubblicazione di contributi a
  tema e la realizzazione nel 2019 della musealizzazione degli ambienti adi
 acenti alla “sala del Kuntze” tramite pannelli didattico-illustrativi 
 sulle “antichità di Aricia” e focus sull’Appia Antica\, testimonian
 ze e ritratti degli illustri frequentatori del prestigioso stabile. Sin da
  subito una peculiare attenzione è stata rivolta\, naturalmente\, allo st
 udio delle rappresentazioni murarie settecentesche incentrate sulle memori
 e  mitologiche e storiche della città di Ariccia. \n\nNe "Le storie figur
 ate di Ippolito Virbio e Diana" si affronta una puntuale analisi che ha l
 ’obiettivo di individuare i modelli alla base del ciclo pittorico dedica
 to a Ippolito-Virbio e ad Artemide-Diana con il quale Tadeusz Kuntze\, seg
 uendo la tradizione aricina\, occupa quasi per intero le pareti della sala
 . \n\nIl secondo contributo "Ariccia a piedi" (edita dal Parco Regionale d
 ei Castelli Romani in occasione del Quarantennale dell’ente) è una guid
 a a cura di Maria Cristina Vincenti che propone un itinerario di trekking 
 ad anello dedicato ad Ariccia\,  includendo tutti i beni culturali e arche
 ologici della nota cittadina\, con informazioni riguardanti il dislivello\
 , la percorrenza\, l’accessibilità\, le vie di fuga\, la cartografia st
 orica e quella attuale. La Vincenti\, professionista nel campo archeologic
 o\, dottore di ricerca dell’Università di Roma Tor Vergata e guida Aiga
 e\, ha realizzato una sintesi efficace sulla sua città raccontandone la s
 toria antica\;  le peculiarità naturalistiche come quelle del Parco Chigi
 \, antico bosco sacro alla dea Diana e unico frammento superstite della se
 lva latina (nemus Aricinum)\; i beni culturali eccellenti come il Palazzo 
 Chigi\, la Chiesa di S. Maria Assunta e la Locanda Martorelli che affaccia
 no sulla berniniana Piazza di Corte. Una cospicua parte è dedicata al tra
 tto aricino della Via Appia Antica con delle schede che illustrano le nume
 rose vestigia che si conservano nelle aree archeologiche sulle quali spicc
 ano la monumentale “Sostruzione” e il percorso sotterraneo dell’emis
 sario del lago di Nemi. Non poteva mancare una rassegna sulle specie veget
 ali ed animali presenti nel territorio (tra cui due specie protette come i
 l rospo smeraldino e la salamandrina dagli occhiali). \n\nL’itinerario s
 arà proposto domenica 12 maggio mattina nell’ambito dell'escursione gui
 data "Ariccia a piedi" promossa dal Parco Regionale dei Castelli Romani. \
 nEntrambi i contenuti in oggetto rivestono importanza per la valorizzazion
 e del territorio di Ariccia in continuità con il pluriennale lavoro svolt
 o dai vertici dell’Archeoclub Aricino Nemorense aps. \n\nInterverranno:\
 nGianluca Staccoli\, Sindaco della Città di Ariccia \nAnita Luciano\, Con
 sigliere alle Associazioni\nIrene Falcone\, Consigliere alla Pubblica Istr
 uzione\nEmanuela Angelone\, Direttrice del Parco Regionale dei Castelli Ro
 mani \nGiuseppe De Righi\, Presidente del Sistema bibliotecario dei Castel
 li Romani\nGli autori: Alberto Silvestri e Maria Cristina Vincenti\n  \n
 Necessaria Prenotazione ai seguenti contatti\n (fino ad esaurimento posti)
 :\narcheoclubaricia@alice.it\; archeoclubaricinonemorense@gmail.com\; tel.
  388/3636502 (whatsapp)
ATTACH;FMTTYPE=image/jpeg:https://lazioeventi.com/wp-content/uploads/2024/
 04/Locandina-8-maggio-Ariccia-def.jpg
CATEGORIES:Arte e Cultura nel Lazio
LOCATION:Ariccia\, Comune\, Ariccia\, Roma\, Lazio\, Italia
GEO:41.72;12.671
X-APPLE-STRUCTURED-LOCATION;VALUE=URI;X-ADDRESS=Comune\, Ariccia\, Roma\, L
 azio\, Italia;X-APPLE-RADIUS=100;X-TITLE=Ariccia:geo:41.72,12.671
END:VEVENT
BEGIN:VTIMEZONE
TZID:Europe/Rome
X-LIC-LOCATION:Europe/Rome
BEGIN:DAYLIGHT
DTSTART:20240331T030000
TZOFFSETFROM:+0100
TZOFFSETTO:+0200
TZNAME:CEST
END:DAYLIGHT
END:VTIMEZONE
END:VCALENDAR