BEGIN:VCALENDAR
VERSION:2.0
PRODID:-//wp-events-plugin.com//7.2.3.1//EN
TZID:Europe/Rome
X-WR-TIMEZONE:Europe/Rome
BEGIN:VEVENT
UID:33115@lazioeventi.com
DTSTART;TZID=Europe/Rome:20221120T180000
DTEND;TZID=Europe/Rome:20221120T200000
DTSTAMP:20221117T161138Z
URL:https://lazioeventi.com/eventi/presentazione-libro-copula-mundi
SUMMARY:Presentazione libro “Copula Mundi” - Sezze - 20 Novembre 22 18:
 00
DESCRIPTION:Presentazione del libro “Copula Mundi” di Carlo Miccio\, di
 aloga con l’autore Titta Ceccano.\n\nDomenica 20 Novembre 2022 alle ore 
 18:00 presso MAT spazio_teatro.
ATTACH;FMTTYPE=image/jpeg:https://lazioeventi.com/wp-content/uploads/2022/
 11/matuta-20novembre.jpg
CATEGORIES:Arte e Cultura nel Lazio
LOCATION:Sezze\, Comune di Sezze\, Sezze\, Latina\, Lazio\, Italia
GEO:41.4986;13.0589
X-APPLE-STRUCTURED-LOCATION;VALUE=URI;X-ADDRESS=Comune di Sezze\, Sezze\, L
 atina\, Lazio\, Italia;X-APPLE-RADIUS=100;X-TITLE=Sezze:geo:41.4986,13.058
 9
END:VEVENT
BEGIN:VTIMEZONE
TZID:Europe/Rome
X-LIC-LOCATION:Europe/Rome
BEGIN:STANDARD
DTSTART:20221030T020000
TZOFFSETFROM:+0200
TZOFFSETTO:+0100
TZNAME:CET
END:STANDARD
END:VTIMEZONE
END:VCALENDAR