BEGIN:VCALENDAR
VERSION:2.0
PRODID:-//wp-events-plugin.com//7.2.3.1//EN
TZID:Europe/Rome
X-WR-TIMEZONE:Europe/Rome
BEGIN:VEVENT
UID:38218@lazioeventi.com
DTSTART;TZID=Europe/Rome:20240120T170000
DTEND;TZID=Europe/Rome:20240120T190000
DTSTAMP:20240103T172703Z
URL:https://lazioeventi.com/eventi/presentazione-teatralizzata
SUMMARY:Presentazione Teatralizzata - Tivoli - 20 Gennaio 24 17:00
DESCRIPTION:L'Associazione Momenti Musicali in collaborazione con Uno Studi
 on in Holmes APS\, con il Patrocinio del Comune di Tivoli vi invita\, il 2
 0 gennaio alle 17.00 alla presentazione di due nuovi testi legati alla fig
 ura di Sherlock Holmes: il saggio Intermezzo Asolano Wilma e Ludwig Norman
  Neruda ad Asolo di Vera Mazzotta e Alvise Bruschi che\, con una paziente 
 ricerca di archivio di cui presentano in calce la documentazione originale
 \, ricostruiscono la permanenza dell'alpinista Ludwig N.Neruda e di sua ma
 dre\, la nota violinista vittoriana amata dal Detective e dal suo creatore
 \, Conan Doyle\, ad Asolo non senza colpi di scena\; il secondo una raccol
 ta di apocrifi holmesiani All'Ombra di Sherlock Holmes.Le avventure di Mar
 y Morstan Watson che vedono come protagonista la giovane moglie del Dott.W
 atson\, nati dalla collaborazione tra Enrico Solito\, Stefano e Gian Luca 
 Guerra e Mauro Castellini.\n\nOspiti del pomeriggio...Wilma Neruda\, Sherl
 ock Holmes e il Dott.Watson introdotti da Enrico Solito\, Marco Grassi e A
 ntonio Capitano.Da non perdere per curiosità o una srmplice foto d'altri 
 tempi!
ATTACH;FMTTYPE=image/jpeg:https://lazioeventi.com/wp-content/uploads/2024/
 01/FB_IMG_1704201686580.jpg
CATEGORIES:Arte e Cultura nel Lazio
LOCATION:Tivoli\, Comune\, Tivoli\, Roma\, Lazio\, Italia
GEO:41.9639;12.7985
X-APPLE-STRUCTURED-LOCATION;VALUE=URI;X-ADDRESS=Comune\, Tivoli\, Roma\, La
 zio\, Italia;X-APPLE-RADIUS=100;X-TITLE=Tivoli:geo:41.9639,12.7985
END:VEVENT
BEGIN:VTIMEZONE
TZID:Europe/Rome
X-LIC-LOCATION:Europe/Rome
BEGIN:STANDARD
DTSTART:20231029T020000
TZOFFSETFROM:+0200
TZOFFSETTO:+0100
TZNAME:CET
END:STANDARD
END:VTIMEZONE
END:VCALENDAR