BEGIN:VCALENDAR
VERSION:2.0
PRODID:-//wp-events-plugin.com//7.2.3.1//EN
TZID:Europe/Rome
X-WR-TIMEZONE:Europe/Rome
BEGIN:VEVENT
UID:37518@lazioeventi.com
DTSTART;TZID=Europe/Rome:20241226T173000
DTEND;TZID=Europe/Rome:20241226T193000
DTSTAMP:20241014T192439Z
URL:https://lazioeventi.com/eventi/presepe-vivente-a-bolsena
SUMMARY:Presepe Vivente a Bolsena - Bolsena - 26 Dicembre 24 17:30
DESCRIPTION:Bolsena\, gemma d’Europa per “Forbes”\, è pronta a riviv
 ere a Natale la magia del presepe vivente. Il dedalo di viuzze e piazzette
  del quartiere medievale Castello sarà\, come da tradizione\, la suggesti
 va cornice della rievocazione organizzata dall’associazione La corte dei
  miracoli\, in collaborazione con l’Amministrazione comunale. \n\nL’ot
 tava edizione della rappresentazione si terrà il 26 dicembre\, l’1 e il
  5 gennaio 2025. Su un percorso di 700 metri\, con più di 200 figuranti\,
  prenderanno forma e vita scene di vita popolare al tempo della nascita di
  Gesù: dall’accampamento della legione romana al grande mercato\, dal p
 alazzo del censimento al lebbrosario\, fino alla Natività. \n\nLo scorso 
 anno erano state oltre 6mila le presenze nelle tre date\, tanto da rendere
  il presepe vivente della cittadina che dà il nome al lago vulcanico più
  grande del Vecchio Continente uno dei più significativi e apprezzati del
  Lazio. Per rimanere aggiornati è possibile seguire la pagina Facebook 
 “Presepe Vivente Bolsena” o l’account Instagram “bolsenapresepeviv
 ente”. \n\n2mila candele e fiaccole illumineranno il percorso del presep
 e vivente di Bolsena\nI vicoli e le cantine del quartiere medievale Castel
 lo saranno rischiarati da lumi e torce che renderanno ancora più affascin
 ante il percorso della rappresentazione. Angoli e scorci del cuore più an
 tico di Bolsena e i quadri animati che compongono la rievocazione saranno 
 immersi in un’atmosfera quasi magica e il visitatore potrà tornare indi
 etro nel tempo e immergersi nella vita quotidiana dell’antica Betlemme. 
 \n“Candele e fiaccole sono un elemento imprescindibile – affermano i v
 olontari dell’associazione La corte dei miracoli -\, perché integrano l
 ’illuminazione elettrica e donano suggestione al presepe\, con giochi di
  luce e ombre nelle scene\, all’interno delle cantine\, e nel dedalo di 
 viuzze del quartiere Castello”.\n
ATTACH;FMTTYPE=image/jpeg:https://lazioeventi.com/wp-content/uploads/2023/
 10/Locandina-presepe-vivente-di-Bolsena.jpeg
CATEGORIES:Sagre, Gastronomia e Tradizioni nel Lazio
LOCATION:Bolsena\, Comune di Bolsena\, Bolsena\, Viterbo\, Lazio\, Italia
GEO:42.6447;11.9877
X-APPLE-STRUCTURED-LOCATION;VALUE=URI;X-ADDRESS=Comune di Bolsena\, Bolsena
 \, Viterbo\, Lazio\, Italia;X-APPLE-RADIUS=100;X-TITLE=Bolsena:geo:42.6447
 ,11.9877
END:VEVENT
BEGIN:VTIMEZONE
TZID:Europe/Rome
X-LIC-LOCATION:Europe/Rome
BEGIN:STANDARD
DTSTART:20241027T020000
TZOFFSETFROM:+0200
TZOFFSETTO:+0100
TZNAME:CET
END:STANDARD
END:VTIMEZONE
END:VCALENDAR