BEGIN:VCALENDAR
VERSION:2.0
PRODID:-//wp-events-plugin.com//7.2.3.1//EN
TZID:Europe/Rome
X-WR-TIMEZONE:Europe/Rome
BEGIN:VEVENT
UID:43502@lazioeventi.com
DTSTART;TZID=Europe/Rome:20260104T170000
DTEND;TZID=Europe/Rome:20260105T190000
DTSTAMP:20251230T095103Z
URL:https://lazioeventi.com/eventi/presepe-vivente-a-montecelio
SUMMARY:Presepe Vivente a Montecelio - Guidonia Montecelio - 4 Gennaio 26 1
 7:00
DESCRIPTION:Domenica 4 e lunedì 5 gennaio l’Associazione Karol Wojtyla\,
  in collaborazione con la Parrocchia San Giovanni Evangelista\, organizza 
 la 26esima edizione del presepe vivente\, un evento che scalda il cuore e 
 illumina il borgo.\n\nDalle ore 17\,00 alle ore 19\,00 decine di figuranti
 \, tra adulti e bambini\, coordinati dal presidente dell’associazione 
 “Karol Wojtyla” Antonio Di Giovannantonio\, animeranno l’originale r
 icostruzione del Villaggio di Betlemme tra i vicoli del borgo medievale.\n
 \nIn un’atmosfera unica incantata da luci e suoni le cantine vengono tra
 sformate in botteghe artigiane\, dal falegname all’oste\, dal fornaio al
  calzolaio\, passando per quella delle stoffe\, della verdura\, della deco
 razione.\n\nScenari suggestivi\, musica\, profumi e momenti di condivision
 e che faranno vivere fino in fondo la bellezza del Natale.
ATTACH;FMTTYPE=image/jpeg:https://lazioeventi.com/wp-content/uploads/2025/
 12/OIP.webp
CATEGORIES:Sagre, Gastronomia e Tradizioni nel Lazio
LOCATION:Guidonia Montecelio\, Comune\, Guidonia Montecelio\, Roma\, Lazio\
 , Italia
GEO:42;12.7264
X-APPLE-STRUCTURED-LOCATION;VALUE=URI;X-ADDRESS=Comune\, Guidonia Monteceli
 o\, Roma\, Lazio\, Italia;X-APPLE-RADIUS=100;X-TITLE=Guidonia Montecelio:g
 eo:42,12.7264
END:VEVENT
BEGIN:VTIMEZONE
TZID:Europe/Rome
X-LIC-LOCATION:Europe/Rome
BEGIN:STANDARD
DTSTART:20251026T020000
TZOFFSETFROM:+0200
TZOFFSETTO:+0100
TZNAME:CET
END:STANDARD
END:VTIMEZONE
END:VCALENDAR