BEGIN:VCALENDAR
VERSION:2.0
PRODID:-//wp-events-plugin.com//7.2.3.1//EN
TZID:Europe/Rome
X-WR-TIMEZONE:Europe/Rome
BEGIN:VEVENT
UID:32717@lazioeventi.com
DTSTART;TZID=Europe/Rome:20230101T160000
DTEND;TZID=Europe/Rome:20230101T190000
DTSTAMP:20221017T101116Z
URL:https://lazioeventi.com/eventi/presepe-vivente-di-civita-di-bagnoregio
 -3
SUMMARY:Presepe Vivente di Civita di Bagnoregio - Bagnoregio - 1 Gennaio 23
  16:00
DESCRIPTION:Dopo due anni di fermo\, a causa della pandemia Covid-19\, torn
 a il Presepe Vivente di Civita di Bagnoregio. La rappresentazione tornerà
  a vivere\, dal tramonto\, nei giorni del 26 dicembre 2022 e nelle date de
 l 1\, 6\, 7 e 8 gennaio 2023.\n\nUn appuntamento unico nel suo genere\, ca
 pace di regalare emozioni e atmosfere davvero straordinarie. Il piccolo bo
 rgo\, sospeso sulla Valle dei Calanchi\, si prepara ad accogliere visitato
 ri che da ogni parte d’Italia decidono di trascorrere qualche giorno nel
  Viterbese richiamati dalla bellezza di un luogo senza tempo.\n\nLa Croce 
 Rossa Italiana di Bagnoregio e Lubriano\, che realizza storicamente l’in
 iziativa in collaborazione con il Comune di Bagnoregio e Casa Civita srl\,
  è già al lavoro per curare nei minimi dettagli l’organizzazione.\n\nP
 assaggio obbligato è l’iconico ponte\, sospeso nel vuoto e circondato d
 al panorama mozzafiato della Valle dei Calanchi. Quindi l’accesso all’
 antico paese\, costruito su uno sperono tufaceo\, e la sensazione viva di 
 essere andati indietro nel tempo.\n\nDieci scene diverse che\, come in un 
 mosaico\, ricostruiscono i giorni della nascita di Gesù. Il suq arabo\, i
 l castrum romano\, Erode\, le residenze nobiliari\, la tribù beduina\, gl
 i artigiani al lavoro\, i magi\, i pastori\, il lazzaretto e naturalmente 
 la Natività. Un intreccio di colori\, emozioni\, bellezza.
ATTACH;FMTTYPE=image/jpeg:https://lazioeventi.com/wp-content/uploads/2022/
 10/locandina-presepe-1.jpg
CATEGORIES:Varie,Musica, Spettacoli e Danza nel Lazio
LOCATION:Bagnoregio\, Comune di Bagnoregio\, Bagnoregio\, Viterbo\, Lazio\,
  Italia
GEO:42.6259;12.0986
X-APPLE-STRUCTURED-LOCATION;VALUE=URI;X-ADDRESS=Comune di Bagnoregio\, Bagn
 oregio\, Viterbo\, Lazio\, Italia;X-APPLE-RADIUS=100;X-TITLE=Bagnoregio:ge
 o:42.6259,12.0986
END:VEVENT
BEGIN:VTIMEZONE
TZID:Europe/Rome
X-LIC-LOCATION:Europe/Rome
BEGIN:STANDARD
DTSTART:20221030T020000
TZOFFSETFROM:+0200
TZOFFSETTO:+0100
TZNAME:CET
END:STANDARD
END:VTIMEZONE
END:VCALENDAR