BEGIN:VCALENDAR
VERSION:2.0
PRODID:-//wp-events-plugin.com//7.2.3.1//EN
TZID:Europe/Rome
X-WR-TIMEZONE:Europe/Rome
BEGIN:VEVENT
UID:29411@lazioeventi.com
DTSTART;TZID=Europe/Rome;VALUE=DATE:20211208
DTEND;TZID=Europe/Rome;VALUE=DATE:20220110
DTSTAMP:20211205T170048Z
URL:https://lazioeventi.com/eventi/presepi-a-valmontone
SUMMARY:Presepi a Valmontone - Collepardo - 8 Dicembre 21 00:00
DESCRIPTION:L’Associazione Turistica Pro Loco di Valmontone con il patroc
 inio della Città di Valmontone - Assessorato alla Cultura\, ed il contrib
 uto della Regione Lazio presenta in occasione delle prossime festività na
 talizie “Presepi a Valmontone”.\n\nLa tradizione del Presepio nella Ci
 ttà di Valmontone è molto apprezzata. Dal 1971 si realizza\, grazie all
 ’instancabile lavoro del Comitato Presepio Vivente\, presso il Convento 
 dei Frati Francescani nel prato adiacente oggi intitolato a Padre Annibale
  Mancini\, il Presepio Vivente che torna dopo un anno di stop causato dall
 a pandemia.\n\nCosì come la Mostra dei Presepi Artistici “Stefania Muzi
 ” giunta alla sua XXIIX Edizione che quest’anno sarà realizzata all
 ’interno del Salone delle Colonne di Palazzo Doria Pamphilj\, e la Mostr
 a di Arte Presepiale giunta alla sua VII Edizione\, realizzata presso il t
 eatro parrocchiale di Sant’Anna\, ideata e curata dal Laboratorio Presep
 istico Sant’Anna.\n\nInfine\, ma non per ultimo\, il piccolo ma al tempo
  stesso bellissimo e curatissimo in ogni piccolo dettaglio\, il Presepe Ar
 tistico in movimento\, giunto alla sua XXXII edizione\, realizzato dal Gru
 ppo Giovanile ’92 in Località San Giudico.\n\nA cornice si svolgeranno 
 nelle diverse Parrocchie della Città appuntamenti dedicati ai più piccol
 i\, con bolle di sapone\, spettacolo di burattini e con la straordinaria p
 artecipazione di Babbo Natale che regalerà palloncini e caramelle.\n\nNon
  poteva mancare il nostro appuntamento a sostegno della ricerca. Dopo le c
 ollaborazioni con Telefono Azzurro\, Unicef ed AISM\, la Pro Loco di Valmo
 ntone ha sposato per le festività natalizie il progetto della Fondazione 
 Telethon\, con la “Campagna di Natale” che ci vedrà impegnati nella v
 endita dei “CUORI DI CIOCCOLATO” al costo di 12 € cadauno\, a partir
 e dall’8 Dicembre. (L’intero ricavato sarà devoluto a Telethon).\n\nP
 er informazioni potete contattare lo 06.9591040\, consultare il nostro sit
 o www.prolocovalmontone.it\, o seguiteci sulle nostre pagine social.
ATTACH;FMTTYPE=image/jpeg:https://lazioeventi.com/wp-content/uploads/2021/
 12/presepi-valmontone.jpg
CATEGORIES:Musica, Spettacoli e Danza nel Lazio,Sport, Tempo Libero e
 Divertimento nel Lazio,Varie
LOCATION:Collepardo\, Comune di Collepardo\, Collepardo\, Frosinone\, Lazio
 \, Italia
GEO:41.7612;13.3676
X-APPLE-STRUCTURED-LOCATION;VALUE=URI;X-ADDRESS=Comune di Collepardo\, Coll
 epardo\, Frosinone\, Lazio\, Italia;X-APPLE-RADIUS=100;X-TITLE=Collepardo:
 geo:41.7612,13.3676
END:VEVENT
BEGIN:VTIMEZONE
TZID:Europe/Rome
X-LIC-LOCATION:Europe/Rome
BEGIN:STANDARD
DTSTART:20211031T020000
TZOFFSETFROM:+0200
TZOFFSETTO:+0100
TZNAME:CET
END:STANDARD
END:VTIMEZONE
END:VCALENDAR