BEGIN:VCALENDAR
VERSION:2.0
PRODID:-//wp-events-plugin.com//7.2.3.1//EN
TZID:Europe/Rome
X-WR-TIMEZONE:Europe/Rome
BEGIN:VEVENT
UID:33367@lazioeventi.com
DTSTART;TZID=Europe/Rome;VALUE=DATE:20231210
DTEND;TZID=Europe/Rome;VALUE=DATE:20231211
DTSTAMP:20231201T145833Z
URL:https://lazioeventi.com/eventi/presepi-da-gustare
SUMMARY:Presepi da Gustare - San Vito Romano - 10 Dicembre 23 00:00
DESCRIPTION:Concerti\, enogastronomia\, presepi e spettacoli comici a San V
 ito Romano\n\nRitorna\, con doppio appuntamento\, in una location “inedi
 ta” e addobbata a festa\, nel cuore del Centro Storico\, la manifestazio
 ne più attesa del Natale!\n\nUn programma che racconta le tradizioni di S
 an Vito Romano\, che parla di artigianato\, musica\, tipicità ma che fa a
 nche divertire.\nPensato per le famiglie\, per i bambini e che anima il ce
 ntro storico\, lo fa rivivere e lo veste a festa.\n\nLa partecipazione cal
 orosa di Associazioni Culturali\, Artigiani\, e Operatori Commerciali - sp
 iega il sindaco Maurizio Pasquali - consentirà di trasformare il nostro m
 eraviglioso centro storico in un luogo magico\, ricco di luci\, presepi\, 
 addobbi\, profumi\, sapori e tante attrazioni che i visitatori\, quasi in 
 una caccia al tesoro\, potranno scoprire girando per le sue vie e piazzett
 e.\nUno dei borghi più caratteristici e suggestivi dei Monti Prenestini s
 i prepara a vivere in grande il periodo delle feste con un cartellone di i
 niziative davvero interessante.
ATTACH;FMTTYPE=image/jpeg:https://lazioeventi.com/wp-content/uploads/2022/
 12/presepi-gustare-san-vito-romano.jpg
CATEGORIES:Arte e Cultura nel Lazio,Musica, Spettacoli e Danza nel
 Lazio,Sagre, Gastronomia e Tradizioni nel Lazio
LOCATION:San Vito Romano\, Comune\, San Vito Romano\, Roma\, Lazio\, Italia
GEO:41.8827;12.982
X-APPLE-STRUCTURED-LOCATION;VALUE=URI;X-ADDRESS=Comune\, San Vito Romano\, 
 Roma\, Lazio\, Italia;X-APPLE-RADIUS=100;X-TITLE=San Vito Romano:geo:41.88
 27,12.982
END:VEVENT
BEGIN:VTIMEZONE
TZID:Europe/Rome
X-LIC-LOCATION:Europe/Rome
BEGIN:STANDARD
DTSTART:20231029T020000
TZOFFSETFROM:+0200
TZOFFSETTO:+0100
TZNAME:CET
END:STANDARD
END:VTIMEZONE
END:VCALENDAR