BEGIN:VCALENDAR
VERSION:2.0
PRODID:-//wp-events-plugin.com//7.2.3.1//EN
TZID:Europe/Rome
X-WR-TIMEZONE:Europe/Rome
BEGIN:VEVENT
UID:32449@lazioeventi.com
DTSTART;TZID=Europe/Rome:20221005T180000
DTEND;TZID=Europe/Rome:20221005T200000
DTSTAMP:20220922T150332Z
URL:https://lazioeventi.com/eventi/presetazione-bando-torno-subito
SUMMARY:Presetazione Bando Torno Subito - Roma - 5 Ottobre 22 18:00
DESCRIPTION:Mercoledì 5 ottobre alle ore 18 la Regione Lazio presenta\, pr
 esso la sede di Lazio Innova (Via Marco Aurelio 26A\, Roma)\, la nuova edi
 zione del bando Torno Subito\, finanziato con risorse del PR FSE+ 2021-202
 7.\n\nTorno Subito offre ai giovani universitari\, laureati e diplomati la
  possibilità di realizzare esperienze formative e lavorative fuori Region
 e o all’estero\, in ambiti strategici come la transizione ecologica e di
 gitale\, il cinema e l’audiovisivo\, i beni culturali e il turismo\, lo 
 sport e la qualità della vita.\n\nIl bando 2022 prevede procedure semplif
 icate e un raccordo diretto con il bonus per le assunzioni\, un incentivo 
 alle imprese del Lazio che ospiteranno i destinatari di Torno Subito e che
  al termine del tirocinio intendano inserirli stabilmente nel proprio orga
 nico.\n\nLa partecipazione all’evento offre ai giovani un’ottima occas
 ione per presentarsi da subito e in spazi dedicati alle imprese ed esprime
 re direttamente i propri bisogni in termini di profili professionali\, att
 itudini\, conoscenze e competenze.\n\nPer partecipare\, è richiesta la re
 gistrazione al seguente link: https://www.lazioinnova.it/eventi/e/torno-su
 bito/
ATTACH;FMTTYPE=image/jpeg:https://lazioeventi.com/wp-content/uploads/2022/
 09/Torno-Subito-STD.png
CATEGORIES:Varie
LOCATION:Roma\, Via Leopardi\, Roma\, Roma\, Lazio\, Italia
GEO:41.8942;12.5017
X-APPLE-STRUCTURED-LOCATION;VALUE=URI;X-ADDRESS=Via Leopardi\, Roma\, Roma\
 , Lazio\, Italia;X-APPLE-RADIUS=100;X-TITLE=Roma:geo:41.8942,12.5017
END:VEVENT
BEGIN:VTIMEZONE
TZID:Europe/Rome
X-LIC-LOCATION:Europe/Rome
BEGIN:DAYLIGHT
DTSTART:20220327T030000
TZOFFSETFROM:+0100
TZOFFSETTO:+0200
TZNAME:CEST
END:DAYLIGHT
END:VTIMEZONE
END:VCALENDAR