BEGIN:VCALENDAR
VERSION:2.0
PRODID:-//wp-events-plugin.com//7.2.3.1//EN
TZID:Europe/Rome
X-WR-TIMEZONE:Europe/Rome
BEGIN:VEVENT
UID:44283@lazioeventi.com
DTSTART;TZID=Europe/Rome:20260425T100000
DTEND;TZID=Europe/Rome:20260426T160000
DTSTAMP:20260422T141749Z
URL:https://lazioeventi.com/eventi/primavera-nelloasi-affiliata-wwf-di-cas
 tel-romano-2026-04-25
SUMMARY:Primavera nell'Oasi Affiliata WWF di Castel Romano - Roma - 25 Apri
 le 26 10:00
DESCRIPTION:L’Oasi affiliata WWF di Castel Romano festeggia i suoi due an
 ni di vita con un rigoglioso sviluppo che continua a regalare un’esperie
 nza nella natura incontaminata ad un pubblico che ha superato i quattro
 centomila visitatori.\n\nAperta ogni giorno dalle 9.00 al tramonto\, l’
 Oasi affiliata WWF di Castel Romano si estende per 11 ettari e offre un 
 grande bosco mediterraneo con 2500 metri di sentieri percorribili\, 1\,50
 0 metri di percorsi di trekking\, una grande area umida\, tre aree picnic 
 e una grande playground naturale per i più piccoli.\n\nSono stati oltre 
 5.000 i nuovi arbusti piantati nell’area\, tra alberi autoctoni\, come q
 uerce e lecci\, ed arbusti come corbezzoli\, biancospino e mellifere arom
 atiche - salvia\, rosmarino\, calendula\, menta\, origano\, lillà – pre
 ziose alleate delle api: grazie alle arnie dell’oasi è stata attivata
  una piccola produzione di miele\, circa 50 kg/anno. L'ambiente naturale 
 ospita inoltre rarissime orchidee delle zone umide.\n\nGrazie al progett
 o di camera trapping\, realizzato con fotocamere automatiche sensibili al
  movimento\, è stato possibile catturare immagini o video di animali sel
 vatici e aggiornare la checklist della fauna presente nell'Oasi. Lo studi
 o\, a scopo scientifico\, ha consentito di rilevare specie elusive\, stima
 rne la densità e monitorarne il comportamento\, contribuendo al tempo ste
 sso alla gestione e alla valorizzazione delle peculiarità ambientali. Tra
  le presenze accertate: volpi\, istrici\, cinghiali e rapaci come gheppio
  e nibbio bruno\, oltre a numerose specie di uccelli tra cui picchio ross
 o e ghiandaia. Ad oggi sono state classificate circa 80 specie di uccelli
 \, 9 di rettili\, 4 di anfibi e 10 di mammiferi\, anche grazie ad avvistam
 enti diretti.\nPROGRAMMA DELLE ATTIVITÀ DI PRIMAVERA\nLe attività di pri
 mavera nell’Oasi affiliata WWF di Castel Romano iniziano nella settimana
  dell’Earth Day\, per proseguire ogni weekend fino a giugno con visite 
 guidate gratuite e laboratori gratuiti per tutta la famiglia a cura di es
 perti di educazione ambientale WWF.\n\nLe visite guidate si terranno ogn
 i sabato\, domenica e giorno festivo a partire dal 25 aprile alle 10.00 
 e alle 11.00 e i laboratori tematici avranno luogo negli stessi giorni 
 alle 11.00 e alle 16.00\, con partenza dall’ingresso Oasi adiacente al p
 archeggio C).\nIL CALENDARIO DEI LABORATORI TEMATICI GRATUITI\n25 e 26 apr
 ile\nLa Natura si risveglia: i primi colori della stagione\, i suoni della
  fauna e il ritorno delle attività degli impollinatori\n\n1\, 2 e 3 maggi
 o\nHabitat e specie: un viaggio tra ambienti diversi per scoprire la ricch
 ezza delle specie che abitano l’Oasi\n\n9 e 10 maggio\nZone umide e anfi
 bi: esplorazione degli ecosistemi umidi e attività di osservazione sul ca
 mpo dedicata agli anfibi\n\n16 e 17 maggio\nBiodiversità in Oasi: guidata
  delle principali specie animali e vegetali e del loro ruolo all'interno d
 ell'ecosistema\n\n23 e 24 maggio\nAree protette e territorio: approfondime
 nto sul ruolo dell’Oasi all'interno della Riserva Naturale di Decima Mal
 afede\n\n30 e 31 maggio\nLe fioriture in Oasi: un percorso immersivo tra c
 olori\, profumi e specie vegetali tipiche della primavera\n\n2 giugno\nGio
 rnata dell’ambiente: focus sui comportamenti etici da tenere in natura\
 n\n5 luglio\n\nCompleanno del WWF:  evento celebrativo in occasione dei s
 essant'anni dell'associazione\n\nPer prenotare visite e laboratori tematic
 i gratuiti: mcarthurglen.com/it/outlets/it/designer-outlet-castel-romano/o
 asi/oasi_attivita/oasi-laboratori/
ATTACH;FMTTYPE=image/jpeg:https://lazioeventi.com/wp-content/uploads/2026/
 04/Oasi_Affiliata_WWF_Castel_Romano_2026_bambini_nelloasi.jpeg
CATEGORIES:Sport, Tempo Libero e Divertimento nel Lazio,Varie
LOCATION:Roma\, Via Leopardi\, Roma\, Roma\, Lazio\, Italia
GEO:41.8942;12.5017
X-APPLE-STRUCTURED-LOCATION;VALUE=URI;X-ADDRESS=Via Leopardi\, Roma\, Roma\
 , Lazio\, Italia;X-APPLE-RADIUS=100;X-TITLE=Roma:geo:41.8942,12.5017
END:VEVENT
BEGIN:VTIMEZONE
TZID:Europe/Rome
X-LIC-LOCATION:Europe/Rome
BEGIN:DAYLIGHT
DTSTART:20260329T030000
TZOFFSETFROM:+0100
TZOFFSETTO:+0200
TZNAME:CEST
END:DAYLIGHT
END:VTIMEZONE
END:VCALENDAR