BEGIN:VCALENDAR
VERSION:2.0
PRODID:-//wp-events-plugin.com//7.2.3.1//EN
TZID:Europe/Rome
X-WR-TIMEZONE:Europe/Rome
BEGIN:VEVENT
UID:39040@lazioeventi.com
DTSTART;TZID=Europe/Rome:20240501T103000
DTEND;TZID=Europe/Rome:20240501T124500
DTSTAMP:20240426T165517Z
URL:https://lazioeventi.com/eventi/primo-maggio-alla-villa-dei-quintili
SUMMARY:Primo Maggio alla Villa dei Quintili - Roma - 1 Maggio 24 10:30
DESCRIPTION:Mercoledì 1 maggio 2024 visita guidata a Villa dei Quintili su
 ll’Appia Antica.\n\nUna piacevole passeggiata pomeridiana guidati da un 
 archeologo che illustrerà l’immenso complesso posto tra il V ed il VI M
 iglio della Via Appia: la Villa dei Quintili\, una lussuosa dimora di prop
 rietà di aristocratici romani\, poi passata nelle mani dell’imperatore 
 Commodo.\n\nTra maestose terme\, sale da banchetto e giardini\, capiremo i
 l concetto di ‘otium’ nella Roma imperiale.\n\nInformazioni utili\nApp
 untamento: ore 10\,30 Via Appia Nuova\, 1092 (ingresso Villa Quintili – 
 zona Capannelle)\nQuota di partecipazione: 15€ + Tessera 2024 (€5)\nBi
 glietto Parco Archeologico dell’Appia Antica: € 8 intero (valido 3 gio
 rni)\nI biglietti potranno essere acquistati dai totem posizionati all’i
 ngresso di ogni sito esclusivamente con carte di pagamento elettroniche.\n
 Durata: 2 ore circa\n\nCOME PARTECIPARE\n\nOccorre prenotare entro le 24 o
 re antecedenti l’evento ed aspettare la nostra conferma.\nSi prenota tra
 mite:\n– messaggio WhatsApp al 3274296323\;\n– scrivendo a iscrizione@
 associazionealtair.it\n\nNon sono accettate le persone prive di prenotazio
 ne.
ATTACH;FMTTYPE=image/jpeg:https://lazioeventi.com/wp-content/uploads/2024/
 04/villa-dei-quintili-sullappia-antica-1.jpg
CATEGORIES:Arte e Cultura nel Lazio
LOCATION:Roma\, Via Leopardi\, Roma\, Roma\, Lazio\, Italia
GEO:41.8942;12.5017
X-APPLE-STRUCTURED-LOCATION;VALUE=URI;X-ADDRESS=Via Leopardi\, Roma\, Roma\
 , Lazio\, Italia;X-APPLE-RADIUS=100;X-TITLE=Roma:geo:41.8942,12.5017
END:VEVENT
BEGIN:VTIMEZONE
TZID:Europe/Rome
X-LIC-LOCATION:Europe/Rome
BEGIN:DAYLIGHT
DTSTART:20240331T030000
TZOFFSETFROM:+0100
TZOFFSETTO:+0200
TZNAME:CEST
END:DAYLIGHT
END:VTIMEZONE
END:VCALENDAR