BEGIN:VCALENDAR
VERSION:2.0
PRODID:-//wp-events-plugin.com//7.2.3.1//EN
TZID:Europe/Rome
X-WR-TIMEZONE:Europe/Rome
BEGIN:VEVENT
UID:43952@lazioeventi.com
DTSTART;TZID=Europe/Rome;VALUE=DATE:20260306
DTEND;TZID=Europe/Rome;VALUE=DATE:20260309
DTSTAMP:20260305T103218Z
URL:https://lazioeventi.com/eventi/priverno-celebra-san-tommaso-daquino
SUMMARY:Priverno celebra San Tommaso d’Aquino - Priverno - 6 Marzo 26 00:
 00
DESCRIPTION:Mostre\, cammini spirituali\, cultura e tradizione tra il Centr
 o Storico e il Borgo di Fossanova per onorare il Santo Patrono.\n\nLa citt
 à di Priverno si prepara a celebrare solennemente San Tommaso d’Aquino 
 con un ricco calendario di appuntamenti che animeranno il centro cittadino
  e il suggestivo Borgo di Fossanova tra la fine di febbraio e l’inizio d
 i marzo 2026. Il programma\, curato dal Comune di Priverno in collaborazio
 ne con le realtà locali\, unisce fede\, cultura e valorizzazione del terr
 itorio.\nIl programma degli eventi\nVenerdì 6 marzo: Alle ore 10:00\, pre
 sso la Sala delle Cerimonie del Palazzo Comunale\, verrà presentato il li
 bro di Antonio Marsella "San Tommaso d’Aquino: un genio della civiltà o
 ccidentale". Nel pomeriggio\, alle ore 18:00\, si terrà la Messa Solenne 
 nella Cattedrale di Santa Maria Annunziata\, seguita dalla tradizionale pr
 ocessione.\n\nSabato 7 marzo: La giornata del Patrono vedrà la Santa Mess
 a alle ore 11:00 presso l’Abbazia di Fossanova. Per tutto il giorno\, il
  centro città sarà animato dalla Fiera Tradizionale e dal Mercatino Arti
 gianale a cura della Pro Loco in Piazza Giovanni XXIII. La giornata si con
 cluderà alle 18:30 con il concerto del Coro Polifonico Euphonia nella Chi
 esa di San Tommaso.\n\n7 e 8 marzo: Per l'intero weekend saranno disponibi
 li visite guidate ai luoghi di San Tommaso presso il Museo Medievale di Fo
 ssanova e il Museo Archeologico “Carlo Cicala”.\nInformazioni e contat
 ti\nLa mostra fotografica sarà visitabile fino all’8 marzo con orari 10
 :00-12:30 e 16:30-18:00.\n\nPer le visite guidate e le prenotazioni ai mus
 ei è possibile contattare i numeri 349.1814504 o 0773.912306.
ATTACH;FMTTYPE=image/jpeg:https://lazioeventi.com/wp-content/uploads/2026/
 03/manifesto-festeggiamenti-san-tommaso-2026.jpg
CATEGORIES:Arte e Cultura nel Lazio,Sagre, Gastronomia e Tradizioni nel
 Lazio,Varie
LOCATION:Priverno\, Comune di Priverno\, Priverno\, Latina\, Lazio\, Italia
GEO:41.4734;13.1817
X-APPLE-STRUCTURED-LOCATION;VALUE=URI;X-ADDRESS=Comune di Priverno\, Priver
 no\, Latina\, Lazio\, Italia;X-APPLE-RADIUS=100;X-TITLE=Priverno:geo:41.47
 34,13.1817
END:VEVENT
BEGIN:VTIMEZONE
TZID:Europe/Rome
X-LIC-LOCATION:Europe/Rome
BEGIN:STANDARD
DTSTART:20251026T020000
TZOFFSETFROM:+0200
TZOFFSETTO:+0100
TZNAME:CET
END:STANDARD
END:VTIMEZONE
END:VCALENDAR