BEGIN:VCALENDAR
VERSION:2.0
PRODID:-//wp-events-plugin.com//7.2.3.1//EN
TZID:Europe/Rome
X-WR-TIMEZONE:Europe/Rome
BEGIN:VEVENT
UID:36282@lazioeventi.com
DTSTART;TZID=Europe/Rome:20230713T210000
DTEND;TZID=Europe/Rome:20230716T210000
DTSTAMP:20230710T094725Z
URL:https://lazioeventi.com/eventi/privernum-festival-di-musica-antica
SUMMARY:Privernum Festival di Musica Antica - Priverno - 13 Luglio 23 21:00
DESCRIPTION:Al via\, la I edizione del Privernum Festival di Musica Antica\
 , la manifestazione ideata da Chiara Tiboni\, clavicembalista di fama inte
 rnazionale\, docente nei più prestigiosi Istituti nazionali\, e dall’ A
 ssociazione l’Architasto\, di cui è presidente\, in collaborazione con 
 il Comune di Priverno\, che vedrà la Città arricchita della presenza di 
 studenti e di noti e apprezzati docenti professionisti\, impegnati in mast
 erclass e in concerti che si svolgeranno in alcuni dei più suggestivi luo
 ghi della cultura\, dal 13 al 16 luglio\, riempendoli dei suoni e delle no
 te di antichi strumenti.\n\nSi inizia giovedì 13 luglio\, alle ore 21:00\
 , nell’Auditorium di Santa Chiara \, con il concerto “Ars Klarinetti
 ” del Trio Kalamus \, con Rodolfo La Banca al corno di bassetto\, Bárba
 ra Dias e Marco Mauro ai clarinetti storici. Il concerto nasce con l’int
 ento di avvicinare lo spettatore al mondo del clarinetto attraverso la sua
  avvincente storia ed evoluzione.\n\nSi continua\, venerdì 14 luglio\, al
 le ore 18:30\, sempre nella splendida location dell’Auditorium Santa Chi
 ara\, con il concerto\, di musica italiana del ‘600/700\, “Affetti\, s
 cherzi e meraviglie” dei due giovani concertisti Arabella Kramer\, sopra
 no e Davide Cicconi\, al clavicembalo.\nSempre\, venerdì 14\, ma alle ore
  21:00\, in Piazza Giovanni XXIII\, andrà in scena il terzo appuntamento 
 con “The Drum Circle”\, l’Orchestra estemporanea di percussioni\, ch
 e utilizza oggetti riciclabili\, invitando il pubblico alla partecipazione
 \, per dar vita ad un vero e proprio spettacolo fatto di improvvisazioni e
  contaminazioni\, il tutto a cura di Massimo Carrano.\n\nDomenica 16 lugli
 o\, alle 18:30\, presso la Chiesa di San Tommaso D’Aquino\, musicisti e 
 cantanti si esibiranno in “Sacre voci in concerto”\, in onore di San T
 ommaso D’Aquino\, in occasione del 700 anniversario della sua canonizzaz
 ione.\nIl festival si concluderà alle ore 21:00\, nell’Auditorium di Sa
 nta Chiara\, con lo spettacolo “Barocco in Musica”\, che vedrà la per
 formance di tutti gli allievi del Privernum Festival.\nIl Privernum festiv
 al di Musica Antica\, nasce da un’importante sinergia tra l’Amministra
 zione Comunale e l’Associazione L’Architasto impegnata da oltre un ven
 tennio in corsi di musica antica\, seminari e lezioni-concerto\, in una fo
 rmula che ha saputo accogliere in modo familiare e amichevole\, con la fat
 tiva collaborazione dei cittadini\, corsisti e docenti\, permettendo la ri
 uscita di un festival capace di coniugare la bellezza delle arti alla bell
 ezza monumentale del patrimonio artistico della Città.\n\nLa nostra citt
 à – afferma il Sindaco\, Anna Maria Bilancia - diventa sempre più polo
  di attrazione per i tanti giovani che la scelgono per vivere in e con ess
 a esperienze culturali ed artistiche significative\, sapendo di trovare ri
 sposte efficaci ai bisogni di accoglienza\, socialità e bellezza. Così d
 opo la ripartenza delle ragazze e dei ragazzi spagnoli dell’Erasmus\, ch
 e per tre mesi ci hanno arricchito della loro presenza\, accoglieremo con 
 entusiasmo i musicisti del Festival di musica antica\, provenienti da tutt
 o il mondo e\, dopo di loro\, saremo pronti ad accogliere\, 30 studenti ch
 e parteciperanno al Seminario regionale di formazione al federalismo europ
 eo\, che si terrà a Priverno\, organizzato dall’Istituto di studi feder
 alisti “Altiero Spinelli”\, dal Movimento Federalista Europeo del Lazi
 o e dalla Gioventù Federalista Europea del Lazio.
ATTACH;FMTTYPE=image/jpeg:https://lazioeventi.com/wp-content/uploads/2023/
 07/locandina-Privernum-festival-di-musica-antica.jpg
CATEGORIES:Musica, Spettacoli e Danza nel Lazio
LOCATION:Priverno\, Comune di Priverno\, Priverno\, Latina\, Lazio\, Italia
GEO:41.4734;13.1817
X-APPLE-STRUCTURED-LOCATION;VALUE=URI;X-ADDRESS=Comune di Priverno\, Priver
 no\, Latina\, Lazio\, Italia;X-APPLE-RADIUS=100;X-TITLE=Priverno:geo:41.47
 34,13.1817
END:VEVENT
BEGIN:VTIMEZONE
TZID:Europe/Rome
X-LIC-LOCATION:Europe/Rome
BEGIN:DAYLIGHT
DTSTART:20230326T030000
TZOFFSETFROM:+0100
TZOFFSETTO:+0200
TZNAME:CEST
END:DAYLIGHT
END:VTIMEZONE
END:VCALENDAR