BEGIN:VCALENDAR
VERSION:2.0
PRODID:-//wp-events-plugin.com//7.2.3.1//EN
TZID:Europe/Rome
X-WR-TIMEZONE:Europe/Rome
BEGIN:VEVENT
UID:31865@lazioeventi.com
DTSTART;TZID=Europe/Rome:20220806T210000
DTEND;TZID=Europe/Rome:20220807T234500
DTSTAMP:20220803T060454Z
URL:https://lazioeventi.com/eventi/pumpudurella-sotto-le-stelle
SUMMARY:PumPudurella Sotto le Stelle - Pofi - 6 Agosto 22 21:00
DESCRIPTION:In collaborazione con Mauro Port Royal e IS Cafè il 6 e 7 agos
 to torna a Pofi la seconda edizione di PumPudurella Sotto le Stelle \n\nFo
 od\, drink\, dj set e musica popolare.\n\nIl 6 agosto vi aspettiamo con un
 a serata danzante con la scuola Just Dance e subito dopo con bombe calde e
  dj set. \nIl 7 agosto sarà una notte all'insegna della musica popolare c
 on gli MBL in concerto!\n\nVi aspettiamo numerosi!!\nCondividete
ATTACH;FMTTYPE=image/jpeg:https://lazioeventi.com/wp-content/uploads/2022/
 08/pomodorella-sotto-le-stelle.jpg
CATEGORIES:Musica, Spettacoli e Danza nel Lazio
LOCATION:Pofi\, Comune\, Pofi\, Frosinone\, Lazio\, Italia
GEO:41.5656;13.4153
X-APPLE-STRUCTURED-LOCATION;VALUE=URI;X-ADDRESS=Comune\, Pofi\, Frosinone\,
  Lazio\, Italia;X-APPLE-RADIUS=100;X-TITLE=Pofi:geo:41.5656,13.4153
END:VEVENT
BEGIN:VTIMEZONE
TZID:Europe/Rome
X-LIC-LOCATION:Europe/Rome
BEGIN:DAYLIGHT
DTSTART:20220327T030000
TZOFFSETFROM:+0100
TZOFFSETTO:+0200
TZNAME:CEST
END:DAYLIGHT
END:VTIMEZONE
END:VCALENDAR