BEGIN:VCALENDAR
VERSION:2.0
PRODID:-//wp-events-plugin.com//7.2.3.1//EN
TZID:Europe/Rome
X-WR-TIMEZONE:Europe/Rome
BEGIN:VEVENT
UID:38567@lazioeventi.com
DTSTART;TZID=Europe/Rome:20240223T100000
DTEND;TZID=Europe/Rome:20240225T210000
DTSTAMP:20240220T120456Z
URL:https://lazioeventi.com/eventi/puro-cioccolato-festival-vetralla
SUMMARY:Puro Cioccolato Festival - Vetralla - 23 Febbraio 24 10:00
DESCRIPTION:AMI IL CIOCCOLATO?\n\nPURO CIOCCOLATO FESTIVAL A VETRALLA\n\nMa
 estri cioccolatieri\nArtisti del cioccolato\nDolci tipici al Cioccolato\nT
 utti i gusti e tipologie di cioccolata calda\nArea Selfie\n\nPiazza della 
 Rocca e Piazza Umberto I\nDal 23 al 25 Febbraio dalle ore 10:00 - 21:00\nC
 on il Patrocinio del Comune di Vetralla\n\nINGRESSO GRATUITO
ATTACH;FMTTYPE=image/jpeg:https://lazioeventi.com/wp-content/uploads/2024/
 02/puro-cioccolato-vetralla.jpg
CATEGORIES:Sagre, Gastronomia e Tradizioni nel Lazio
LOCATION:Vetralla\, Comune di Vetralla\, Vetralla\, Viterbo\, Lazio\, Itali
 a
GEO:42.321;12.0533
X-APPLE-STRUCTURED-LOCATION;VALUE=URI;X-ADDRESS=Comune di Vetralla\, Vetral
 la\, Viterbo\, Lazio\, Italia;X-APPLE-RADIUS=100;X-TITLE=Vetralla:geo:42.3
 21,12.0533
END:VEVENT
BEGIN:VTIMEZONE
TZID:Europe/Rome
X-LIC-LOCATION:Europe/Rome
BEGIN:STANDARD
DTSTART:20231029T020000
TZOFFSETFROM:+0200
TZOFFSETTO:+0100
TZNAME:CET
END:STANDARD
END:VTIMEZONE
END:VCALENDAR