BEGIN:VCALENDAR
VERSION:2.0
PRODID:-//wp-events-plugin.com//7.2.3.1//EN
TZID:Europe/Rome
X-WR-TIMEZONE:Europe/Rome
BEGIN:VEVENT
UID:33578@lazioeventi.com
DTSTART;TZID=Europe/Rome;VALUE=DATE:20230105
DTEND;TZID=Europe/Rome;VALUE=DATE:20230109
DTSTAMP:20221228T062927Z
URL:https://lazioeventi.com/eventi/qualcuno-maiuti-io-non-vho-detto-niente
SUMMARY:Qualcuno m’aiuti! (io non v’ho detto niente!) - Roma - 5 Gennai
 o 23 00:00
DESCRIPTION:Da giovedì 5 a domenica 8 gennaio 2023\, l’OFF/OFF Theatre a
 ccoglie per la prima volta Andrea Rivera\, protagonista del suo nuovo spet
 tacolo di Teatro Canzone\, dal titolo “Qualcuno m’aiuti! (io non v’h
 o detto niente!)”. L’ultimo testo satirico e tragicomico in cui Rivera
  interpreta un uomo di mezza età a confronto con il suo psichiatra\, con 
 un copione che cambia ogni sera\, a seconda degli interlocutori a cui l’
 attore e autore si rivolge.\n \n\n“Qualcuno m’aiuti! (io non v’ho de
 tto niente!)”\, è la storia di un uomo di mezza età che si reca\, non 
 molto convinto\, per la prima volta da uno psichiatra. Tra giochi di parol
 e satiriche\, inaspettate improvvisazioni sceniche e canzoni (i suoi sogni
  onirici)\, il protagonista passa un’ora e un quarto nello studio dello 
 specialista. Lì i ruoli di medico-paziente spesso si ribaltano e sono ass
 unti in alternanza dal pubblico stesso\, talvolta paziente\, talvolta medi
 co. Verità pura o semplice scrittura teatrale? In ogni replica dello spet
 tacolo il copione spesso cambia\, poiché il neo paziente è convinto di p
 oter confidare\, in diversi incontri con lo psichiatra\, il suo passato e 
 la sua reale quotidianità tragicomica. L’uomo e l’attore sono coinvol
 ti nell’attesa\, beckettianamente inutile\, che… “qualcuno\, finalme
 nte\, li possa aiutare!”. \n\nCosto Biglietti: Intero 30€\; Ridotto Ov
 er 65 20€\; Ridotto Under35 15€\nDal martedì al sabato h.21\,00 – D
 omenica h.17\,00\nPrevendita On Line: www.vivaticket.it
ATTACH;FMTTYPE=image/jpeg:https://lazioeventi.com/wp-content/uploads/2022/
 12/AndreaRivera_Cecchetti.jpg
CATEGORIES:Musica, Spettacoli e Danza nel Lazio
LOCATION:Roma\, Via Leopardi\, Roma\, Roma\, Lazio\, Italia
GEO:41.8942;12.5017
X-APPLE-STRUCTURED-LOCATION;VALUE=URI;X-ADDRESS=Via Leopardi\, Roma\, Roma\
 , Lazio\, Italia;X-APPLE-RADIUS=100;X-TITLE=Roma:geo:41.8942,12.5017
END:VEVENT
BEGIN:VTIMEZONE
TZID:Europe/Rome
X-LIC-LOCATION:Europe/Rome
BEGIN:STANDARD
DTSTART:20221030T020000
TZOFFSETFROM:+0200
TZOFFSETTO:+0100
TZNAME:CET
END:STANDARD
END:VTIMEZONE
END:VCALENDAR