BEGIN:VCALENDAR
VERSION:2.0
PRODID:-//wp-events-plugin.com//7.2.3.1//EN
TZID:Europe/Rome
X-WR-TIMEZONE:Europe/Rome
BEGIN:VEVENT
UID:40298@lazioeventi.com
DTSTART;TZID=Europe/Rome:20241123T100000
DTEND;TZID=Europe/Rome:20241124T180000
DTSTAMP:20241120T093244Z
URL:https://lazioeventi.com/eventi/quando-ti-ho-incontrata-e-non-ti-ho-ric
 onosciuta-ludovica-rubino-e-francesca-sabini
SUMMARY:Quando ti ho incontrata e non ti ho riconosciuta - Ludovica Rubino 
 e Francesca Sabini - Roma - 23 Novembre 24 10:00
DESCRIPTION:“Quando ti ho incontrata e non ti ho riconosciuta ” è un p
 rogetto nato da un incontro casuale e da un’immediata e inaspettata fidu
 cia e confidenza creativa e personale tra Ludovica Rubino e Francesca Sabi
 ni. Questa opera\, intesa come unica\, che spazia da un percorso fotografi
 co alla videoarte\, è nata dalla necessità personale e dall’urgenza em
 otiva di incanalare l’esperienza di Ludovica\, ovvero il ricovero in una
  clinica psichiatrica\, in un progetto tangibile e duraturo.\n\nIn questo 
 sono raccolte le sue sensazioni trasfigurate in immagini che propongono\, 
 tramite quello che è un percorso fotografico a tappe\, il tema della perd
 ita della propria identità. Una perdita in ogni modo combattuta per mante
 nere il contatto con se stessi e con la vita anche allo stremo del dolore.
  Si affronta la questione della malattia e dell’effetto dei trattamenti 
 medici\, con il tentativo di creare una nuova realtà dopo l'orrore\, riem
 ergendo dalla sofferenza.\n\n“Quando ti ho incontrata e non ti ho ricono
 sciuta” è anche un’opera di denuncia verso l’errato trattamento ris
 ervato ai malati psichiatrici\, resi inermi e spogliati della propria cosc
 ienza a causa di pesanti somministrazioni di farmaci\, mirate a simulare u
 na normalità psicofisica dei pazienti. Cerchiamo di far confluire tutto q
 uesto non solo attraverso fotografie\, accompagnate da parole scritte da L
 udovica durante il suo ricovero\, ma anche mediante la videoarte presentat
 a nella mostra\, cui parte fondamentale e indivisibile dai fotogrammi è l
 a registrazione audio effettuata da Ludovica in un momento di smarrimento 
 e incoscienza farneticante durante il ricovero stesso.
ATTACH;FMTTYPE=image/jpeg:https://lazioeventi.com/wp-content/uploads/2024/
 11/Locandina-Quando-ti-ho-incontrata-e-non-ti-ho-riconosciuta.jpg
CATEGORIES:Arte e Cultura nel Lazio
LOCATION:Roma\, Via Leopardi\, Roma\, Roma\, Lazio\, Italia
GEO:41.8942;12.5017
X-APPLE-STRUCTURED-LOCATION;VALUE=URI;X-ADDRESS=Via Leopardi\, Roma\, Roma\
 , Lazio\, Italia;X-APPLE-RADIUS=100;X-TITLE=Roma:geo:41.8942,12.5017
END:VEVENT
BEGIN:VTIMEZONE
TZID:Europe/Rome
X-LIC-LOCATION:Europe/Rome
BEGIN:STANDARD
DTSTART:20241027T020000
TZOFFSETFROM:+0200
TZOFFSETTO:+0100
TZNAME:CET
END:STANDARD
END:VTIMEZONE
END:VCALENDAR