BEGIN:VCALENDAR
VERSION:2.0
PRODID:-//wp-events-plugin.com//7.2.3.1//EN
TZID:Europe/Rome
X-WR-TIMEZONE:Europe/Rome
BEGIN:VEVENT
UID:27266@lazioeventi.com
DTSTART;TZID=Europe/Rome:20200822T183000
DTEND;TZID=Europe/Rome:20200823T220000
DTSTAMP:20200806T103826Z
URL:https://lazioeventi.com/eventi/radure-norma
SUMMARY:Radure: Spazi culturali lungo la Via Francigena del Sud - Norma - 2
 2 Agosto 20 18:30
DESCRIPTION:Radure: Spazi culturali lungo la Via Francigena del Sud è un f
 estival di valorizzazione del patrimonio culturale del sistema territorial
 e dei Monti Lepini a cura dei Comuni di Priverno\, Segni\, Maenza\, Norma\
 , Sezze\, in collaborazione con ATCL e Compa
ATTACH;FMTTYPE=image/jpeg:https://lazioeventi.com/wp-content/uploads/2020/
 08/Radure-2020-Manifesto-70x100-1.jpg
CATEGORIES:Musica, Spettacoli e Danza nel Lazio
LOCATION:Norma\, Comune di Norma\, Norma\, Latina\, Lazio\, Italia
GEO:41.5857;12.9735
X-APPLE-STRUCTURED-LOCATION;VALUE=URI;X-ADDRESS=Comune di Norma\, Norma\, L
 atina\, Lazio\, Italia;X-APPLE-RADIUS=100;X-TITLE=Norma:geo:41.5857,12.973
 5
END:VEVENT
BEGIN:VTIMEZONE
TZID:Europe/Rome
X-LIC-LOCATION:Europe/Rome
BEGIN:DAYLIGHT
DTSTART:20200329T030000
TZOFFSETFROM:+0100
TZOFFSETTO:+0200
TZNAME:CEST
END:DAYLIGHT
END:VTIMEZONE
END:VCALENDAR