BEGIN:VCALENDAR
VERSION:2.0
PRODID:-//wp-events-plugin.com//7.2.3.1//EN
TZID:Europe/Rome
X-WR-TIMEZONE:Europe/Rome
BEGIN:VEVENT
UID:31988@lazioeventi.com
DTSTART;TZID=Europe/Rome:20250727T210000
DTEND;TZID=Europe/Rome:20250728T223000
DTSTAMP:20250714T100744Z
URL:https://lazioeventi.com/eventi/radure-segni
SUMMARY:Radure a Segni - Segni - 27 Luglio 25 21:00
DESCRIPTION:“Radure - Spazi culturali lungo la Via Francigena del Sud” 
 si conferma come proposta culturale d’eccellenza per promuovere il terri
 torio e rilanciarne l’immagine\, attraverso la commistione tra le arti d
 ello spettacolo dal vivo\, le identità dei luoghi e la partecipazione att
 iva delle realtà operanti in questi splendidi Comuni. Dal 28 giugno all'1
 1 agosto 2024\, un ricco calendario di appuntamenti a cura dei Comuni di P
 riverno (capofila)\, Sermoneta\, Norma\, Carpineto Romano\, Roccagorga\, S
 egni\, Maenza e Cori segnerà i luoghi della cultura attraversati dal camm
 ino spirituale della Via Francigena del Sud.\n\n27 luglio 2025\nore 21:00\
 nChiesa S. Pietro\nENEIDE. A SOUND FILM\ndi Matutateatro\nadattamento test
 i e attore – Titta Ceccano\nsound designer – Francesco Altilio\nregia 
 – Julia Borretti\n“Eneide. A sound film” è la nuova produzione di M
 atutateatro\, uno spettacolo di teatro e musica elettronica\, ispirato all
 ’Eneide virgiliana\, in particolare al Libro XI. Nasce come un lavoro su
 lle immagini senza immagini: il testo antico è evocato soltanto dalla mus
 ica elettronica realizzata dal vivo e dalla parola detta in scena che espa
 nde la potenza del testo virgiliano nella contemporaneità. Uno spettacolo
  in cui il suono e il testo procedono all’unisono. Il suono espande il t
 esto creandogli un contesto e uno spazio. L’idea da cui prende le mosse 
 il lavoro è che l’epica sia il cinema prima del cinema. Si potrebbe ril
 eggere tutta l’epica classica immaginando il racconto per inquadrature: 
 tutti i grandi poemi classici sono pieni di campi e controcampi\, campi lu
 nghi\, visioni dall’alto che con un dolly scendono nel bel mezzo della b
 attaglia\, dettagli e primi piani degli eroi\, suoni diegetici e ritmi del
 la narrazione. È evidente che il cinema ha preso da qui. Oggi\, nell’er
 a contemporanea dove gli sguardi sono ingolfati dai video\, il nostro prog
 etto vuole tornare a leggere l’Eneide come un racconto per immagini senz
 a utilizzarne. Tornare alla forma originale di queste antiche narrazioni t
 otalmente costruite per immagini\, in un’era in cui le immagini in movim
 ento non c’erano. “Eneide. A sound film” tira fuori la plasticità d
 i un testo antico con il solo ausilio della parola detta e del suono: segu
 e i cambi di campo\, di piano\, il fluire del racconto soltanto grazie all
 ’uso della voce e della musica elettronica\, che ridisegna gli spazi e r
 idefinisce i ritmi\, ampliando tutta la potenza di un racconto antico. Poi
  il racconto parla da sé: da qualche parte nel Lazio – l’Eneide forse
  proprio perché concettualmente viene prima di Roma e ne crea i presuppos
 ti\, rimane ad oggi l’unico poema del Lazio\, l’unico testo che tiene 
 insieme la varietà dei popoli e dei territori che lo compongono – va in
  scena il mito della fondazione di un popolo e di un destino che ancora ci
  riguarda. L’Eneide non è solo il poema nazionalista del mondo romano\,
  ma è riconoscibile come poema fondante di tutta l’Europa\, come modell
 o sociale che l’Europa vorrebbe e dovrebbe seguire. Non a caso caso Elio
 t parlava di Virgilio come il classico di tutta l’Europa. E nel mito vir
 giliano\, profondamente umano\, c’è spazio per tutti\, vincitori e vint
 i.\n\n28 luglio 2025\nore 21:00\nCisterna romana\nMOBY DICK\nRoberto Merca
 dini\n(sebbene molti abbiano tentato)\nLettura/narrazione da Melville\nPro
 dotto da SILLABA\nScritto e diretto da Roberto Mercadini\ndistribuzione Te
 rry Chegia\nMoby Dick non racconta una storia. Non è un romanzo. Forse ne
 ppure un libro.\nÈ un mostro che sta fra gli altri volumi scritti come il
  leviatano bianco sta in mezzo alle altre creature marine. Moby Dick non s
 i può narrare\, “sebbene molti abbiano tentato” (per citare Melville)
 .\nChe può farne\, allora\, un narratore (e nel tempo d’una narrazione)
 ? Può almeno far brillare alcuni frammenti incandescenti\; far intuire\, 
 per sintesi\, l’intera luce\, l’intero calore del magma. Può dire: 
 “sono come un palombaro che scende negli abissi. Trova Atlantide. Non pu
 ò risalire portandosi Atlantide sulle spalle. Può riportare però qualch
 e frammento (una moneta\, un pezzetto d’anfora\, un naso di statua). E p
 oi dire: ‘guardate\, questa non è Atlantide\; è la prova che\, là sot
 to\, c’è Atlantide: andate a farci un giro\, se vi capita.’ ”\nRobe
 rto Mercadini bio\n“Raccontostorie (checontengonostorie (checontengonoal
 trestorie) .A volte sopra un palcoscenico. A volte in video. A volte dentr
 o un libro”.\nRoberto Mercadini (Cesena\, 1978)\, narratore\, autore-att
 ore\, scrittore\, poeta e divulgatore\, con oltre 100 date all’anno si e
 sibisce in tutta Italia con i suoi monologhi che spaziano dalla Bibbia ebr
 aica all’origine della filosofia\, dall’evoluzionismo alla felicità\,
  dai grandi interpreti della letteratura ai temi sociali (bullismo\, ambie
 nte ed ecologia).\nNel 2018 esce ‘Storia perfetta dell’errore’ edito
  da Rizzoli\, il suo primo romanzo.Nel 2019 il Teatro Stabile d’Abruzzo 
 (con direzione artistica di Simone Cristicchi) produce il suo spettacolo t
 eatrale ‘Vita di Leonardo’ con la regia di Alessandro Maggi e testi de
 llo stesso Mercadini. Nel 2020 esce\, sempre per Rizzoli\, ‘Bomba atomic
 a’\, eletto come il Miglior Libro del 2020 dal concorso indetto da Robin
 son (inserto culturale di La Repubblica) con giuria composta da lettori 
 ‘forti’ di tutta Italia. Nel 2022 esce il libro ‘L’Ingegno e le te
 nebre: Leonardo e Michelangelo. Due geni rivali nel cuore oscuro del Rinas
 cimento’\, sempre edito\nda Rizzoli. Nel 2023 esce invece ‘La donna ch
 e rise di Dio e altre storie della Bibbia’\, sempre per Rizzoli editore.
  Da gennaio 2023 èospite della trasmissione “Splendida cornice”condot
 tada Geppi Cucciari in onda su Rai 3 in prima serata in qualità di ‘di
 vulgatore’. Attivo in rete\, ha un canale canaleYouTube seguito da oltre
  175.000 followers e un canale Instagram da oltre 55.000.\nFra i suoi mono
 loghi\nFuoco nero su fuoco bianco –un viaggio nella Bibbia Ebraica. Con 
 traduzione dall’ebraico antico dell’autore.Noi siamo il suolo\, noi si
 amo la terra –monologo per una cittadinanza planetaria. Una produzione d
 i Banca Popolare Etica.Felicitàfor dummies –felicitàper negatiLa più
  strana delle meraviglie -monologo da e su ShakespeareDante. Piùnobile 
 èil volgare –monologoMoby Dick. Sebbene molti abbiano tentato –monolo
 goL’arte di essere nuovi –lezione-spettacolo sulla pittura del Rinasci
 mento Leonardo e Michelangelo –il disegno invisibile delle cose\nLibri\n
 La donna che rise di Dio e altre storie della Bibbia | Rizzoli\, 2023 L’
 ingegno e le tenebre. Leonardo e Michelangelo\, due geni rivali nel cuore 
 oscuro del Rinascimento | Rizzoli\, 2022Bomba Atomica | Rizzoli\, 2020Stor
 ia perfetta dell’errore | Rizzoli\, 2018\nIo non scrivo mai niente. Mono
 loghi cosmici | Sagoma\, 2016 Sull’origine della luce èbuio pesto | Mir
 aggi Edizioni\, 2016 Madrigali per surfisti estatici | Il Ponte Vecchio\, 
 2011 -rist. 2019\n\nTutti gli eventi sono ad ingresso gratuito.\n\nPer inf
 ormazioni: tel. 333 3216929 (dalle ore 9.00 alle ore 17.30)\; www.atcllazi
 o.it
ATTACH;FMTTYPE=image/jpeg:https://lazioeventi.com/wp-content/uploads/2022/
 08/radure-2025.jpg
CATEGORIES:Musica, Spettacoli e Danza nel Lazio
LOCATION:Segni\, Comune\, Segni\, Roma\, Lazio\, Italia
GEO:41.6917;13.0227
X-APPLE-STRUCTURED-LOCATION;VALUE=URI;X-ADDRESS=Comune\, Segni\, Roma\, Laz
 io\, Italia;X-APPLE-RADIUS=100;X-TITLE=Segni:geo:41.6917,13.0227
END:VEVENT
BEGIN:VTIMEZONE
TZID:Europe/Rome
X-LIC-LOCATION:Europe/Rome
BEGIN:DAYLIGHT
DTSTART:20250330T030000
TZOFFSETFROM:+0100
TZOFFSETTO:+0200
TZNAME:CEST
END:DAYLIGHT
END:VTIMEZONE
END:VCALENDAR