BEGIN:VCALENDAR
VERSION:2.0
PRODID:-//wp-events-plugin.com//7.2.3.1//EN
TZID:Europe/Rome
X-WR-TIMEZONE:Europe/Rome
BEGIN:VEVENT
UID:33271@lazioeventi.com
DTSTART;TZID=Europe/Rome;VALUE=DATE:20221202
DTEND;TZID=Europe/Rome;VALUE=DATE:20230109
DTSTAMP:20221129T094508Z
URL:https://lazioeventi.com/eventi/rapunzel-il-musical
SUMMARY:Rapunzel - Il Musical - Roma - 2 Dicembre 22 00:00
DESCRIPTION:Dal 2 Dicembre Lorella Cuccarini torna al Teatro Brancaccio con
  ‘Rapunzel - Il Musical’\nUno spettacolo ‘favoloso’\, con nuovi ef
 fetti speciali e un cast di attori professionisti capaci di far vivere tut
 ta la magia del racconto dei fratelli Grimm. Immergervi in una fiaba non s
 arà mai stato così reale\n\nLorella Cuccarini è Gothel in Rapunzel Musi
 cal\ncon Silvia Scartozzoni e Renato Giuseppe Crudo\n\nQuesta fiaba\, scri
 tta dai fratelli Grimm\, risale al 1812.\nNove anni fa\, nel 2014\, fu pub
 blicata una versione “musical”\, inedita\, messa in scena per la prima
  volta in assoluto\, al Teatro Brancaccio di Roma e poi in tour in tutta I
 talia\, con oltre 150.000 spettatori. La sfida è diventata un grande succ
 esso\, grazie alla produzione\, alla regia\, agli effetti speciali\, agli 
 attori\, e anche al ritorno in teatro di Lorella Cuccarini.\n\nDopo nove a
 nni in cui il mondo è cambiato radicalmente\, Alessandro Longobardi\, per
  Viola Produzioni\, insieme al suo staff creativo\, riporta in scena quest
 o magnifico spettacolo dedicato al grande pubblico che ama sognare. Gli ef
 fetti scenici\, che caratterizzano fortemente questo musical\, impiegheran
 no nuove tecnologie ma saranno percepiti in modo  semplice  e  romantico\,
  in  armonia  con  l’essenza  della  storia. Dal momento in cui il pubbl
 ico entrerà in teatro\, sarà  completamente  immerso nella fiaba\, porta
 ndosi a casa un’esperienza emotiva da sogno.\n\n\nIl cast artistico\, fo
 rmato da 18 attori performer\, fra ballerini\, acrobati\, cantanti e attor
 i\, sarà totalmente nuovo\, solo il personaggio di Gothel\, verrà interp
 retato anche in questa edizione dalla “divina” Lorella Cuccarini.\n\n\
 nRapunzel il musical è scritto e diretto da Maurizio Colombi\, con le mus
 iche inedite e originali di Davide Magnabosco\, Alessandro Procacci e Paol
 o Barillari e la direzione musicale di Davide Magnabosco. Le coreografie s
 ono firmate da Rita Pivano.\n
ATTACH;FMTTYPE=image/jpeg:https://lazioeventi.com/wp-content/uploads/2022/
 11/rapunzel-brancaccio.jpg
CATEGORIES:Musica, Spettacoli e Danza nel Lazio
LOCATION:Roma\, Via Leopardi\, Roma\, Roma\, Lazio\, Italia
GEO:41.8942;12.5017
X-APPLE-STRUCTURED-LOCATION;VALUE=URI;X-ADDRESS=Via Leopardi\, Roma\, Roma\
 , Lazio\, Italia;X-APPLE-RADIUS=100;X-TITLE=Roma:geo:41.8942,12.5017
END:VEVENT
BEGIN:VTIMEZONE
TZID:Europe/Rome
X-LIC-LOCATION:Europe/Rome
BEGIN:STANDARD
DTSTART:20221030T020000
TZOFFSETFROM:+0200
TZOFFSETTO:+0100
TZNAME:CET
END:STANDARD
END:VTIMEZONE
END:VCALENDAR