BEGIN:VCALENDAR
VERSION:2.0
PRODID:-//wp-events-plugin.com//7.2.3.1//EN
TZID:Europe/Rome
X-WR-TIMEZONE:Europe/Rome
BEGIN:VEVENT
UID:24431@lazioeventi.com
DTSTART:20220702T203000Z
DTEND:20220716T220000Z
DTSTAMP:20220627T140738Z
URL:https://lazioeventi.com/eventi/rassegna-cinematografica
SUMMARY:Rassegna Cinematografica - Poggio Mirteto - 2 Luglio 22 21:30
DESCRIPTION:Ogni sera un film con la presenza di un personaggio dello spett
 acolo.\n\nVi aspettiamo al Parco San Paolo dalle ore 21:30 dove sarà pres
 ente uno stand gastronomico a cura della Pro Loco.
ATTACH;FMTTYPE=image/jpeg:https://lazioeventi.com/wp-content/uploads/2022/
 06/cinema-poggio-mirteto.jpg
CATEGORIES:Musica, Spettacoli e Danza nel Lazio
LOCATION:Poggio Mirteto\, Comune di Poggio Mirteto\, Poggio Mirteto\, Rieti
 \, Lazio\, Italia
GEO:42.2644;12.684
X-APPLE-STRUCTURED-LOCATION;VALUE=URI;X-ADDRESS=Comune di Poggio Mirteto\, 
 Poggio Mirteto\, Rieti\, Lazio\, Italia;X-APPLE-RADIUS=100;X-TITLE=Poggio 
 Mirteto:geo:42.2644,12.684
END:VEVENT
END:VCALENDAR