BEGIN:VCALENDAR
VERSION:2.0
PRODID:-//wp-events-plugin.com//7.2.3.1//EN
TZID:Europe/Rome
X-WR-TIMEZONE:Europe/Rome
BEGIN:VEVENT
UID:41595@lazioeventi.com
DTSTART;TZID=Europe/Rome:20250522T180000
DTEND;TZID=Europe/Rome:20250522T210000
DTSTAMP:20250520T092628Z
URL:https://lazioeventi.com/eventi/rebetiko-la-canzone-greca-dei-bassifond
 i-il-libro
SUMMARY:"Rebetiko: la canzone greca dei bassifondi" - il libro - Roma - 22 
 Maggio 25 18:00
DESCRIPTION:Nell'ambito della Settimana Ellenica 2025\, incontro con Vivian
 a Maglio Sebastio: Tradurre il “Rebetiko: la canzone greca dei bassifond
 i” (Edizioni Aiora). \nLo scrittore Diego Zandel dialoga con la traduttr
 ice\n\n20.00 Chiacchiere al tekès. Rebetiko: i canti popolari urbani dell
 a Grecia a cura di Evi Evan con la partecipazione degli Opa Opa\n\nA cura 
 di Pegaso centro studi ellenico\nPer consultare l'intero programma della r
 assegna:\nhttps://www.pegasocentrostudiellenico.it\n\nPalazzo Marotti - Vi
 a Nazionale 176\, Roma\nOrario mostra: tutti i giorni dalle 10.30 alle 20.
 00\nEntrata gratuita\, ingresso riservato previa esibizione dell'invito.\n
 Per avere informazioni e invito\, scrivere a: info@pegasocentrostudielleni
 co.it
ATTACH;FMTTYPE=image/jpeg:https://lazioeventi.com/wp-content/uploads/2025/
 05/Collage_20250520_101721.jpg
CATEGORIES:Arte e Cultura nel Lazio
LOCATION:Roma\, Via Leopardi\, Roma\, Roma\, Lazio\, Italia
GEO:41.8942;12.5017
X-APPLE-STRUCTURED-LOCATION;VALUE=URI;X-ADDRESS=Via Leopardi\, Roma\, Roma\
 , Lazio\, Italia;X-APPLE-RADIUS=100;X-TITLE=Roma:geo:41.8942,12.5017
END:VEVENT
BEGIN:VTIMEZONE
TZID:Europe/Rome
X-LIC-LOCATION:Europe/Rome
BEGIN:DAYLIGHT
DTSTART:20250330T030000
TZOFFSETFROM:+0100
TZOFFSETTO:+0200
TZNAME:CEST
END:DAYLIGHT
END:VTIMEZONE
END:VCALENDAR