BEGIN:VCALENDAR
VERSION:2.0
PRODID:-//wp-events-plugin.com//7.2.3.1//EN
TZID:Europe/Rome
X-WR-TIMEZONE:Europe/Rome
BEGIN:VEVENT
UID:33460@lazioeventi.com
DTSTART;TZID=Europe/Rome:20221217T163000
DTEND;TZID=Europe/Rome:20221217T180000
DTSTAMP:20221216T000148Z
URL:https://lazioeventi.com/eventi/recital-di-poesia-dellaccademia-barbane
 ra
SUMMARY:Recital di poesia dell’Accademia Barbanera - Bolsena - 17 Dicembr
 e 22 16:30
DESCRIPTION:Al Piccolo Teatro Cavour di Bolsena va in scena la poesia. \n\n
 Sabato 17 dicembre\, alle 16\,30\, con l’Accademia Barbanera\, associazi
 one culturale di persone\, poeti\, che si dilettano a scrivere e pubblicar
 e versi. Con la direzione artistica di Fabio D’Amanzio\, il recital a in
 gresso libero proporrà la lettura delle poesie dell’antologia “Passio
 ni” (a cura di Nevino Barbanera e pubblicata da Accademia Barbanera)\, c
 he raccoglie le composizioni di 55 autori italiani e stranieri\, con piace
 voli intermezzi teatrali alle letture saranno affidati all'attore Marco An
 selmi\, accompagnati dal violinista Leonardo Ceccani. \n\n“Ci definiamo 
 poeti e non è reato e nemmeno un millantato credito\, visto che non esist
 e un diploma\, una laurea\, un corso di studi per diventare poeti – affe
 rmano dall’Accademia Barbanera - Quindi chiunque di noi può tranquillam
 ente e sinceramente essere o qualificarsi tale\, alla ricerca e documentaz
 ione delle più nobili espressioni umane”. \n\nDurante lo spettacolo sar
 anno presentati dall’associazione i bandi per due nuove antologie nel 20
 23 intitolate “Pace\, non solo poesie…” e “XXV Anniversario 1998-2
 023 di attività”. \n\n“L’augurio è quello di un pubblico numeroso 
 – concludono dall’Accademia Barbanera -\, per un’iniziativa che unis
 ce poesia\, teatro e musica”. 
ATTACH;FMTTYPE=image/jpeg:https://lazioeventi.com/wp-content/uploads/2022/
 12/Piccolo-Teatro-Cavour.jpg
CATEGORIES:Musica, Spettacoli e Danza nel Lazio
LOCATION:Bolsena\, Comune di Bolsena\, Bolsena\, Viterbo\, Lazio\, Italia
GEO:42.6447;11.9877
X-APPLE-STRUCTURED-LOCATION;VALUE=URI;X-ADDRESS=Comune di Bolsena\, Bolsena
 \, Viterbo\, Lazio\, Italia;X-APPLE-RADIUS=100;X-TITLE=Bolsena:geo:42.6447
 ,11.9877
END:VEVENT
BEGIN:VTIMEZONE
TZID:Europe/Rome
X-LIC-LOCATION:Europe/Rome
BEGIN:STANDARD
DTSTART:20221030T020000
TZOFFSETFROM:+0200
TZOFFSETTO:+0100
TZNAME:CET
END:STANDARD
END:VTIMEZONE
END:VCALENDAR