BEGIN:VCALENDAR
VERSION:2.0
PRODID:-//wp-events-plugin.com//7.2.3.1//EN
TZID:Europe/Rome
X-WR-TIMEZONE:Europe/Rome
BEGIN:VEVENT
UID:44291@lazioeventi.com
DTSTART;TZID=Europe/Rome:20260426T180000
DTEND;TZID=Europe/Rome:20260426T200000
DTSTAMP:20260423T061155Z
URL:https://lazioeventi.com/eventi/repetonaria
SUMMARY:Repetonaria - Veroli - 26 Aprile 26 18:00
DESCRIPTION:Si conclude con un appuntamento imperdibile la straordinaria st
 agione teatrale del Teatro Comunale Veroli\, che ha saputo\, ancora una vo
 lta\, richiamare un pubblico numeroso e appassionato\, registrando il tutt
 o esaurito quasi ogni domenica. Un risultato tutt’altro che scontato per
  un teatro di provincia\, che si conferma invece presidio culturale vivo\,
  dinamico e profondamente radicato nel territorio.\n\nA chiudere questo pe
 rcorso di grande successo sarà “Repetonaria”\, una brillante fabula a
 tellana che riporta in scena l’antica tradizione del teatro comico in ma
 schera\, nata oltre duemila anni fa tra i popoli Osci e Volsci.\n\nLo spet
 tacolo\, recitato in dialetto\, mette in scena un intreccio vivace e ricco
  di colpi di scena: il burbero Pappo è deciso a dare in sposa la figlia P
 olla all’orrido Bucco e\, per riuscirci\, si affida al ruffiano Dossenno
 . Ma nella casa di Pappo nulla è come sembra: Dossenno\, infatti\, serve 
 anche la giovane Mulia\, seconda moglie dell’uomo\, organizzandole incon
 tri segreti con l’amante Pirgone. Nel frattempo\, il giovane Nino\, segr
 etamente innamorato di Polla\, insieme al suo servo Macco\, escogita un pi
 ano audace: travestirsi da donne per introdursi in casa e impedire le nozz
 e.\n\nTra travestimenti\, equivoci e segreti\, si sviluppa un meccanismo c
 omico serrato ed esilarante\, capace di trascinare il pubblico verso un in
 evitabile e liberatorio lieto fine. L’elaborazione drammaturgica della r
 egia di Piergiorgio Sperduti\, ispirata ai modelli classici di Plauto e Te
 renzio e influenzata dalla “Calandria” del Bibbiena\, restituisce tutt
 a la freschezza e la modernità di una tradizione antichissima.\n\n“Repe
 tonaria”\, portata in scena dalla compagnia “Produzioni Prosperiane”
 \, rappresenta non solo l’ultimo spettacolo in cartellone\, ma anche il 
 coronamento di una stagione straordinaria\, che ha dimostrato come anche u
 na realtà teatrale locale possa diventare punto di riferimento culturale 
 capace di coinvolgere e appassionare un pubblico sempre più ampio. Domeni
 ca dopo domenica\, il Teatro Comunale Veroli\, grazie all’impegno e alla
  dedizione della DUECENTO22 - Arti e Spettacolo APS\, ha saputo trasformar
 si in un luogo di incontro\, condivisione e partecipazione\, riportando al
  centro il valore insostituibile dell’esperienza teatrale dal vivo. \n\n
 Un finale di stagione che è insieme festa e conferma: il teatro\, anche n
 ei contesti più piccoli\, può essere grande. Vi aspettiamo\, dunque\, do
 menica 26 aprile alle ore 18.00\, con apertura botteghino alle 17.30\, per
  concludere al meglio questa straordinaria stagione teatrale.\n\nBIGLIETTO
  INTERO: € 10.00\nBIGLIETTO RIDOTTO: € 5.00 (Under18)\n\nPer info e pr
 enotazioni: 3513917931 \nteatrocomunaleveroli2019@gmail.com 
ATTACH;FMTTYPE=image/jpeg:https://lazioeventi.com/wp-content/uploads/2026/
 04/repetonaria.jpeg
CATEGORIES:Musica, Spettacoli e Danza nel Lazio
LOCATION:Veroli\, Comune di Veroli\, Veroli\, Frosinone\, Lazio\, Italia
GEO:41.6911;13.4178
X-APPLE-STRUCTURED-LOCATION;VALUE=URI;X-ADDRESS=Comune di Veroli\, Veroli\,
  Frosinone\, Lazio\, Italia;X-APPLE-RADIUS=100;X-TITLE=Veroli:geo:41.6911,
 13.4178
END:VEVENT
BEGIN:VTIMEZONE
TZID:Europe/Rome
X-LIC-LOCATION:Europe/Rome
BEGIN:DAYLIGHT
DTSTART:20260329T030000
TZOFFSETFROM:+0100
TZOFFSETTO:+0200
TZNAME:CEST
END:DAYLIGHT
END:VTIMEZONE
END:VCALENDAR