BEGIN:VCALENDAR
VERSION:2.0
PRODID:-//wp-events-plugin.com//7.2.3.1//EN
TZID:Europe/Rome
X-WR-TIMEZONE:Europe/Rome
BEGIN:VEVENT
UID:30339@lazioeventi.com
DTSTART;TZID=Europe/Rome:20220409T181500
DTEND;TZID=Europe/Rome:20220409T200000
DTSTAMP:20220403T165859Z
URL:https://lazioeventi.com/eventi/requiem-di-mozart
SUMMARY:Requiem di Mozart - Bolsena - 9 Aprile 22 18:15
DESCRIPTION:A Bolsena le note del sublime Requiem K. 626 di Wolfang Amedeus
  Mozart\, l’ultima grande composizione del musicista austriaco.\n\nNella
  suggestiva basilica di Santa Cristina\, sabato 9 aprile\, alle ore 18\,15
 \, l’Orchestra Sinfonica Europa Musica di Roma\, i cori polifonici “Ha
 rmonia Vocalis”\, “Ruggero Giovannelli” e il Polifonico della Scuola
  Popolare di Musica di Testaccio\, si esibiranno in concerto per soli coro
  e orchestra\, nel primo grande appuntamento della stagione 2022 promosso 
 dall’Amministrazione Comunale grazie all’adesione a Cento Città in Mu
 sica\, l’associazione di comuni del Lazio che si dedica alla realizzazio
 ne di eventi musicali di qualità.\n\n“Il Requiem è un’opera straordi
 naria che\, come Comune attraverso l’adesione all’associazione Cento C
 ittà in Musica\, proponiamo a Bolsena – affermano il sindaco Paolo Dott
 arelli e l’assessore alla cultura Raffaella Bruti -. Ci rivolgiamo a tut
 ti i bolsenesi\, in modo particolare agli appassionati di musica classica\
 , perché vengano ad ascoltare questo capolavoro eseguito da musicisti e c
 antanti eccezionali. Il concerto vuole anche essere l’occasione per fest
 eggiare l’arrivo della primavera e il ritorno a una ritrovata normalità
  dopo due anni di pandemia che hanno purtroppo cambiato il nostro modo di 
 vivere”.\n\nSotto la direzione musicale del maestro Francesco Traversi\,
  l’Orchestra Sinfonica Europa Musica di Roma\, ben 3 cori preparati dal 
 maestro Renzo Renzi e dal maestro Claudio Maria Micheli faranno da splendi
 da cornice a prestigiosi solisti quali Minni Diodati\, soprano\, Valeria P
 ennacchini\, contralto\, Antonio Sapio\, tenore\, e Massimo di Stefano\, b
 asso\, il concerto propone l’esecuzione integrale del Requiem K 626. La 
 profondità di molti passi\, come il cupo Requiem Aeternam che rappresenta
  il distacco doloroso e così umano e la sommità della fuga del Kyrie\, u
 n’autentica perfezione vocale e matematica\, razionale e divina\, hanno 
 fatto di questa composizione non solo il testamento spirituale mozartiano 
 ma anche un modello quasi irraggiungibile per i posteri sul quale si è mi
 surata l’intera storia della musica sacra dei secoli successivi.\n\nUn c
 apolavoro senza fine. Infatti\, un elemento considerevole da tenere presen
 te è l’alto grado di lirismo e dramma presente nella musica che fa emer
 gere\, per certi versi\, anche la componente “italiana” e drammatica\,
  nel senso teatrale\, di Mozart. Questi aspetti retorici e figurativi fann
 o del Requiem K. 626\, insieme alla bellezza dei temi e della scrittura vo
 cale\, una delle musiche sacre più amate\, denso di preziosismi “teatra
 li” ed espressivi che mettono in contatto i fruitori con tali profonde t
 ematiche.\n\nIl concerto\, a ingresso gratuito\, si svolgerà nel rispetto
  della vigente normativa anti-covid.
ATTACH;FMTTYPE=image/jpeg:https://lazioeventi.com/wp-content/uploads/2022/
 04/Locandina-concerto.jpeg
CATEGORIES:Musica, Spettacoli e Danza nel Lazio
LOCATION:Bolsena\, Comune di Bolsena\, Bolsena\, Viterbo\, Lazio\, Italia
GEO:42.6447;11.9877
X-APPLE-STRUCTURED-LOCATION;VALUE=URI;X-ADDRESS=Comune di Bolsena\, Bolsena
 \, Viterbo\, Lazio\, Italia;X-APPLE-RADIUS=100;X-TITLE=Bolsena:geo:42.6447
 ,11.9877
END:VEVENT
BEGIN:VTIMEZONE
TZID:Europe/Rome
X-LIC-LOCATION:Europe/Rome
BEGIN:DAYLIGHT
DTSTART:20220327T030000
TZOFFSETFROM:+0100
TZOFFSETTO:+0200
TZNAME:CEST
END:DAYLIGHT
END:VTIMEZONE
END:VCALENDAR