BEGIN:VCALENDAR
VERSION:2.0
PRODID:-//wp-events-plugin.com//7.2.3.1//EN
TZID:Europe/Rome
X-WR-TIMEZONE:Europe/Rome
BEGIN:VEVENT
UID:34907@lazioeventi.com
DTSTART;TZID=Europe/Rome:20230402T173000
DTEND;TZID=Europe/Rome:20230402T193000
DTSTAMP:20230331T075126Z
URL:https://lazioeventi.com/eventi/requiem-w-a-mozart
SUMMARY:Requiem - W. A. Mozart - Viterbo - 2 Aprile 23 17:30
DESCRIPTION:Domenica 2 aprile alle 18\nChiesa di Santa Maria della Verità\
 nIngresso alle 17.30\n\nSi consiglia di presentarsi con abbondante anticip
 o rispetto all'orario di inizio.\n\nOrchestra Sinfonica EtruriAEnsemble\nE
 nsemble Vocale II Contrappunto\nCoro Filarmonica di Civitavecchia Coro Jac
 ob Arcadelt\, Chiusi\nIsidora Moles\, soprano\nLucia Napoli\, mezzosoprano
 \nHyun-Seo Park tenore\nKwangsik Park\, basso\nFabrizio Viti\, organo\nFab
 rizio Bastianini\, direttore
ATTACH;FMTTYPE=image/jpeg:https://lazioeventi.com/wp-content/uploads/2023/
 03/requiem-mozart-viterbo.jpg
CATEGORIES:Musica, Spettacoli e Danza nel Lazio
LOCATION:Viterbo\, Comune\, Viterbo\, Viterbo\, Lazio\, Italia
GEO:42.417;12.1051
X-APPLE-STRUCTURED-LOCATION;VALUE=URI;X-ADDRESS=Comune\, Viterbo\, Viterbo\
 , Lazio\, Italia;X-APPLE-RADIUS=100;X-TITLE=Viterbo:geo:42.417,12.1051
END:VEVENT
BEGIN:VTIMEZONE
TZID:Europe/Rome
X-LIC-LOCATION:Europe/Rome
BEGIN:DAYLIGHT
DTSTART:20230326T030000
TZOFFSETFROM:+0100
TZOFFSETTO:+0200
TZNAME:CEST
END:DAYLIGHT
END:VTIMEZONE
END:VCALENDAR